BEGIN:VCALENDAR
VERSION:2.0
PRODID:-//Ben Ackermans - ECPv6.15.20//NONSGML v1.0//EN
CALSCALE:GREGORIAN
METHOD:PUBLISH
X-WR-CALNAME:Ben Ackermans
X-ORIGINAL-URL:https://benackermans.nl
X-WR-CALDESC:Evenementen voor Ben Ackermans
REFRESH-INTERVAL;VALUE=DURATION:PT1H
X-Robots-Tag:noindex
X-PUBLISHED-TTL:PT1H
BEGIN:VTIMEZONE
TZID:Europe/Amsterdam
BEGIN:DAYLIGHT
TZOFFSETFROM:+0100
TZOFFSETTO:+0200
TZNAME:CEST
DTSTART:20240331T010000
END:DAYLIGHT
BEGIN:STANDARD
TZOFFSETFROM:+0200
TZOFFSETTO:+0100
TZNAME:CET
DTSTART:20241027T010000
END:STANDARD
BEGIN:DAYLIGHT
TZOFFSETFROM:+0100
TZOFFSETTO:+0200
TZNAME:CEST
DTSTART:20250330T010000
END:DAYLIGHT
BEGIN:STANDARD
TZOFFSETFROM:+0200
TZOFFSETTO:+0100
TZNAME:CET
DTSTART:20251026T010000
END:STANDARD
BEGIN:DAYLIGHT
TZOFFSETFROM:+0100
TZOFFSETTO:+0200
TZNAME:CEST
DTSTART:20260329T010000
END:DAYLIGHT
BEGIN:STANDARD
TZOFFSETFROM:+0200
TZOFFSETTO:+0100
TZNAME:CET
DTSTART:20261025T010000
END:STANDARD
END:VTIMEZONE
BEGIN:VEVENT
DTSTART;TZID=Europe/Amsterdam:20251226T120000
DTEND;TZID=Europe/Amsterdam:20251226T130000
DTSTAMP:20260421T120836
CREATED:20251113T084003Z
LAST-MODIFIED:20251211T132200Z
UID:2691-1766750400-1766754000@benackermans.nl
SUMMARY:•  Vrijdag 26 december 2025  2de Kerstdag
DESCRIPTION:Online training via zoom. Meer informatie vindt u op: Online trainingen
URL:https://benackermans.nl/event/vrijdag-26-december-2025-tweede-kerstdag/
LOCATION:Zoom\, Nederland
CATEGORIES:Offline Training
ORGANIZER;CN="Ben Ackermans":MAILTO:info@benackermans.nl
END:VEVENT
BEGIN:VEVENT
DTSTART;TZID=Europe/Amsterdam:20251215T160000
DTEND;TZID=Europe/Amsterdam:20251215T170000
DTSTAMP:20260421T120836
CREATED:20251113T083457Z
LAST-MODIFIED:20251211T131423Z
UID:2686-1765814400-1765818000@benackermans.nl
SUMMARY:• Maandag 15 december 2025 Geen training
DESCRIPTION:Online training via zoom. Meer informatie vindt u op: Online trainingen
URL:https://benackermans.nl/event/maandag-15-december-2025-1600-1700/
LOCATION:Zoom\, Nederland
CATEGORIES:Offline Training
ORGANIZER;CN="Ben Ackermans":MAILTO:info@benackermans.nl
END:VEVENT
BEGIN:VEVENT
DTSTART;TZID=Europe/Amsterdam:20251212T120000
DTEND;TZID=Europe/Amsterdam:20251212T130000
DTSTAMP:20260421T120836
CREATED:20251113T083748Z
LAST-MODIFIED:20251211T131405Z
UID:2689-1765540800-1765544400@benackermans.nl
SUMMARY:• Vrijdag 12 december 2025 Geen training
DESCRIPTION:Online training via zoom. Meer informatie vindt u op: Online trainingen
URL:https://benackermans.nl/event/vrijdag-12-december-2025-1200-1300/
LOCATION:Zoom\, Nederland
CATEGORIES:Offline Training
ORGANIZER;CN="Ben Ackermans":MAILTO:info@benackermans.nl
END:VEVENT
BEGIN:VEVENT
DTSTART;TZID=Europe/Amsterdam:20251128T120000
DTEND;TZID=Europe/Amsterdam:20251128T130000
DTSTAMP:20260421T120836
CREATED:20251101T174353Z
LAST-MODIFIED:20251128T075108Z
UID:2668-1764331200-1764334800@benackermans.nl
SUMMARY:•  Vrijdag 28 november 2025 Geen training
DESCRIPTION:Online training via zoom. Meer informatie vindt u op: Online trainingen
URL:https://benackermans.nl/event/vrijdag-28-november-2025-1200-1300/
LOCATION:Zoom\, Nederland
CATEGORIES:Offline Training
ORGANIZER;CN="Ben Ackermans":MAILTO:info@benackermans.nl
END:VEVENT
BEGIN:VEVENT
DTSTART;TZID=Europe/Amsterdam:20251114T120000
DTEND;TZID=Europe/Amsterdam:20251114T130000
DTSTAMP:20260421T120836
CREATED:20251101T174242Z
LAST-MODIFIED:20251113T080654Z
UID:2666-1763121600-1763125200@benackermans.nl
SUMMARY:• Vrijdag 14 november 2025 Geen training
DESCRIPTION:Online training via zoom. Meer informatie vindt u op: Online trainingen
URL:https://benackermans.nl/event/vrijdag-14-november-2025-1200-1300/
LOCATION:Zoom\, Nederland
CATEGORIES:Offline Training
ORGANIZER;CN="Ben Ackermans":MAILTO:info@benackermans.nl
END:VEVENT
BEGIN:VEVENT
DTSTART;TZID=Europe/Amsterdam:20251107T120000
DTEND;TZID=Europe/Amsterdam:20251107T130000
DTSTAMP:20260421T120836
CREATED:20251010T074020Z
LAST-MODIFIED:20251107T101454Z
UID:2628-1762516800-1762520400@benackermans.nl
SUMMARY:• Vrijdag 7 november 2025 Geen training
DESCRIPTION:Online training via zoom. Meer informatie vindt u op: Online trainingen
URL:https://benackermans.nl/event/vrijdag-7-november-2025-1200-1300/
LOCATION:Zoom\, Nederland
CATEGORIES:Offline Training
ORGANIZER;CN="Ben Ackermans":MAILTO:info@benackermans.nl
END:VEVENT
BEGIN:VEVENT
DTSTART;TZID=Europe/Amsterdam:20251103T160000
DTEND;TZID=Europe/Amsterdam:20251103T170000
DTSTAMP:20260421T120836
CREATED:20251010T073943Z
LAST-MODIFIED:20251103T140317Z
UID:2624-1762185600-1762189200@benackermans.nl
SUMMARY:• Maandag 3 november 2025 Geen training
DESCRIPTION:Online training via zoom. Meer informatie vindt u op: Online trainingen
URL:https://benackermans.nl/event/maandag-3-november-2025-1600-1700/
LOCATION:Zoom\, Nederland
CATEGORIES:Offline Training
ORGANIZER;CN="Ben Ackermans":MAILTO:info@benackermans.nl
END:VEVENT
BEGIN:VEVENT
DTSTART;TZID=Europe/Amsterdam:20251031T120000
DTEND;TZID=Europe/Amsterdam:20251031T130000
DTSTAMP:20260421T120836
CREATED:20251010T073841Z
LAST-MODIFIED:20251101T173928Z
UID:2627-1761912000-1761915600@benackermans.nl
SUMMARY:• Vrijdag 31 oktober 2025 Geen Training
DESCRIPTION:Online training via zoom. Meer informatie vindt u op: Online trainingen
URL:https://benackermans.nl/event/vrijdag-31-oktober-2025-1200-1300/
LOCATION:Zoom\, Nederland
CATEGORIES:Offline Training
ORGANIZER;CN="Ben Ackermans":MAILTO:info@benackermans.nl
END:VEVENT
BEGIN:VEVENT
DTSTART;TZID=Europe/Amsterdam:20251027T160000
DTEND;TZID=Europe/Amsterdam:20251027T170000
DTSTAMP:20260421T120836
CREATED:20251010T073644Z
LAST-MODIFIED:20251010T080519Z
UID:2623-1761580800-1761584400@benackermans.nl
SUMMARY:• Maandag 27 oktober 2025 geen training
DESCRIPTION:Online training via zoom. Meer informatie vindt u op: Online trainingen
URL:https://benackermans.nl/event/maandag-27-oktober-2025-1600-1700/
LOCATION:Zoom\, Nederland
CATEGORIES:Offline Training
ORGANIZER;CN="Ben Ackermans":MAILTO:info@benackermans.nl
END:VEVENT
BEGIN:VEVENT
DTSTART;TZID=Europe/Amsterdam:20251024T120000
DTEND;TZID=Europe/Amsterdam:20251024T130000
DTSTAMP:20260421T120836
CREATED:20251010T073749Z
LAST-MODIFIED:20251010T080500Z
UID:2626-1761307200-1761310800@benackermans.nl
SUMMARY:• Vrijdag 24 oktober 2025 Geen training
DESCRIPTION:Online training via zoom. Meer informatie vindt u op: Online trainingen
URL:https://benackermans.nl/event/vrijdag-24-oktober-2025-1200-1300/
LOCATION:Zoom\, Nederland
CATEGORIES:Offline Training
ORGANIZER;CN="Ben Ackermans":MAILTO:info@benackermans.nl
END:VEVENT
BEGIN:VEVENT
DTSTART;TZID=Europe/Amsterdam:20251020T160000
DTEND;TZID=Europe/Amsterdam:20251020T170000
DTSTAMP:20260421T120836
CREATED:20251010T073608Z
LAST-MODIFIED:20251010T080313Z
UID:2622-1760976000-1760979600@benackermans.nl
SUMMARY:• Maandag 20 oktober 2025 Geen training
DESCRIPTION:Online training via zoom. Meer informatie vindt u op: Online trainingen
URL:https://benackermans.nl/event/maandag-20-oktober-2025-1600-1700/
LOCATION:Zoom\, Nederland
CATEGORIES:Offline Training
ORGANIZER;CN="Ben Ackermans":MAILTO:info@benackermans.nl
END:VEVENT
BEGIN:VEVENT
DTSTART;TZID=Europe/Amsterdam:20251017T120000
DTEND;TZID=Europe/Amsterdam:20251017T130000
DTSTAMP:20260421T120836
CREATED:20251010T073713Z
LAST-MODIFIED:20251010T080256Z
UID:2625-1760702400-1760706000@benackermans.nl
SUMMARY:• Vrijdag 17 oktober 2025 Geen training
DESCRIPTION:Online training via zoom. Meer informatie vindt u op: Online trainingen
URL:https://benackermans.nl/event/vrijdag-17-oktober-2025-1200-1300/
LOCATION:Zoom\, Nederland
CATEGORIES:Offline Training
ORGANIZER;CN="Ben Ackermans":MAILTO:info@benackermans.nl
END:VEVENT
BEGIN:VEVENT
DTSTART;TZID=Europe/Amsterdam:20250919T120000
DTEND;TZID=Europe/Amsterdam:20250919T130000
DTSTAMP:20260421T120836
CREATED:20250821T154951Z
LAST-MODIFIED:20250918T185505Z
UID:2601-1758283200-1758286800@benackermans.nl
SUMMARY:• Vrijdag 19 september 2025  Geen training
DESCRIPTION:Online training via zoom. Meer informatie vindt u op: Online trainingen
URL:https://benackermans.nl/event/vrijdag-19-september-2025-1200-1300/
LOCATION:Zoom\, Nederland
CATEGORIES:Offline Training
ORGANIZER;CN="Ben Ackermans":MAILTO:info@benackermans.nl
END:VEVENT
BEGIN:VEVENT
DTSTART;TZID=Europe/Amsterdam:20250912T120000
DTEND;TZID=Europe/Amsterdam:20250912T130000
DTSTAMP:20260421T120836
CREATED:20250728T192908Z
LAST-MODIFIED:20250912T075145Z
UID:2555-1757678400-1757682000@benackermans.nl
SUMMARY:• Vrijdag 12 september 2025 Geen training
DESCRIPTION:Online training via zoom. Meer informatie vindt u op: Online trainingen
URL:https://benackermans.nl/event/vrijdag-12-september-2025-1200-1300/
LOCATION:Zoom\, Nederland
CATEGORIES:Offline Training
ORGANIZER;CN="Ben Ackermans":MAILTO:info@benackermans.nl
END:VEVENT
BEGIN:VEVENT
DTSTART;TZID=Europe/Amsterdam:20250908T160000
DTEND;TZID=Europe/Amsterdam:20250908T170000
DTSTAMP:20260421T120836
CREATED:20250728T193451Z
LAST-MODIFIED:20250908T120407Z
UID:2570-1757347200-1757350800@benackermans.nl
SUMMARY:• Maandag 8 september 2025 Geen training
DESCRIPTION:Online training via zoom. Meer informatie vindt u op: Online trainingen
URL:https://benackermans.nl/event/maandag-8-september-2025-1600-1700/
LOCATION:Zoom\, Nederland
CATEGORIES:Offline Training
ORGANIZER;CN="Ben Ackermans":MAILTO:info@benackermans.nl
END:VEVENT
BEGIN:VEVENT
DTSTART;TZID=Europe/Amsterdam:20250822T120000
DTEND;TZID=Europe/Amsterdam:20250822T130000
DTSTAMP:20260421T120836
CREATED:20250728T192455Z
LAST-MODIFIED:20250821T152007Z
UID:2551-1755864000-1755867600@benackermans.nl
SUMMARY:• Vrijdag 22 augustus 2025 Geen training
DESCRIPTION:Online training via zoom. Meer informatie vindt u op: Online trainingen
URL:https://benackermans.nl/event/vrijdag-22-augustus-2025-1200-1300/
LOCATION:Zoom\, Nederland
CATEGORIES:Offline Training
ORGANIZER;CN="Ben Ackermans":MAILTO:info@benackermans.nl
END:VEVENT
BEGIN:VEVENT
DTSTART;TZID=Europe/Amsterdam:20250811T160000
DTEND;TZID=Europe/Amsterdam:20250811T170000
DTSTAMP:20260421T120836
CREATED:20250728T193121Z
LAST-MODIFIED:20250811T092627Z
UID:2565-1754928000-1754931600@benackermans.nl
SUMMARY:• Maandag 11 augustus 2025 Geen training
DESCRIPTION:Online training via zoom. Meer informatie vindt u op: Online trainingen
URL:https://benackermans.nl/event/maandag-11-augustus-2025-1600-1700/
LOCATION:Zoom\, Nederland
CATEGORIES:Offline Training
ORGANIZER;CN="Ben Ackermans":MAILTO:info@benackermans.nl
END:VEVENT
BEGIN:VEVENT
DTSTART;TZID=Europe/Amsterdam:20250808T120000
DTEND;TZID=Europe/Amsterdam:20250808T130000
DTSTAMP:20260421T120836
CREATED:20250616T145441Z
LAST-MODIFIED:20250808T074141Z
UID:2528-1754654400-1754658000@benackermans.nl
SUMMARY:• Vrijdag 8 augustus 2025 Geen training
DESCRIPTION:Online training via zoom. Meer informatie vindt u op: Online trainingen
URL:https://benackermans.nl/event/vrijdag-8-augustus-2025-1200-1300/
LOCATION:Zoom\, Nederland
CATEGORIES:Offline Training
ORGANIZER;CN="Ben Ackermans":MAILTO:info@benackermans.nl
END:VEVENT
BEGIN:VEVENT
DTSTART;TZID=Europe/Amsterdam:20250804T160000
DTEND;TZID=Europe/Amsterdam:20250804T170000
DTSTAMP:20260421T120836
CREATED:20250616T144826Z
LAST-MODIFIED:20250804T100123Z
UID:2517-1754323200-1754326800@benackermans.nl
SUMMARY:• Maandag 4 augustus 2025 Geen Training
DESCRIPTION:Online training via zoom. Meer informatie vindt u op: Online trainingen
URL:https://benackermans.nl/event/maandag-4-augustus-2025-1600-1700/
LOCATION:Zoom\, Nederland
CATEGORIES:Offline Training
ORGANIZER;CN="Ben Ackermans":MAILTO:info@benackermans.nl
END:VEVENT
BEGIN:VEVENT
DTSTART;TZID=Europe/Amsterdam:20250801T120000
DTEND;TZID=Europe/Amsterdam:20250801T130000
DTSTAMP:20260421T120836
CREATED:20250728T192348Z
LAST-MODIFIED:20250728T192833Z
UID:2550-1754049600-1754053200@benackermans.nl
SUMMARY:• Vrijdag 1 augustus 2025 Geen training
DESCRIPTION:Online training via zoom. Meer informatie vindt u op: Online trainingen
URL:https://benackermans.nl/event/vrijdag-1-augustus-2025-geen-training/
LOCATION:Zoom\, Nederland
CATEGORIES:Offline Training
ORGANIZER;CN="Ben Ackermans":MAILTO:info@benackermans.nl
END:VEVENT
BEGIN:VEVENT
DTSTART;TZID=Europe/Amsterdam:20250725T120000
DTEND;TZID=Europe/Amsterdam:20250725T130000
DTSTAMP:20260421T120836
CREATED:20250616T145350Z
LAST-MODIFIED:20250722T192157Z
UID:2527-1753444800-1753448400@benackermans.nl
SUMMARY:• Vrijdag 25 juli 2025 Geen training
DESCRIPTION:Online training via zoom. Meer informatie vindt u op: Online trainingen
URL:https://benackermans.nl/event/vrijdag-25-juli-2025-1200-1300/
LOCATION:Zoom\, Nederland
CATEGORIES:Offline Training
ORGANIZER;CN="Ben Ackermans":MAILTO:info@benackermans.nl
END:VEVENT
BEGIN:VEVENT
DTSTART;TZID=Europe/Amsterdam:20250714T160000
DTEND;TZID=Europe/Amsterdam:20250714T170000
DTSTAMP:20260421T120836
CREATED:20250616T144643Z
LAST-MODIFIED:20250705T120428Z
UID:2514-1752508800-1752512400@benackermans.nl
SUMMARY:• Maandag 14 juli 2025 Geen training
DESCRIPTION:Online training via zoom. Meer informatie vindt u op: Online trainingen
URL:https://benackermans.nl/event/maandag-14-juli-2025-1600-1700/
LOCATION:Zoom\, Nederland
CATEGORIES:Offline Training
ORGANIZER;CN="Ben Ackermans":MAILTO:info@benackermans.nl
END:VEVENT
BEGIN:VEVENT
DTSTART;TZID=Europe/Amsterdam:20250711T120000
DTEND;TZID=Europe/Amsterdam:20250711T130000
DTSTAMP:20260421T120836
CREATED:20250527T065721Z
LAST-MODIFIED:20250705T120405Z
UID:2494-1752235200-1752238800@benackermans.nl
SUMMARY:• Vrijdag 11 juli 2025 Geen training
DESCRIPTION:Online training via zoom. Meer informatie vindt u op: Online trainingen
URL:https://benackermans.nl/event/__trashed-2/
LOCATION:Zoom\, Nederland
CATEGORIES:Offline Training
ORGANIZER;CN="Ben Ackermans":MAILTO:info@benackermans.nl
END:VEVENT
BEGIN:VEVENT
DTSTART;TZID=Europe/Amsterdam:20250707T160000
DTEND;TZID=Europe/Amsterdam:20250707T170000
DTSTAMP:20260421T120836
CREATED:20250527T065328Z
LAST-MODIFIED:20250705T120341Z
UID:2478-1751904000-1751907600@benackermans.nl
SUMMARY:• Maandag 7 juli 2025 Geen training
DESCRIPTION:Online training via zoom. Meer informatie vindt u op: Online trainingen
URL:https://benackermans.nl/event/maandag-7-juli-2025-1600-1700/
LOCATION:Zoom\, Nederland
CATEGORIES:Offline Training
ORGANIZER;CN="Ben Ackermans":MAILTO:info@benackermans.nl
END:VEVENT
BEGIN:VEVENT
DTSTART;TZID=Europe/Amsterdam:20250704T120000
DTEND;TZID=Europe/Amsterdam:20250704T130000
DTSTAMP:20260421T120836
CREATED:20250527T065759Z
LAST-MODIFIED:20250704T073904Z
UID:2492-1751630400-1751634000@benackermans.nl
SUMMARY:• Vrijdag 4 juli 2025  Geen training
DESCRIPTION:Online training via zoom. Meer informatie vindt u op: Online trainingen
URL:https://benackermans.nl/event/vrijdag-4-juli-2025-1200-1300/
LOCATION:Zoom\, Nederland
CATEGORIES:Offline Training
ORGANIZER;CN="Ben Ackermans":MAILTO:info@benackermans.nl
END:VEVENT
BEGIN:VEVENT
DTSTART;TZID=Europe/Amsterdam:20250623T160000
DTEND;TZID=Europe/Amsterdam:20250623T170000
DTSTAMP:20260421T120836
CREATED:20250527T065219Z
LAST-MODIFIED:20250623T081815Z
UID:2476-1750694400-1750698000@benackermans.nl
SUMMARY:• Maandag 23 juni 2025 geen training
DESCRIPTION:Online training via zoom. Meer informatie vindt u op: Online trainingen
URL:https://benackermans.nl/event/maandag-23-juni-2025-1600-1700/
LOCATION:Zoom\, Nederland
CATEGORIES:Offline Training
ORGANIZER;CN="Ben Ackermans":MAILTO:info@benackermans.nl
END:VEVENT
BEGIN:VEVENT
DTSTART;TZID=Europe/Amsterdam:20250620T120000
DTEND;TZID=Europe/Amsterdam:20250620T130000
DTSTAMP:20260421T120836
CREATED:20250527T065544Z
LAST-MODIFIED:20250621T092529Z
UID:2490-1750420800-1750424400@benackermans.nl
SUMMARY:• Vrijdag 20 juni 2025 Geen training
DESCRIPTION:Online training via zoom. Meer informatie vindt u op: Online trainingen
URL:https://benackermans.nl/event/vrijdag-20-juni-2025-1200-1300/
LOCATION:Zoom\, Nederland
CATEGORIES:Offline Training
ORGANIZER;CN="Ben Ackermans":MAILTO:info@benackermans.nl
END:VEVENT
BEGIN:VEVENT
DTSTART;TZID=Europe/Amsterdam:20250616T160000
DTEND;TZID=Europe/Amsterdam:20250616T170000
DTSTAMP:20260421T120836
CREATED:20250527T065104Z
LAST-MODIFIED:20250616T090342Z
UID:2474-1750089600-1750093200@benackermans.nl
SUMMARY:• Maandag 16 juni 2025 Geen training
DESCRIPTION:Online training via zoom. Meer informatie vindt u op: Online trainingen
URL:https://benackermans.nl/event/maandag-16-juni-2025-1600-1700/
LOCATION:Zoom\, Nederland
CATEGORIES:Offline Training
ORGANIZER;CN="Ben Ackermans":MAILTO:info@benackermans.nl
END:VEVENT
BEGIN:VEVENT
DTSTART;TZID=Europe/Amsterdam:20250613T120000
DTEND;TZID=Europe/Amsterdam:20250613T130000
DTSTAMP:20260421T120836
CREATED:20250527T065509Z
LAST-MODIFIED:20250616T090321Z
UID:2489-1749816000-1749819600@benackermans.nl
SUMMARY:• Vrijdag 13 juni 2025 Geen traning
DESCRIPTION:Online training via zoom. Meer informatie vindt u op: Online trainingen
URL:https://benackermans.nl/event/vrijdag-13-juni-2025-1200-1300/
LOCATION:Zoom\, Nederland
CATEGORIES:Offline Training
ORGANIZER;CN="Ben Ackermans":MAILTO:info@benackermans.nl
END:VEVENT
BEGIN:VEVENT
DTSTART;TZID=Europe/Amsterdam:20250609T160000
DTEND;TZID=Europe/Amsterdam:20250609T170000
DTSTAMP:20260421T120836
CREATED:20250527T065034Z
LAST-MODIFIED:20250527T065955Z
UID:2475-1749484800-1749488400@benackermans.nl
SUMMARY:• Maandag 9 juni 2025 Pinksteren
DESCRIPTION:Online training via zoom. Meer informatie vindt u op: Online trainingen
URL:https://benackermans.nl/event/maandag-9-juni-2025-pinksteren/
LOCATION:Zoom\, Nederland
CATEGORIES:Offline Training
ORGANIZER;CN="Ben Ackermans":MAILTO:info@benackermans.nl
END:VEVENT
END:VCALENDAR