BEGIN:VCALENDAR
VERSION:2.0
PRODID:-//Ben Ackermans - ECPv6.15.20//NONSGML v1.0//EN
CALSCALE:GREGORIAN
METHOD:PUBLISH
X-WR-CALNAME:Ben Ackermans
X-ORIGINAL-URL:https://benackermans.nl
X-WR-CALDESC:Evenementen voor Ben Ackermans
REFRESH-INTERVAL;VALUE=DURATION:PT1H
X-Robots-Tag:noindex
X-PUBLISHED-TTL:PT1H
BEGIN:VTIMEZONE
TZID:Europe/Amsterdam
BEGIN:DAYLIGHT
TZOFFSETFROM:+0100
TZOFFSETTO:+0200
TZNAME:CEST
DTSTART:20230326T010000
END:DAYLIGHT
BEGIN:STANDARD
TZOFFSETFROM:+0200
TZOFFSETTO:+0100
TZNAME:CET
DTSTART:20231029T010000
END:STANDARD
BEGIN:DAYLIGHT
TZOFFSETFROM:+0100
TZOFFSETTO:+0200
TZNAME:CEST
DTSTART:20240331T010000
END:DAYLIGHT
BEGIN:STANDARD
TZOFFSETFROM:+0200
TZOFFSETTO:+0100
TZNAME:CET
DTSTART:20241027T010000
END:STANDARD
BEGIN:DAYLIGHT
TZOFFSETFROM:+0100
TZOFFSETTO:+0200
TZNAME:CEST
DTSTART:20250330T010000
END:DAYLIGHT
BEGIN:STANDARD
TZOFFSETFROM:+0200
TZOFFSETTO:+0100
TZNAME:CET
DTSTART:20251026T010000
END:STANDARD
BEGIN:DAYLIGHT
TZOFFSETFROM:+0100
TZOFFSETTO:+0200
TZNAME:CEST
DTSTART:20260329T010000
END:DAYLIGHT
BEGIN:STANDARD
TZOFFSETFROM:+0200
TZOFFSETTO:+0100
TZNAME:CET
DTSTART:20261025T010000
END:STANDARD
END:VTIMEZONE
BEGIN:VEVENT
DTSTART;TZID=Europe/Amsterdam:20250704T120000
DTEND;TZID=Europe/Amsterdam:20250704T130000
DTSTAMP:20260421T191549
CREATED:20250527T065759Z
LAST-MODIFIED:20250704T073904Z
UID:2492-1751630400-1751634000@benackermans.nl
SUMMARY:• Vrijdag 4 juli 2025  Geen training
DESCRIPTION:Online training via zoom. Meer informatie vindt u op: Online trainingen
URL:https://benackermans.nl/event/vrijdag-4-juli-2025-1200-1300/
LOCATION:Zoom\, Nederland
CATEGORIES:Offline Training
ORGANIZER;CN="Ben Ackermans":MAILTO:info@benackermans.nl
END:VEVENT
BEGIN:VEVENT
DTSTART;TZID=Europe/Amsterdam:20250623T160000
DTEND;TZID=Europe/Amsterdam:20250623T170000
DTSTAMP:20260421T191549
CREATED:20250527T065219Z
LAST-MODIFIED:20250623T081815Z
UID:2476-1750694400-1750698000@benackermans.nl
SUMMARY:• Maandag 23 juni 2025 geen training
DESCRIPTION:Online training via zoom. Meer informatie vindt u op: Online trainingen
URL:https://benackermans.nl/event/maandag-23-juni-2025-1600-1700/
LOCATION:Zoom\, Nederland
CATEGORIES:Offline Training
ORGANIZER;CN="Ben Ackermans":MAILTO:info@benackermans.nl
END:VEVENT
BEGIN:VEVENT
DTSTART;TZID=Europe/Amsterdam:20250620T120000
DTEND;TZID=Europe/Amsterdam:20250620T130000
DTSTAMP:20260421T191549
CREATED:20250527T065544Z
LAST-MODIFIED:20250621T092529Z
UID:2490-1750420800-1750424400@benackermans.nl
SUMMARY:• Vrijdag 20 juni 2025 Geen training
DESCRIPTION:Online training via zoom. Meer informatie vindt u op: Online trainingen
URL:https://benackermans.nl/event/vrijdag-20-juni-2025-1200-1300/
LOCATION:Zoom\, Nederland
CATEGORIES:Offline Training
ORGANIZER;CN="Ben Ackermans":MAILTO:info@benackermans.nl
END:VEVENT
BEGIN:VEVENT
DTSTART;TZID=Europe/Amsterdam:20250616T160000
DTEND;TZID=Europe/Amsterdam:20250616T170000
DTSTAMP:20260421T191549
CREATED:20250527T065104Z
LAST-MODIFIED:20250616T090342Z
UID:2474-1750089600-1750093200@benackermans.nl
SUMMARY:• Maandag 16 juni 2025 Geen training
DESCRIPTION:Online training via zoom. Meer informatie vindt u op: Online trainingen
URL:https://benackermans.nl/event/maandag-16-juni-2025-1600-1700/
LOCATION:Zoom\, Nederland
CATEGORIES:Offline Training
ORGANIZER;CN="Ben Ackermans":MAILTO:info@benackermans.nl
END:VEVENT
BEGIN:VEVENT
DTSTART;TZID=Europe/Amsterdam:20250613T120000
DTEND;TZID=Europe/Amsterdam:20250613T130000
DTSTAMP:20260421T191549
CREATED:20250527T065509Z
LAST-MODIFIED:20250616T090321Z
UID:2489-1749816000-1749819600@benackermans.nl
SUMMARY:• Vrijdag 13 juni 2025 Geen traning
DESCRIPTION:Online training via zoom. Meer informatie vindt u op: Online trainingen
URL:https://benackermans.nl/event/vrijdag-13-juni-2025-1200-1300/
LOCATION:Zoom\, Nederland
CATEGORIES:Offline Training
ORGANIZER;CN="Ben Ackermans":MAILTO:info@benackermans.nl
END:VEVENT
BEGIN:VEVENT
DTSTART;TZID=Europe/Amsterdam:20250609T160000
DTEND;TZID=Europe/Amsterdam:20250609T170000
DTSTAMP:20260421T191549
CREATED:20250527T065034Z
LAST-MODIFIED:20250527T065955Z
UID:2475-1749484800-1749488400@benackermans.nl
SUMMARY:• Maandag 9 juni 2025 Pinksteren
DESCRIPTION:Online training via zoom. Meer informatie vindt u op: Online trainingen
URL:https://benackermans.nl/event/maandag-9-juni-2025-pinksteren/
LOCATION:Zoom\, Nederland
CATEGORIES:Offline Training
ORGANIZER;CN="Ben Ackermans":MAILTO:info@benackermans.nl
END:VEVENT
BEGIN:VEVENT
DTSTART;TZID=Europe/Amsterdam:20250602T160000
DTEND;TZID=Europe/Amsterdam:20250602T170000
DTSTAMP:20260421T191549
CREATED:20250501T100336Z
LAST-MODIFIED:20250602T084241Z
UID:2443-1748880000-1748883600@benackermans.nl
SUMMARY:• Maandag 2 juni 2025 Geen training
DESCRIPTION:Online training via zoom. Meer informatie vindt u op: Online trainingen
URL:https://benackermans.nl/event/maandag-2-juni-2025-1600-1700/
LOCATION:Zoom\, Nederland
CATEGORIES:Offline Training
ORGANIZER;CN="Ben Ackermans":MAILTO:info@benackermans.nl
END:VEVENT
BEGIN:VEVENT
DTSTART;TZID=Europe/Amsterdam:20250530T120000
DTEND;TZID=Europe/Amsterdam:20250530T130000
DTSTAMP:20260421T191550
CREATED:20250501T101536Z
LAST-MODIFIED:20250527T065941Z
UID:2455-1748606400-1748610000@benackermans.nl
SUMMARY:• Vrijdag 30 mei 2025 Geen training
DESCRIPTION:Online training via zoom. Meer informatie vindt u op: Online trainingen
URL:https://benackermans.nl/event/vrijdag-30-mei-2025-1200-1300/
LOCATION:Zoom\, Nederland
CATEGORIES:Offline Training
ORGANIZER;CN="Ben Ackermans":MAILTO:info@benackermans.nl
END:VEVENT
BEGIN:VEVENT
DTSTART;TZID=Europe/Amsterdam:20250519T160000
DTEND;TZID=Europe/Amsterdam:20250519T170000
DTSTAMP:20260421T191550
CREATED:20250501T100216Z
LAST-MODIFIED:20250512T101329Z
UID:2441-1747670400-1747674000@benackermans.nl
SUMMARY:• Maandag 19 mei 2025 Geen training
DESCRIPTION:Online training via zoom. Meer informatie vindt u op: Online trainingen
URL:https://benackermans.nl/event/maandag-19-mei-2025-1600-1700/
LOCATION:Zoom\, Nederland
CATEGORIES:Offline Training
ORGANIZER;CN="Ben Ackermans":MAILTO:info@benackermans.nl
END:VEVENT
BEGIN:VEVENT
DTSTART;TZID=Europe/Amsterdam:20250516T120000
DTEND;TZID=Europe/Amsterdam:20250516T130000
DTSTAMP:20260421T191550
CREATED:20250501T101439Z
LAST-MODIFIED:20250512T101306Z
UID:2452-1747396800-1747400400@benackermans.nl
SUMMARY:• Vrijdag 16 mei 2025 Geen training
DESCRIPTION:Online training via zoom. Meer informatie vindt u op: Online trainingen
URL:https://benackermans.nl/event/vrijdag-16-mei-2025-1200-1300/
LOCATION:Zoom\, Nederland
CATEGORIES:Offline Training
ORGANIZER;CN="Ben Ackermans":MAILTO:info@benackermans.nl
END:VEVENT
BEGIN:VEVENT
DTSTART;TZID=Europe/Amsterdam:20250512T160000
DTEND;TZID=Europe/Amsterdam:20250512T170000
DTSTAMP:20260421T191550
CREATED:20250501T100141Z
LAST-MODIFIED:20250512T101243Z
UID:2440-1747065600-1747069200@benackermans.nl
SUMMARY:• Maandag 12 mei 2025 Geen training
DESCRIPTION:Online training via zoom. Meer informatie vindt u op: Online trainingen
URL:https://benackermans.nl/event/maandag-12-mei-2025-1600-1700/
LOCATION:Zoom\, Nederland
CATEGORIES:Offline Training
ORGANIZER;CN="Ben Ackermans":MAILTO:info@benackermans.nl
END:VEVENT
BEGIN:VEVENT
DTSTART;TZID=Europe/Amsterdam:20250509T120000
DTEND;TZID=Europe/Amsterdam:20250509T130000
DTSTAMP:20260421T191550
CREATED:20250312T143205Z
LAST-MODIFIED:20250504T191857Z
UID:2420-1746792000-1746795600@benackermans.nl
SUMMARY:• Vrijdag 9 mei 2025 Geen training
DESCRIPTION:Online training via zoom. Meer informatie vindt u op: Online trainingen
URL:https://benackermans.nl/event/vrijdag-9-mei-2025-1200-1300/
LOCATION:Zoom\, Nederland
CATEGORIES:Offline Training
ORGANIZER;CN="Ben Ackermans":MAILTO:info@benackermans.nl
END:VEVENT
BEGIN:VEVENT
DTSTART;TZID=Europe/Amsterdam:20250505T160000
DTEND;TZID=Europe/Amsterdam:20250505T170000
DTSTAMP:20260421T191550
CREATED:20250312T142909Z
LAST-MODIFIED:20250504T191829Z
UID:2400-1746460800-1746464400@benackermans.nl
SUMMARY:• Maandag 5 mei 2025 Geen training
DESCRIPTION:Online training via zoom. Meer informatie vindt u op: Online trainingen
URL:https://benackermans.nl/event/maandag-5-mei-2025-1600-1700/
LOCATION:Zoom\, Nederland
CATEGORIES:Offline Training
ORGANIZER;CN="Ben Ackermans":MAILTO:info@benackermans.nl
END:VEVENT
BEGIN:VEVENT
DTSTART;TZID=Europe/Amsterdam:20250502T120000
DTEND;TZID=Europe/Amsterdam:20250502T130000
DTSTAMP:20260421T191550
CREATED:20250312T143110Z
LAST-MODIFIED:20250501T100011Z
UID:2411-1746187200-1746190800@benackermans.nl
SUMMARY:• Vrijdag 2 mei 2025 Geen training
DESCRIPTION:Online training via zoom. Meer informatie vindt u op: Online trainingen
URL:https://benackermans.nl/event/vrijdag-2-mei-2025-1200-1300/
LOCATION:Zoom\, Nederland
CATEGORIES:Offline Training
ORGANIZER;CN="Ben Ackermans":MAILTO:info@benackermans.nl
END:VEVENT
BEGIN:VEVENT
DTSTART;TZID=Europe/Amsterdam:20250425T120000
DTEND;TZID=Europe/Amsterdam:20250425T130000
DTSTAMP:20260421T191550
CREATED:20250312T143038Z
LAST-MODIFIED:20250501T100034Z
UID:2410-1745582400-1745586000@benackermans.nl
SUMMARY:• Vrijdag 25 april 2025 Geen training
DESCRIPTION:Online training via zoom. Meer informatie vindt u op: Online trainingen
URL:https://benackermans.nl/event/vrijdag-25-april-2025-1200-1300/
LOCATION:Zoom\, Nederland
CATEGORIES:Offline Training
ORGANIZER;CN="Ben Ackermans":MAILTO:info@benackermans.nl
END:VEVENT
BEGIN:VEVENT
DTSTART;TZID=Europe/Amsterdam:20250421T160000
DTEND;TZID=Europe/Amsterdam:20250421T170000
DTSTAMP:20260421T191550
CREATED:20250312T142739Z
LAST-MODIFIED:20250312T142802Z
UID:2398-1745251200-1745254800@benackermans.nl
SUMMARY:• Maandag 21 april 2025 Pasen
DESCRIPTION:Online training via zoom. Meer informatie vindt u op: Online trainingen
URL:https://benackermans.nl/event/maandag-21-april-2025-pasen/
LOCATION:Zoom\, Nederland
CATEGORIES:Offline Training
ORGANIZER;CN="Ben Ackermans":MAILTO:info@benackermans.nl
END:VEVENT
BEGIN:VEVENT
DTSTART;TZID=Europe/Amsterdam:20250411T120000
DTEND;TZID=Europe/Amsterdam:20250411T130000
DTSTAMP:20260421T191550
CREATED:20250210T115621Z
LAST-MODIFIED:20250411T085243Z
UID:2385-1744372800-1744376400@benackermans.nl
SUMMARY:• Vrijdag 11 april 2025 Geen training
DESCRIPTION:Online training via zoom. Meer informatie vindt u op: Online trainingen
URL:https://benackermans.nl/event/vrijdag-11-april-2025-1200-1300/
LOCATION:Zoom\, Nederland
CATEGORIES:Offline Training
ORGANIZER;CN="Ben Ackermans":MAILTO:info@benackermans.nl
END:VEVENT
BEGIN:VEVENT
DTSTART;TZID=Europe/Amsterdam:20250317T160000
DTEND;TZID=Europe/Amsterdam:20250317T170000
DTSTAMP:20260421T191550
CREATED:20250210T115239Z
LAST-MODIFIED:20250312T143958Z
UID:2372-1742227200-1742230800@benackermans.nl
SUMMARY:• Maandag 17 maart 2025 Geen training
DESCRIPTION:Online training via zoom. Meer informatie vindt u op: Online trainingen
URL:https://benackermans.nl/event/maandag-17-maart-2025-1600-1700/
LOCATION:Zoom\, Nederland
CATEGORIES:Offline Training
ORGANIZER;CN="Ben Ackermans":MAILTO:info@benackermans.nl
END:VEVENT
BEGIN:VEVENT
DTSTART;TZID=Europe/Amsterdam:20250314T120000
DTEND;TZID=Europe/Amsterdam:20250314T130000
DTSTAMP:20260421T191550
CREATED:20250112T114421Z
LAST-MODIFIED:20250312T143950Z
UID:2354-1741953600-1741957200@benackermans.nl
SUMMARY:• Vrijdag 14 maart 2025 Geen training
DESCRIPTION:Online training via zoom. Meer informatie vindt u op: Online trainingen
URL:https://benackermans.nl/event/vrijdag-14-maart-2025-1200-1300/
LOCATION:Zoom\, Nederland
CATEGORIES:Offline Training
ORGANIZER;CN="Ben Ackermans":MAILTO:info@benackermans.nl
END:VEVENT
BEGIN:VEVENT
DTSTART;TZID=Europe/Amsterdam:20250303T160000
DTEND;TZID=Europe/Amsterdam:20250303T170000
DTSTAMP:20260421T191550
CREATED:20250112T113949Z
LAST-MODIFIED:20250203T155214Z
UID:2330-1741017600-1741021200@benackermans.nl
SUMMARY:• Maandag 3 maart 2025 Carnaval
DESCRIPTION:Online training via zoom. Meer informatie vindt u op: Online trainingen
URL:https://benackermans.nl/event/maandag-3-maart-2025-1600-1700/
LOCATION:Zoom\, Nederland
CATEGORIES:Offline Training
ORGANIZER;CN="Ben Ackermans":MAILTO:info@benackermans.nl
END:VEVENT
BEGIN:VEVENT
DTSTART;TZID=Europe/Amsterdam:20250210T160000
DTEND;TZID=Europe/Amsterdam:20250210T170000
DTSTAMP:20260421T191550
CREATED:20250112T113807Z
LAST-MODIFIED:20250210T114359Z
UID:2327-1739203200-1739206800@benackermans.nl
SUMMARY:• Maandag 10 februari 2025 Geen training
DESCRIPTION:Online training via zoom. Meer informatie vindt u op: Online trainingen
URL:https://benackermans.nl/event/maandag-10-februari-2025-1600-1700/
LOCATION:Zoom\, Nederland
CATEGORIES:Offline Training
ORGANIZER;CN="Ben Ackermans":MAILTO:info@benackermans.nl
END:VEVENT
BEGIN:VEVENT
DTSTART;TZID=Europe/Amsterdam:20250113T160000
DTEND;TZID=Europe/Amsterdam:20250113T170000
DTSTAMP:20260421T191550
CREATED:20241209T164223Z
LAST-MODIFIED:20250112T113122Z
UID:2290-1736784000-1736787600@benackermans.nl
SUMMARY:• Maandag 13 januari 2025 Geen training
DESCRIPTION:Online training via zoom. Meer informatie vindt u op: Online trainingen
URL:https://benackermans.nl/event/maandag-13-januari-2025-1600-1700/
LOCATION:Zoom\, Nederland
CATEGORIES:Offline Training
ORGANIZER;CN="Ben Ackermans":MAILTO:info@benackermans.nl
END:VEVENT
BEGIN:VEVENT
DTSTART;TZID=Europe/Amsterdam:20241230T160000
DTEND;TZID=Europe/Amsterdam:20241230T170000
DTSTAMP:20260421T191550
CREATED:20241111T165950Z
LAST-MODIFIED:20241230T102002Z
UID:2252-1735574400-1735578000@benackermans.nl
SUMMARY:• Maandag 30 december 2024 Geen training
DESCRIPTION:Online training via zoom. Meer informatie vindt u op: Online trainingen
URL:https://benackermans.nl/event/maandag-30-december-2024-1600-1700/
LOCATION:Zoom\, Nederland
CATEGORIES:Offline Training
ORGANIZER;CN="Ben Ackermans":MAILTO:info@benackermans.nl
END:VEVENT
BEGIN:VEVENT
DTSTART;TZID=Europe/Amsterdam:20241206T120000
DTEND;TZID=Europe/Amsterdam:20241206T130000
DTSTAMP:20260421T191550
CREATED:20241014T132137Z
LAST-MODIFIED:20241204T151624Z
UID:2232-1733486400-1733490000@benackermans.nl
SUMMARY:• Vrijdag 6 december 2024 Geen training
DESCRIPTION:Online training via zoom. Meer informatie vindt u op: Online trainingen
URL:https://benackermans.nl/event/vrijdag-6-december-2024-1200-1300/
LOCATION:Zoom\, Nederland
CATEGORIES:Offline Training
ORGANIZER;CN="Ben Ackermans":MAILTO:info@benackermans.nl
END:VEVENT
BEGIN:VEVENT
DTSTART;TZID=Europe/Amsterdam:20241202T160000
DTEND;TZID=Europe/Amsterdam:20241202T170000
DTSTAMP:20260421T191550
CREATED:20241014T131012Z
LAST-MODIFIED:20241201T124523Z
UID:2219-1733155200-1733158800@benackermans.nl
SUMMARY:• Maandag 2 december 2024 Geen training
DESCRIPTION:Online training via zoom. Meer informatie vindt u op: Online trainingen
URL:https://benackermans.nl/event/maandag-2-december-2024-1600-1700/
LOCATION:Zoom\, Nederland
CATEGORIES:Offline Training
ORGANIZER;CN="Ben Ackermans":MAILTO:info@benackermans.nl
END:VEVENT
BEGIN:VEVENT
DTSTART;TZID=Europe/Amsterdam:20241129T120000
DTEND;TZID=Europe/Amsterdam:20241129T130000
DTSTAMP:20260421T191550
CREATED:20241014T131920Z
LAST-MODIFIED:20241129T085426Z
UID:2231-1732881600-1732885200@benackermans.nl
SUMMARY:• Vrijdag 29 november 2024 Geen training
DESCRIPTION:Online training via zoom. Meer informatie vindt u op: Online trainingen
URL:https://benackermans.nl/event/vrijdag-29-november-2024-1200-1300/
LOCATION:Zoom\, Nederland
CATEGORIES:Offline Training
ORGANIZER;CN="Ben Ackermans":MAILTO:info@benackermans.nl
END:VEVENT
BEGIN:VEVENT
DTSTART;TZID=Europe/Amsterdam:20241025T120000
DTEND;TZID=Europe/Amsterdam:20241025T130000
DTSTAMP:20260421T191550
CREATED:20240912T115907Z
LAST-MODIFIED:20241025T084017Z
UID:2163-1729857600-1729861200@benackermans.nl
SUMMARY:• Vrijdag 25 oktober 2024 Geen training
DESCRIPTION:Online training via zoom. Meer informatie vindt u op: Online trainingen
URL:https://benackermans.nl/event/vrijdag-25-oktober-2024-1200-1300/
LOCATION:Zoom\, Nederland
CATEGORIES:Offline Training
ORGANIZER;CN="Ben Ackermans":MAILTO:info@benackermans.nl
END:VEVENT
BEGIN:VEVENT
DTSTART;TZID=Europe/Amsterdam:20241021T160000
DTEND;TZID=Europe/Amsterdam:20241021T170000
DTSTAMP:20260421T191550
CREATED:20240912T120513Z
LAST-MODIFIED:20241019T121010Z
UID:2186-1729526400-1729530000@benackermans.nl
SUMMARY:• Maandag 21 oktober 2024 Geen training
DESCRIPTION:Online training via zoom. Meer informatie vindt u op: Online trainingen
URL:https://benackermans.nl/event/maandag-21-oktober-2024-1600-1700/
LOCATION:Zoom\, Nederland
CATEGORIES:Offline Training
ORGANIZER;CN="Ben Ackermans":MAILTO:info@benackermans.nl
END:VEVENT
BEGIN:VEVENT
DTSTART;TZID=Europe/Amsterdam:20241018T120000
DTEND;TZID=Europe/Amsterdam:20241018T130000
DTSTAMP:20260421T191550
CREATED:20240912T115833Z
LAST-MODIFIED:20241018T071623Z
UID:2162-1729252800-1729256400@benackermans.nl
SUMMARY:• Vrijdag 18 oktober 2024 Geen training
DESCRIPTION:Online training via zoom. Meer informatie vindt u op: Online trainingen
URL:https://benackermans.nl/event/vrijdag-18-oktober-2024-1200-1300/
LOCATION:Zoom\, Nederland
CATEGORIES:Offline Training
ORGANIZER;CN="Ben Ackermans":MAILTO:info@benackermans.nl
END:VEVENT
BEGIN:VEVENT
DTSTART;TZID=Europe/Amsterdam:20241014T160000
DTEND;TZID=Europe/Amsterdam:20241014T170000
DTSTAMP:20260421T191550
CREATED:20240912T120358Z
LAST-MODIFIED:20241014T091337Z
UID:2185-1728921600-1728925200@benackermans.nl
SUMMARY:• Maandag 14 oktober 2024 Geen training
DESCRIPTION:Online training via zoom. Meer informatie vindt u op: Online trainingen
URL:https://benackermans.nl/event/maandag-14-oktober-2024-1600-1700/
LOCATION:Zoom\, Nederland
CATEGORIES:Offline Training
ORGANIZER;CN="Ben Ackermans":MAILTO:info@benackermans.nl
END:VEVENT
END:VCALENDAR