BEGIN:VCALENDAR
VERSION:2.0
PRODID:-//Ben Ackermans - ECPv6.15.20//NONSGML v1.0//EN
CALSCALE:GREGORIAN
METHOD:PUBLISH
X-ORIGINAL-URL:https://benackermans.nl
X-WR-CALDESC:Evenementen voor Ben Ackermans
REFRESH-INTERVAL;VALUE=DURATION:PT1H
X-Robots-Tag:noindex
X-PUBLISHED-TTL:PT1H
BEGIN:VTIMEZONE
TZID:Europe/Amsterdam
BEGIN:DAYLIGHT
TZOFFSETFROM:+0100
TZOFFSETTO:+0200
TZNAME:CEST
DTSTART:20220327T010000
END:DAYLIGHT
BEGIN:STANDARD
TZOFFSETFROM:+0200
TZOFFSETTO:+0100
TZNAME:CET
DTSTART:20221030T010000
END:STANDARD
BEGIN:DAYLIGHT
TZOFFSETFROM:+0100
TZOFFSETTO:+0200
TZNAME:CEST
DTSTART:20230326T010000
END:DAYLIGHT
BEGIN:STANDARD
TZOFFSETFROM:+0200
TZOFFSETTO:+0100
TZNAME:CET
DTSTART:20231029T010000
END:STANDARD
BEGIN:DAYLIGHT
TZOFFSETFROM:+0100
TZOFFSETTO:+0200
TZNAME:CEST
DTSTART:20240331T010000
END:DAYLIGHT
BEGIN:STANDARD
TZOFFSETFROM:+0200
TZOFFSETTO:+0100
TZNAME:CET
DTSTART:20241027T010000
END:STANDARD
END:VTIMEZONE
BEGIN:VEVENT
DTSTART;TZID=Europe/Amsterdam:20231215T120000
DTEND;TZID=Europe/Amsterdam:20231215T130000
DTSTAMP:20260422T053746
CREATED:20231111T133745Z
LAST-MODIFIED:20231207T084753Z
UID:1804-1702641600-1702645200@benackermans.nl
SUMMARY:• Vrijdag 15 december 2023 Geen training
DESCRIPTION:Online training via zoom. Meer informatie vindt u op: Online trainingen
URL:https://benackermans.nl/event/vrijdag-15-december-2023-1200-1300/
LOCATION:Zoom\, Nederland
CATEGORIES:Offline Training
ORGANIZER;CN="Ben Ackermans":MAILTO:info@benackermans.nl
END:VEVENT
BEGIN:VEVENT
DTSTART;TZID=Europe/Amsterdam:20231211T160000
DTEND;TZID=Europe/Amsterdam:20231211T170000
DTSTAMP:20260422T053746
CREATED:20231111T134131Z
LAST-MODIFIED:20231207T084646Z
UID:1818-1702310400-1702314000@benackermans.nl
SUMMARY:• Maandag 11 december 2023 Geen training
DESCRIPTION:Online training via zoom. Meer informatie vindt u op: Online trainingen
URL:https://benackermans.nl/event/maandag-11-december-2023-1600-1700/
LOCATION:Zoom\, Nederland
CATEGORIES:Offline Training
ORGANIZER;CN="Ben Ackermans":MAILTO:info@benackermans.nl
END:VEVENT
BEGIN:VEVENT
DTSTART;TZID=Europe/Amsterdam:20231208T120000
DTEND;TZID=Europe/Amsterdam:20231208T130000
DTSTAMP:20260422T053746
CREATED:20231111T133706Z
LAST-MODIFIED:20231207T084628Z
UID:1803-1702036800-1702040400@benackermans.nl
SUMMARY:• Vrijdag 8 december 2023 Geen training
DESCRIPTION:Online training via zoom. Meer informatie vindt u op: Online trainingen
URL:https://benackermans.nl/event/vrijdag-8-december-2023-1200-1300/
LOCATION:Zoom\, Nederland
CATEGORIES:Offline Training
ORGANIZER;CN="Ben Ackermans":MAILTO:info@benackermans.nl
END:VEVENT
BEGIN:VEVENT
DTSTART;TZID=Europe/Amsterdam:20231023T160000
DTEND;TZID=Europe/Amsterdam:20231023T170000
DTSTAMP:20260422T053746
CREATED:20230927T162852Z
LAST-MODIFIED:20231012T091038Z
UID:1741-1698076800-1698080400@benackermans.nl
SUMMARY:• Maandag 23 oktober 2023 Geen training
DESCRIPTION:Online training via zoom. Meer informatie vindt u op: Online trainingen
URL:https://benackermans.nl/event/maandag-23-oktober-2023-1600-1700/
LOCATION:Zoom\, Nederland
CATEGORIES:Offline Training
ORGANIZER;CN="Ben Ackermans":MAILTO:info@benackermans.nl
END:VEVENT
BEGIN:VEVENT
DTSTART;TZID=Europe/Amsterdam:20231020T120000
DTEND;TZID=Europe/Amsterdam:20231020T130000
DTSTAMP:20260422T053746
CREATED:20230927T163403Z
LAST-MODIFIED:20231012T091011Z
UID:1756-1697803200-1697806800@benackermans.nl
SUMMARY:• Vrijdag 20 oktober 2023 Geen training
DESCRIPTION:Online training via zoom. Meer informatie vindt u op: Online trainingen
URL:https://benackermans.nl/event/vrijdag-20-oktober-2023-1200-1300/
LOCATION:Zoom\, Nederland
CATEGORIES:Offline Training
ORGANIZER;CN="Ben Ackermans":MAILTO:info@benackermans.nl
END:VEVENT
BEGIN:VEVENT
DTSTART;TZID=Europe/Amsterdam:20231016T160000
DTEND;TZID=Europe/Amsterdam:20231016T170000
DTSTAMP:20260422T053746
CREATED:20230927T162814Z
LAST-MODIFIED:20231012T090923Z
UID:1740-1697472000-1697475600@benackermans.nl
SUMMARY:• Maandag 16 oktober 2023 Geen training
DESCRIPTION:Online training via zoom. Meer informatie vindt u op: Online trainingen
URL:https://benackermans.nl/event/maandag-16-oktober-2023-1600-1700/
LOCATION:Zoom\, Nederland
CATEGORIES:Offline Training
ORGANIZER;CN="Ben Ackermans":MAILTO:info@benackermans.nl
END:VEVENT
BEGIN:VEVENT
DTSTART;TZID=Europe/Amsterdam:20230925T160000
DTEND;TZID=Europe/Amsterdam:20230925T170000
DTSTAMP:20260422T053746
CREATED:20230728T084043Z
LAST-MODIFIED:20230927T162257Z
UID:1710-1695657600-1695661200@benackermans.nl
SUMMARY:• Maandag 25 september Geen training
DESCRIPTION:Online training via zoom. Meer informatie vindt u op: Online trainingen
URL:https://benackermans.nl/event/maandag-25-september-2023-1600-1700/
LOCATION:Zoom\, Nederland
CATEGORIES:Offline Training
ORGANIZER;CN="Ben Ackermans":MAILTO:info@benackermans.nl
END:VEVENT
BEGIN:VEVENT
DTSTART;TZID=Europe/Amsterdam:20230922T120000
DTEND;TZID=Europe/Amsterdam:20230922T130000
DTSTAMP:20260422T053746
CREATED:20230728T083419Z
LAST-MODIFIED:20230728T083422Z
UID:1695-1695384000-1695387600@benackermans.nl
SUMMARY:• Vrijdag 22 september 2023 Geen training
DESCRIPTION:Online training via zoom. Meer informatie vindt u op: Online trainingen
URL:https://benackermans.nl/event/vrijdag-22-september-2023-geen-training/
LOCATION:Zoom\, Nederland
CATEGORIES:Offline Training
ORGANIZER;CN="Ben Ackermans":MAILTO:info@benackermans.nl
END:VEVENT
BEGIN:VEVENT
DTSTART;TZID=Europe/Amsterdam:20230918T160000
DTEND;TZID=Europe/Amsterdam:20230918T170000
DTSTAMP:20260422T053746
CREATED:20230728T083951Z
LAST-MODIFIED:20230728T083954Z
UID:1709-1695052800-1695056400@benackermans.nl
SUMMARY:• Maandag 18 september 2023 Geen training
DESCRIPTION:Online training via zoom. Meer informatie vindt u op: Online trainingen
URL:https://benackermans.nl/event/maandag-18-september-2023-geen-training/
LOCATION:Zoom\, Nederland
CATEGORIES:Offline Training
ORGANIZER;CN="Ben Ackermans":MAILTO:info@benackermans.nl
END:VEVENT
BEGIN:VEVENT
DTSTART;TZID=Europe/Amsterdam:20230915T120000
DTEND;TZID=Europe/Amsterdam:20230915T130000
DTSTAMP:20260422T053746
CREATED:20230728T083234Z
LAST-MODIFIED:20230728T083238Z
UID:1694-1694779200-1694782800@benackermans.nl
SUMMARY:• Vrijdag 15 september 2023 Geen training
DESCRIPTION:Online training via zoom. Meer informatie vindt u op: Online trainingen
URL:https://benackermans.nl/event/vrijdag-15-september-2023-geen-training/
LOCATION:Zoom\, Nederland
CATEGORIES:Offline Training
ORGANIZER;CN="Ben Ackermans":MAILTO:info@benackermans.nl
END:VEVENT
BEGIN:VEVENT
DTSTART;TZID=Europe/Amsterdam:20230911T160000
DTEND;TZID=Europe/Amsterdam:20230911T170000
DTSTAMP:20260422T053746
CREATED:20230728T083832Z
LAST-MODIFIED:20230728T083836Z
UID:1708-1694448000-1694451600@benackermans.nl
SUMMARY:• Maandag 11 september 2023 Geen training
DESCRIPTION:Online training via zoom. Meer informatie vindt u op: Online trainingen
URL:https://benackermans.nl/event/maandag-11-september-2023-geen-training/
LOCATION:Zoom\, Nederland
CATEGORIES:Offline Training
ORGANIZER;CN="Ben Ackermans":MAILTO:info@benackermans.nl
END:VEVENT
BEGIN:VEVENT
DTSTART;TZID=Europe/Amsterdam:20230908T120000
DTEND;TZID=Europe/Amsterdam:20230908T130000
DTSTAMP:20260422T053746
CREATED:20230728T083128Z
LAST-MODIFIED:20230728T083311Z
UID:1693-1694174400-1694178000@benackermans.nl
SUMMARY:• Vrijdag 8 september 2023 Geen training
DESCRIPTION:Online training via zoom. Meer informatie vindt u op: Online trainingen
URL:https://benackermans.nl/event/vrijdag-8-september-2023-geen-training/
LOCATION:Zoom\, Nederland
CATEGORIES:Offline Training
ORGANIZER;CN="Ben Ackermans":MAILTO:info@benackermans.nl
END:VEVENT
BEGIN:VEVENT
DTSTART;TZID=Europe/Amsterdam:20230904T160000
DTEND;TZID=Europe/Amsterdam:20230904T170000
DTSTAMP:20260422T053746
CREATED:20230628T145431Z
LAST-MODIFIED:20230830T094256Z
UID:1667-1693843200-1693846800@benackermans.nl
SUMMARY:• Maandag 4 september 2023 Geen training
DESCRIPTION:Online training via zoom. Meer informatie vindt u op: Online trainingen
URL:https://benackermans.nl/event/maandag-4-september-2023-1600-1700/
LOCATION:Zoom\, Nederland
CATEGORIES:Offline Training
ORGANIZER;CN="Ben Ackermans":MAILTO:info@benackermans.nl
END:VEVENT
BEGIN:VEVENT
DTSTART;TZID=Europe/Amsterdam:20230821T160000
DTEND;TZID=Europe/Amsterdam:20230821T170000
DTSTAMP:20260422T053746
CREATED:20230628T142516Z
LAST-MODIFIED:20230822T203037Z
UID:1665-1692633600-1692637200@benackermans.nl
SUMMARY:• Maandag 21 augustus 2023 Geen training
DESCRIPTION:Online training via zoom. Meer informatie vindt u op: Online trainingen
URL:https://benackermans.nl/event/maandag-21-augustus-2023-1600-1700/
LOCATION:Zoom\, Nederland
CATEGORIES:Offline Training
ORGANIZER;CN="Ben Ackermans":MAILTO:info@benackermans.nl
END:VEVENT
BEGIN:VEVENT
DTSTART;TZID=Europe/Amsterdam:20230811T120000
DTEND;TZID=Europe/Amsterdam:20230811T130000
DTSTAMP:20260422T053747
CREATED:20230628T145613Z
LAST-MODIFIED:20230807T081913Z
UID:1675-1691755200-1691758800@benackermans.nl
SUMMARY:• Vrijdag 11 augustus 2023 Geen training
DESCRIPTION:Online training via zoom. Meer informatie vindt u op: Online trainingen
URL:https://benackermans.nl/event/vrijdag-11-augustus-2023-1200-1300/
LOCATION:Zoom\, Nederland
CATEGORIES:Offline Training
ORGANIZER;CN="Ben Ackermans":MAILTO:info@benackermans.nl
END:VEVENT
BEGIN:VEVENT
DTSTART;TZID=Europe/Amsterdam:20230807T160000
DTEND;TZID=Europe/Amsterdam:20230807T170000
DTSTAMP:20260422T053747
CREATED:20230529T115727Z
LAST-MODIFIED:20230807T081854Z
UID:1635-1691424000-1691427600@benackermans.nl
SUMMARY:• Maandag 7 augustus 2023 Geen training
DESCRIPTION:Online training via zoom. Meer informatie vindt u op: Online trainingen
URL:https://benackermans.nl/event/maandag-7-augustus-2023-1600-1700/
LOCATION:Zoom\, Nederland
CATEGORIES:Offline Training
ORGANIZER;CN="Ben Ackermans":MAILTO:info@benackermans.nl
END:VEVENT
BEGIN:VEVENT
DTSTART;TZID=Europe/Amsterdam:20230731T160000
DTEND;TZID=Europe/Amsterdam:20230731T170000
DTSTAMP:20260422T053747
CREATED:20230529T115646Z
LAST-MODIFIED:20230731T064211Z
UID:1626-1690819200-1690822800@benackermans.nl
SUMMARY:• Maandag 31 juli 2023 Geen training
DESCRIPTION:Online training via zoom. Meer informatie vindt u op: Online trainingen
URL:https://benackermans.nl/event/maandag-31-juli-2023-1600-1700/
LOCATION:Zoom\, Nederland
CATEGORIES:Offline Training
ORGANIZER;CN="Ben Ackermans":MAILTO:info@benackermans.nl
END:VEVENT
BEGIN:VEVENT
DTSTART;TZID=Europe/Amsterdam:20230728T120000
DTEND;TZID=Europe/Amsterdam:20230728T130000
DTSTAMP:20260422T053747
CREATED:20230529T120223Z
LAST-MODIFIED:20230720T201913Z
UID:1640-1690545600-1690549200@benackermans.nl
SUMMARY:• Vrijdag 28 juli 2023 Geen training
DESCRIPTION:Online training via zoom. Meer informatie vindt u op: Online trainingen
URL:https://benackermans.nl/event/vrijdag-28-juli-2023-1200-1300/
LOCATION:Zoom\, Nederland
CATEGORIES:Offline Training
ORGANIZER;CN="Ben Ackermans":MAILTO:info@benackermans.nl
END:VEVENT
BEGIN:VEVENT
DTSTART;TZID=Europe/Amsterdam:20230707T120000
DTEND;TZID=Europe/Amsterdam:20230707T130000
DTSTAMP:20260422T053747
CREATED:20230508T164136Z
LAST-MODIFIED:20230703T150324Z
UID:1602-1688731200-1688734800@benackermans.nl
SUMMARY:• Vrijdag 7 juli 2023 Geen training
DESCRIPTION:Online training via zoom. Meer informatie vindt u op: Online trainingen
URL:https://benackermans.nl/event/vrijdag-7-juli-2023-1200-1300/
LOCATION:Zoom\, Nederland
CATEGORIES:Offline Training
ORGANIZER;CN="Ben Ackermans":MAILTO:info@benackermans.nl
END:VEVENT
BEGIN:VEVENT
DTSTART;TZID=Europe/Amsterdam:20230630T120000
DTEND;TZID=Europe/Amsterdam:20230630T130000
DTSTAMP:20260422T053747
CREATED:20230508T164051Z
LAST-MODIFIED:20230703T150245Z
UID:1601-1688126400-1688130000@benackermans.nl
SUMMARY:• Vrijdag 30 juni 2023 Geen training
DESCRIPTION:Online training via zoom. Meer informatie vindt u op: Online trainingen
URL:https://benackermans.nl/event/vrijdag-30-juni-2023-1200-1300/
LOCATION:Zoom\, Nederland
CATEGORIES:Offline Training
ORGANIZER;CN="Ben Ackermans":MAILTO:info@benackermans.nl
END:VEVENT
BEGIN:VEVENT
DTSTART;TZID=Europe/Amsterdam:20230626T160000
DTEND;TZID=Europe/Amsterdam:20230626T170000
DTSTAMP:20260422T053747
CREATED:20230508T163455Z
LAST-MODIFIED:20230626T092734Z
UID:1589-1687795200-1687798800@benackermans.nl
SUMMARY:• Maandag 26 juni 2023 Geen training
DESCRIPTION:Online training via zoom. Meer informatie vindt u op: Online trainingen
URL:https://benackermans.nl/event/maandag-26-juni-2023-1600-1700/
LOCATION:Zoom\, Nederland
CATEGORIES:Offline Training
ORGANIZER;CN="Ben Ackermans":MAILTO:info@benackermans.nl
END:VEVENT
BEGIN:VEVENT
DTSTART;TZID=Europe/Amsterdam:20230623T120000
DTEND;TZID=Europe/Amsterdam:20230623T130000
DTSTAMP:20260422T053747
CREATED:20230508T164011Z
LAST-MODIFIED:20230623T083139Z
UID:1600-1687521600-1687525200@benackermans.nl
SUMMARY:• Vrijdag 23 juni 2023 Geen training
DESCRIPTION:Online training via zoom. Meer informatie vindt u op: Online trainingen
URL:https://benackermans.nl/event/vrijdag-23-juni-2023-1200-1300/
LOCATION:Zoom\, Nederland
CATEGORIES:Offline Training
ORGANIZER;CN="Ben Ackermans":MAILTO:info@benackermans.nl
END:VEVENT
BEGIN:VEVENT
DTSTART;TZID=Europe/Amsterdam:20230619T160000
DTEND;TZID=Europe/Amsterdam:20230619T170000
DTSTAMP:20260422T053747
CREATED:20230508T163405Z
LAST-MODIFIED:20230508T163409Z
UID:1588-1687190400-1687194000@benackermans.nl
SUMMARY:• Maandag 19 juni 2023 Geen training
DESCRIPTION:Online training via zoom. Meer informatie vindt u op: Online trainingen
URL:https://benackermans.nl/event/maandag-19-juni-2023-geen-training/
LOCATION:Zoom\, Nederland
CATEGORIES:Offline Training
ORGANIZER;CN="Ben Ackermans":MAILTO:info@benackermans.nl
END:VEVENT
BEGIN:VEVENT
DTSTART;TZID=Europe/Amsterdam:20230616T120000
DTEND;TZID=Europe/Amsterdam:20230616T130000
DTSTAMP:20260422T053747
CREATED:20230508T163812Z
LAST-MODIFIED:20230508T163820Z
UID:1599-1686916800-1686920400@benackermans.nl
SUMMARY:• Vrijdag 16 juni 2023 Geen training
DESCRIPTION:Online training via zoom. Meer informatie vindt u op: Online trainingen
URL:https://benackermans.nl/event/vrijdag-16-juni-2023-geen-training/
LOCATION:Zoom\, Nederland
CATEGORIES:Offline Training
ORGANIZER;CN="Ben Ackermans":MAILTO:info@benackermans.nl
END:VEVENT
BEGIN:VEVENT
DTSTART;TZID=Europe/Amsterdam:20230612T160000
DTEND;TZID=Europe/Amsterdam:20230612T170000
DTSTAMP:20260422T053747
CREATED:20230508T163211Z
LAST-MODIFIED:20230508T163321Z
UID:1587-1686585600-1686589200@benackermans.nl
SUMMARY:• Maandag 12 juni 2023 Geen training
DESCRIPTION:Online training via zoom. Meer informatie vindt u op: Online trainingen
URL:https://benackermans.nl/event/maandag-12-juni-2023-geen-training/
LOCATION:Zoom\, Nederland
CATEGORIES:Offline Training
ORGANIZER;CN="Ben Ackermans":MAILTO:info@benackermans.nl
END:VEVENT
BEGIN:VEVENT
DTSTART;TZID=Europe/Amsterdam:20230609T120000
DTEND;TZID=Europe/Amsterdam:20230609T130000
DTSTAMP:20260422T053747
CREATED:20230415T121043Z
LAST-MODIFIED:20230508T161755Z
UID:1570-1686312000-1686315600@benackermans.nl
SUMMARY:• Vrijdag 9 juni 2023 Geen training
DESCRIPTION:Online training via zoom. Meer informatie vindt u op: Online trainingen
URL:https://benackermans.nl/event/vrijdag-9-juni-2023-1200-1300/
LOCATION:Zoom\, Nederland
CATEGORIES:Offline Training
ORGANIZER;CN="Ben Ackermans":MAILTO:info@benackermans.nl
END:VEVENT
BEGIN:VEVENT
DTSTART;TZID=Europe/Amsterdam:20230605T160000
DTEND;TZID=Europe/Amsterdam:20230605T170000
DTSTAMP:20260422T053747
CREATED:20230415T120544Z
LAST-MODIFIED:20230605T063935Z
UID:1557-1685980800-1685984400@benackermans.nl
SUMMARY:• Maandag 5 juni 2023 Geen training
DESCRIPTION:Online training via zoom. Meer informatie vindt u op: Online trainingen
URL:https://benackermans.nl/event/maandag-5-juni-2023-1600-1700/
LOCATION:Zoom\, Nederland
CATEGORIES:Offline Training
ORGANIZER;CN="Ben Ackermans":MAILTO:info@benackermans.nl
END:VEVENT
BEGIN:VEVENT
DTSTART;TZID=Europe/Amsterdam:20230529T160000
DTEND;TZID=Europe/Amsterdam:20230529T170000
DTSTAMP:20260422T053747
CREATED:20230415T120458Z
LAST-MODIFIED:20230526T111144Z
UID:1556-1685376000-1685379600@benackermans.nl
SUMMARY:• Maandag 29 mei 2023 Pinksteren
DESCRIPTION:Online training via zoom. Meer informatie vindt u op: Online trainingen
URL:https://benackermans.nl/event/maandag-29-mei-2023-1600-1700/
LOCATION:Zoom\, Nederland
CATEGORIES:Offline Training
ORGANIZER;CN="Ben Ackermans":MAILTO:info@benackermans.nl
END:VEVENT
BEGIN:VEVENT
DTSTART;TZID=Europe/Amsterdam:20230522T160000
DTEND;TZID=Europe/Amsterdam:20230522T170000
DTSTAMP:20260422T053747
CREATED:20230415T120338Z
LAST-MODIFIED:20230519T083843Z
UID:1555-1684771200-1684774800@benackermans.nl
SUMMARY:• Maandag 22 mei 2023 Geen training
DESCRIPTION:Online training via zoom. Meer informatie vindt u op: Online trainingen
URL:https://benackermans.nl/event/maandag-22-mei-2023-1600-1700/
LOCATION:Zoom\, Nederland
CATEGORIES:Offline Training
ORGANIZER;CN="Ben Ackermans":MAILTO:info@benackermans.nl
END:VEVENT
BEGIN:VEVENT
DTSTART;TZID=Europe/Amsterdam:20230519T120000
DTEND;TZID=Europe/Amsterdam:20230519T130000
DTSTAMP:20260422T053747
CREATED:20230415T120716Z
LAST-MODIFIED:20230519T083937Z
UID:1567-1684497600-1684501200@benackermans.nl
SUMMARY:• Vrijdag 19 mei 2023 Geen training
DESCRIPTION:Online training via zoom. Meer informatie vindt u op: Online trainingen
URL:https://benackermans.nl/event/vrijdag-19-mei-2023-1200-1300/
LOCATION:Zoom\, Nederland
CATEGORIES:Offline Training
ORGANIZER;CN="Ben Ackermans":MAILTO:info@benackermans.nl
END:VEVENT
END:VCALENDAR