BEGIN:VCALENDAR
VERSION:2.0
PRODID:-//Ben Ackermans - ECPv6.15.20//NONSGML v1.0//EN
CALSCALE:GREGORIAN
METHOD:PUBLISH
X-WR-CALNAME:Ben Ackermans
X-ORIGINAL-URL:https://benackermans.nl
X-WR-CALDESC:Evenementen voor Ben Ackermans
REFRESH-INTERVAL;VALUE=DURATION:PT1H
X-Robots-Tag:noindex
X-PUBLISHED-TTL:PT1H
BEGIN:VTIMEZONE
TZID:Europe/Amsterdam
BEGIN:DAYLIGHT
TZOFFSETFROM:+0100
TZOFFSETTO:+0200
TZNAME:CEST
DTSTART:20220327T010000
END:DAYLIGHT
BEGIN:STANDARD
TZOFFSETFROM:+0200
TZOFFSETTO:+0100
TZNAME:CET
DTSTART:20221030T010000
END:STANDARD
BEGIN:DAYLIGHT
TZOFFSETFROM:+0100
TZOFFSETTO:+0200
TZNAME:CEST
DTSTART:20230326T010000
END:DAYLIGHT
BEGIN:STANDARD
TZOFFSETFROM:+0200
TZOFFSETTO:+0100
TZNAME:CET
DTSTART:20231029T010000
END:STANDARD
BEGIN:DAYLIGHT
TZOFFSETFROM:+0100
TZOFFSETTO:+0200
TZNAME:CEST
DTSTART:20240331T010000
END:DAYLIGHT
BEGIN:STANDARD
TZOFFSETFROM:+0200
TZOFFSETTO:+0100
TZNAME:CET
DTSTART:20241027T010000
END:STANDARD
END:VTIMEZONE
BEGIN:VEVENT
DTSTART;TZID=Europe/Amsterdam:20231002T160000
DTEND;TZID=Europe/Amsterdam:20231002T170000
DTSTAMP:20260422T110449
CREATED:20230927T163006Z
LAST-MODIFIED:20230927T163006Z
UID:1743-1696262400-1696266000@benackermans.nl
SUMMARY:• Maandag 2 oktober 2023 16:00-17:00
DESCRIPTION:Online training via zoom. Meer informatie vindt u op: Online trainingen
URL:https://benackermans.nl/event/maandag-2-oktober-2023-1600-1700-2/
LOCATION:Zoom\, Nederland
CATEGORIES:Online Training
ORGANIZER;CN="Ben Ackermans":MAILTO:info@benackermans.nl
END:VEVENT
BEGIN:VEVENT
DTSTART;TZID=Europe/Amsterdam:20230929T120000
DTEND;TZID=Europe/Amsterdam:20230929T130000
DTSTAMP:20260422T110449
CREATED:20230728T083456Z
LAST-MODIFIED:20230728T083459Z
UID:1696-1695988800-1695992400@benackermans.nl
SUMMARY:• Vrijdag 29 september 2023 12:00-13:00
DESCRIPTION:Online training via zoom. Meer informatie vindt u op: Online trainingen
URL:https://benackermans.nl/event/vrijdag-29-september-2023-1200-1300/
LOCATION:Zoom\, Nederland
CATEGORIES:Online Training
ORGANIZER;CN="Ben Ackermans":MAILTO:info@benackermans.nl
END:VEVENT
BEGIN:VEVENT
DTSTART;TZID=Europe/Amsterdam:20230901T120000
DTEND;TZID=Europe/Amsterdam:20230901T130000
DTSTAMP:20260422T110449
CREATED:20230628T145815Z
LAST-MODIFIED:20230628T145819Z
UID:1678-1693569600-1693573200@benackermans.nl
SUMMARY:• Vrijdag 1 september 2023 12:00-13:00
DESCRIPTION:Online training via zoom. Meer informatie vindt u op: Online trainingen
URL:https://benackermans.nl/event/vrijdag-1-september-2023-1200-1300/
LOCATION:Zoom\, Nederland
CATEGORIES:Online Training
ORGANIZER;CN="Ben Ackermans":MAILTO:info@benackermans.nl
END:VEVENT
BEGIN:VEVENT
DTSTART;TZID=Europe/Amsterdam:20230828T160000
DTEND;TZID=Europe/Amsterdam:20230828T170000
DTSTAMP:20260422T110449
CREATED:20230628T145353Z
LAST-MODIFIED:20230628T145357Z
UID:1666-1693238400-1693242000@benackermans.nl
SUMMARY:• Maandag 28 augustus 2023 16:00-17:00
DESCRIPTION:Online training via zoom. Meer informatie vindt u op: Online trainingen
URL:https://benackermans.nl/event/maandag-28-augustus-2023-1600-1700/
LOCATION:Zoom\, Nederland
CATEGORIES:Online Training
ORGANIZER;CN="Ben Ackermans":MAILTO:info@benackermans.nl
END:VEVENT
BEGIN:VEVENT
DTSTART;TZID=Europe/Amsterdam:20230825T120000
DTEND;TZID=Europe/Amsterdam:20230825T130000
DTSTAMP:20260422T110449
CREATED:20230628T145739Z
LAST-MODIFIED:20230628T145743Z
UID:1677-1692964800-1692968400@benackermans.nl
SUMMARY:• Vrijdag 25 augustus 2023 12:00-13:00
DESCRIPTION:Online training via zoom. Meer informatie vindt u op: Online trainingen
URL:https://benackermans.nl/event/vrijdag-25-augustus-2023-1200-1300/
LOCATION:Zoom\, Nederland
CATEGORIES:Online Training
ORGANIZER;CN="Ben Ackermans":MAILTO:info@benackermans.nl
END:VEVENT
BEGIN:VEVENT
DTSTART;TZID=Europe/Amsterdam:20230818T120000
DTEND;TZID=Europe/Amsterdam:20230818T130000
DTSTAMP:20260422T110449
CREATED:20230628T145649Z
LAST-MODIFIED:20230628T145652Z
UID:1676-1692360000-1692363600@benackermans.nl
SUMMARY:• Vrijdag 18 augustus 2023 12:00-13:00
DESCRIPTION:Online training via zoom. Meer informatie vindt u op: Online trainingen
URL:https://benackermans.nl/event/vrijdag-18-augustus-2023-1200-1300/
LOCATION:Zoom\, Nederland
CATEGORIES:Online Training
ORGANIZER;CN="Ben Ackermans":MAILTO:info@benackermans.nl
END:VEVENT
BEGIN:VEVENT
DTSTART;TZID=Europe/Amsterdam:20230814T160000
DTEND;TZID=Europe/Amsterdam:20230814T170000
DTSTAMP:20260422T110449
CREATED:20230628T142608Z
LAST-MODIFIED:20230628T143629Z
UID:1664-1692028800-1692032400@benackermans.nl
SUMMARY:• Maandag 14 augustus 2023 16:00-17:00
DESCRIPTION:Online training via zoom. Meer informatie vindt u op: Online trainingen
URL:https://benackermans.nl/event/maandag-14-augustus-2023-1600-1700/
LOCATION:Zoom\, Nederland
CATEGORIES:Online Training
ORGANIZER;CN="Ben Ackermans":MAILTO:info@benackermans.nl
END:VEVENT
BEGIN:VEVENT
DTSTART;TZID=Europe/Amsterdam:20230804T120000
DTEND;TZID=Europe/Amsterdam:20230804T130000
DTSTAMP:20260422T110449
CREATED:20230529T120336Z
LAST-MODIFIED:20230529T120341Z
UID:1641-1691150400-1691154000@benackermans.nl
SUMMARY:• Vrijdag 4 augustus 2023 12:00-13:00
DESCRIPTION:Online training via zoom. Meer informatie vindt u op: Online trainingen
URL:https://benackermans.nl/event/vrijdag-4-augustus-2023-1200-1300/
LOCATION:Zoom\, Nederland
CATEGORIES:Online Training
ORGANIZER;CN="Ben Ackermans":MAILTO:info@benackermans.nl
END:VEVENT
BEGIN:VEVENT
DTSTART;TZID=Europe/Amsterdam:20230724T160000
DTEND;TZID=Europe/Amsterdam:20230724T170000
DTSTAMP:20260422T110449
CREATED:20230529T115608Z
LAST-MODIFIED:20230529T115613Z
UID:1625-1690214400-1690218000@benackermans.nl
SUMMARY:• Maandag 24 juli 2023 16:00-17:00
DESCRIPTION:Online training via zoom. Meer informatie vindt u op: Online trainingen
URL:https://benackermans.nl/event/maandag-24-juli-2023-1600-1700/
LOCATION:Zoom\, Nederland
CATEGORIES:Online Training
ORGANIZER;CN="Ben Ackermans":MAILTO:info@benackermans.nl
END:VEVENT
BEGIN:VEVENT
DTSTART;TZID=Europe/Amsterdam:20230721T120000
DTEND;TZID=Europe/Amsterdam:20230721T130000
DTSTAMP:20260422T110449
CREATED:20230529T120037Z
LAST-MODIFIED:20230529T120058Z
UID:1639-1689940800-1689944400@benackermans.nl
SUMMARY:• Vrijdag 21 juli 2023 12:00-13:00
DESCRIPTION:Online training via zoom. Meer informatie vindt u op: Online trainingen
URL:https://benackermans.nl/event/vrijdag-21-juli-2023-1200-1300/
LOCATION:Zoom\, Nederland
CATEGORIES:Online Training
ORGANIZER;CN="Ben Ackermans":MAILTO:info@benackermans.nl
END:VEVENT
BEGIN:VEVENT
DTSTART;TZID=Europe/Amsterdam:20230717T160000
DTEND;TZID=Europe/Amsterdam:20230717T170000
DTSTAMP:20260422T110449
CREATED:20230529T115529Z
LAST-MODIFIED:20230529T115533Z
UID:1624-1689609600-1689613200@benackermans.nl
SUMMARY:• Maandag 17 juli 2023 16:00-17:00
DESCRIPTION:Online training via zoom. Meer informatie vindt u op: Online trainingen
URL:https://benackermans.nl/event/maandag-17-juli-2023-1600-1700/
LOCATION:Zoom\, Nederland
CATEGORIES:Online Training
ORGANIZER;CN="Ben Ackermans":MAILTO:info@benackermans.nl
END:VEVENT
BEGIN:VEVENT
DTSTART;TZID=Europe/Amsterdam:20230714T120000
DTEND;TZID=Europe/Amsterdam:20230714T130000
DTSTAMP:20260422T110449
CREATED:20230529T115937Z
LAST-MODIFIED:20230529T115941Z
UID:1638-1689336000-1689339600@benackermans.nl
SUMMARY:• Vrijdag 14 juli 2023 12:00-13:00
DESCRIPTION:Online training via zoom. Meer informatie vindt u op: Online trainingen
URL:https://benackermans.nl/event/vrijdag-14-juli-2023-1200-1300/
LOCATION:Zoom\, Nederland
CATEGORIES:Online Training
ORGANIZER;CN="Ben Ackermans":MAILTO:info@benackermans.nl
END:VEVENT
BEGIN:VEVENT
DTSTART;TZID=Europe/Amsterdam:20230710T160000
DTEND;TZID=Europe/Amsterdam:20230710T170000
DTSTAMP:20260422T110449
CREATED:20230529T115444Z
LAST-MODIFIED:20230529T115449Z
UID:1623-1689004800-1689008400@benackermans.nl
SUMMARY:• Maandag 10 juli 2023 16:00-17:00
DESCRIPTION:Online training via zoom. Meer informatie vindt u op: Online trainingen
URL:https://benackermans.nl/event/maandag-10-juli-2023-1600-1700/
LOCATION:Zoom\, Nederland
CATEGORIES:Online Training
ORGANIZER;CN="Ben Ackermans":MAILTO:info@benackermans.nl
END:VEVENT
BEGIN:VEVENT
DTSTART;TZID=Europe/Amsterdam:20230703T160000
DTEND;TZID=Europe/Amsterdam:20230703T170000
DTSTAMP:20260422T110449
CREATED:20230508T163548Z
LAST-MODIFIED:20230508T163555Z
UID:1590-1688400000-1688403600@benackermans.nl
SUMMARY:• Maandag 3 juli 2023 16:00-17:00
DESCRIPTION:Online training via zoom. Meer informatie vindt u op: Online trainingen
URL:https://benackermans.nl/event/maandag-3-juli-2023-1600-1700/
LOCATION:Zoom\, Nederland
CATEGORIES:Online Training
ORGANIZER;CN="Ben Ackermans":MAILTO:info@benackermans.nl
END:VEVENT
BEGIN:VEVENT
DTSTART;TZID=Europe/Amsterdam:20230602T120000
DTEND;TZID=Europe/Amsterdam:20230602T130000
DTSTAMP:20260422T110449
CREATED:20230415T120959Z
LAST-MODIFIED:20230415T121004Z
UID:1569-1685707200-1685710800@benackermans.nl
SUMMARY:• Vrijdag 2 juni 2023 12:00-13:00
DESCRIPTION:Online training via zoom. Meer informatie vindt u op: Online trainingen
URL:https://benackermans.nl/event/vrijdag-2-juni-2023-1200-1300/
LOCATION:Zoom\, Nederland
CATEGORIES:Online Training
ORGANIZER;CN="Ben Ackermans":MAILTO:info@benackermans.nl
END:VEVENT
BEGIN:VEVENT
DTSTART;TZID=Europe/Amsterdam:20230526T120000
DTEND;TZID=Europe/Amsterdam:20230526T130000
DTSTAMP:20260422T110450
CREATED:20230415T120757Z
LAST-MODIFIED:20230415T120812Z
UID:1568-1685102400-1685106000@benackermans.nl
SUMMARY:• Vrijdag 26 mei 2023 12:00-13:00
DESCRIPTION:Online training via zoom. Meer informatie vindt u op: Online trainingen
URL:https://benackermans.nl/event/vrijdag-26-mei-2023-1200-1300/
LOCATION:Zoom\, Nederland
CATEGORIES:Online Training
ORGANIZER;CN="Ben Ackermans":MAILTO:info@benackermans.nl
END:VEVENT
BEGIN:VEVENT
DTSTART;TZID=Europe/Amsterdam:20230515T160000
DTEND;TZID=Europe/Amsterdam:20230515T170000
DTSTAMP:20260422T110450
CREATED:20230415T120238Z
LAST-MODIFIED:20230415T120242Z
UID:1554-1684166400-1684170000@benackermans.nl
SUMMARY:• Maandag 15 mei 2023 16:00-17:00
DESCRIPTION:Online training via zoom. Meer informatie vindt u op: Online trainingen
URL:https://benackermans.nl/event/maandag-15-mei-2023-1600-1700/
LOCATION:Zoom\, Nederland
CATEGORIES:Online Training
ORGANIZER;CN="Ben Ackermans":MAILTO:info@benackermans.nl
END:VEVENT
BEGIN:VEVENT
DTSTART;TZID=Europe/Amsterdam:20230508T160000
DTEND;TZID=Europe/Amsterdam:20230508T170000
DTSTAMP:20260422T110450
CREATED:20230224T091218Z
LAST-MODIFIED:20230224T092042Z
UID:1489-1683561600-1683565200@benackermans.nl
SUMMARY:• Maandag 8 mei 2023 16:00-17:00
DESCRIPTION:Online training via zoom. Meer informatie vindt u op: Online trainingen
URL:https://benackermans.nl/event/maandag-8-mei-2023-1600-1700/
LOCATION:Zoom\, Nederland
CATEGORIES:Online Training
ORGANIZER;CN="Ben Ackermans":MAILTO:info@benackermans.nl
END:VEVENT
BEGIN:VEVENT
DTSTART;TZID=Europe/Amsterdam:20230414T120000
DTEND;TZID=Europe/Amsterdam:20230414T130000
DTSTAMP:20260422T110450
CREATED:20230224T092131Z
LAST-MODIFIED:20230224T092135Z
UID:1513-1681473600-1681477200@benackermans.nl
SUMMARY:• Vrijdag 14 april 2023 12:00-13:00
DESCRIPTION:Online training via zoom. Meer informatie vindt u op: Online trainingen
URL:https://benackermans.nl/event/vrijdag-14-april-2023-1200-1300/
LOCATION:Zoom\, Nederland
CATEGORIES:Online Training
ORGANIZER;CN="Ben Ackermans":MAILTO:info@benackermans.nl
END:VEVENT
BEGIN:VEVENT
DTSTART;TZID=Europe/Amsterdam:20230407T120000
DTEND;TZID=Europe/Amsterdam:20230407T130000
DTSTAMP:20260422T110450
CREATED:20230224T091932Z
LAST-MODIFIED:20230224T091936Z
UID:1510-1680868800-1680872400@benackermans.nl
SUMMARY:• Vrijdag 7 april 2023 12:00-13:00
DESCRIPTION:Online training via zoom. Meer informatie vindt u op: Online trainingen
URL:https://benackermans.nl/event/vrijdag-7-april-2023-1200-1300/
LOCATION:Zoom\, Nederland
CATEGORIES:Online Training
ORGANIZER;CN="Ben Ackermans":MAILTO:info@benackermans.nl
END:VEVENT
BEGIN:VEVENT
DTSTART;TZID=Europe/Amsterdam:20230331T120000
DTEND;TZID=Europe/Amsterdam:20230331T130000
DTSTAMP:20260422T110450
CREATED:20230224T091839Z
LAST-MODIFIED:20230224T091844Z
UID:1501-1680264000-1680267600@benackermans.nl
SUMMARY:• Vrijdag 31 maart 2023 12:00-13:00
DESCRIPTION:Online training via zoom. Meer informatie vindt u op: Online trainingen
URL:https://benackermans.nl/event/vrijdag-31-maart-2023-1200-1300/
LOCATION:Zoom\, Nederland
CATEGORIES:Online Training
ORGANIZER;CN="Ben Ackermans":MAILTO:info@benackermans.nl
END:VEVENT
BEGIN:VEVENT
DTSTART;TZID=Europe/Amsterdam:20230327T160000
DTEND;TZID=Europe/Amsterdam:20230327T170000
DTSTAMP:20260422T110450
CREATED:20230224T090654Z
LAST-MODIFIED:20230224T090659Z
UID:1474-1679932800-1679936400@benackermans.nl
SUMMARY:• Maandag 27 maart 2023 16:00-17:00
DESCRIPTION:Online training via zoom. Meer informatie vindt u op: Online trainingen
URL:https://benackermans.nl/event/maandag-27-maart-2023-1600-1700/
LOCATION:Zoom\, Nederland
CATEGORIES:Online Training
ORGANIZER;CN="Ben Ackermans":MAILTO:info@benackermans.nl
END:VEVENT
BEGIN:VEVENT
DTSTART;TZID=Europe/Amsterdam:20230324T120000
DTEND;TZID=Europe/Amsterdam:20230324T130000
DTSTAMP:20260422T110450
CREATED:20230224T091650Z
LAST-MODIFIED:20230224T091655Z
UID:1500-1679659200-1679662800@benackermans.nl
SUMMARY:• Vrijdag 24 maart 2023 12:00-13:00
DESCRIPTION:Online training via zoom. Meer informatie vindt u op: Online trainingen
URL:https://benackermans.nl/event/vrijdag-24-maart-2023-1200-1300/
LOCATION:Zoom\, Nederland
CATEGORIES:Online Training
ORGANIZER;CN="Ben Ackermans":MAILTO:info@benackermans.nl
END:VEVENT
BEGIN:VEVENT
DTSTART;TZID=Europe/Amsterdam:20230313T160000
DTEND;TZID=Europe/Amsterdam:20230313T170000
DTSTAMP:20260422T110450
CREATED:20230224T090341Z
LAST-MODIFIED:20230224T090500Z
UID:1473-1678723200-1678726800@benackermans.nl
SUMMARY:• Maandag 13 maart 2023 16:00-17:00
DESCRIPTION:Online training via zoom. Meer informatie vindt u op: Online trainingen
URL:https://benackermans.nl/event/maandag-13-maart-2023-1600-1700/
LOCATION:Zoom\, Nederland
CATEGORIES:Online Training
ORGANIZER;CN="Ben Ackermans":MAILTO:info@benackermans.nl
END:VEVENT
BEGIN:VEVENT
DTSTART;TZID=Europe/Amsterdam:20230310T120000
DTEND;TZID=Europe/Amsterdam:20230310T130000
DTSTAMP:20260422T110450
CREATED:20230224T091450Z
LAST-MODIFIED:20230224T091455Z
UID:1498-1678449600-1678453200@benackermans.nl
SUMMARY:• Vrijdag 10 maart 2023 12:00-13:00
DESCRIPTION:Online training via zoom. Meer informatie vindt u op: Online trainingen
URL:https://benackermans.nl/event/vrijdag-10-maart-2023-1200-1300/
LOCATION:Zoom\, Nederland
CATEGORIES:Online Training
ORGANIZER;CN="Ben Ackermans":MAILTO:info@benackermans.nl
END:VEVENT
BEGIN:VEVENT
DTSTART;TZID=Europe/Amsterdam:20230303T120000
DTEND;TZID=Europe/Amsterdam:20230303T130000
DTSTAMP:20260422T110450
CREATED:20221219T182418Z
LAST-MODIFIED:20221219T182423Z
UID:1413-1677844800-1677848400@benackermans.nl
SUMMARY:• Vrijdag 3 maart 2023 12:00-13:00
DESCRIPTION:Online training via zoom. Meer informatie vindt u op: Online trainingen
URL:https://benackermans.nl/event/vrijdag-3-maart-2023-1200-1300/
LOCATION:Zoom\, Nederland
CATEGORIES:Online Training
ORGANIZER;CN="Ben Ackermans":MAILTO:info@benackermans.nl
END:VEVENT
BEGIN:VEVENT
DTSTART;TZID=Europe/Amsterdam:20230227T160000
DTEND;TZID=Europe/Amsterdam:20230227T170000
DTSTAMP:20260422T110450
CREATED:20221219T182733Z
LAST-MODIFIED:20230130T103232Z
UID:1424-1677513600-1677517200@benackermans.nl
SUMMARY:• Maandag 27 februari 2023 16:00-17:00
DESCRIPTION:Online training via zoom. Meer informatie vindt u op: Online trainingen
URL:https://benackermans.nl/event/maandag-27-februari-2023-1600-1700/
LOCATION:Zoom\, Nederland
CATEGORIES:Online Training
ORGANIZER;CN="Ben Ackermans":MAILTO:info@benackermans.nl
END:VEVENT
BEGIN:VEVENT
DTSTART;TZID=Europe/Amsterdam:20230224T120000
DTEND;TZID=Europe/Amsterdam:20230224T130000
DTSTAMP:20260422T110450
CREATED:20221219T182243Z
LAST-MODIFIED:20221219T182248Z
UID:1411-1677240000-1677243600@benackermans.nl
SUMMARY:• Vrijdag 24 februari 2023 12:00-13:00
DESCRIPTION:Online training via zoom. Meer informatie vindt u op: Online trainingen
URL:https://benackermans.nl/event/vrijdag-24-februari-2023-1200-1300/
LOCATION:Zoom\, Nederland
CATEGORIES:Online Training
ORGANIZER;CN="Ben Ackermans":MAILTO:info@benackermans.nl
END:VEVENT
BEGIN:VEVENT
DTSTART;TZID=Europe/Amsterdam:20230217T120000
DTEND;TZID=Europe/Amsterdam:20230217T130000
DTSTAMP:20260422T110450
CREATED:20221219T181127Z
LAST-MODIFIED:20221219T182111Z
UID:1390-1676635200-1676638800@benackermans.nl
SUMMARY:• Vrijdag 17 februari 2023 12:00-13:00
DESCRIPTION:Online training via zoom. Meer informatie vindt u op: Online trainingen
URL:https://benackermans.nl/event/vrijdag-3-februari-2023-1200-1300/
LOCATION:Zoom\, Nederland
CATEGORIES:Online Training
ORGANIZER;CN="Ben Ackermans":MAILTO:info@benackermans.nl
END:VEVENT
BEGIN:VEVENT
DTSTART;TZID=Europe/Amsterdam:20230213T160000
DTEND;TZID=Europe/Amsterdam:20230213T170000
DTSTAMP:20260422T110450
CREATED:20221219T182551Z
LAST-MODIFIED:20221219T182556Z
UID:1422-1676304000-1676307600@benackermans.nl
SUMMARY:• Maandag 13 februari 2023 16:00-17:00
DESCRIPTION:Online training via zoom. Meer informatie vindt u op: Online trainingen
URL:https://benackermans.nl/event/maandag-13-februari-2023-1600-1700/
LOCATION:Zoom\, Nederland
CATEGORIES:Online Training
ORGANIZER;CN="Ben Ackermans":MAILTO:info@benackermans.nl
END:VEVENT
END:VCALENDAR