BEGIN:VCALENDAR
VERSION:2.0
PRODID:-//Ben Ackermans - ECPv6.15.20//NONSGML v1.0//EN
CALSCALE:GREGORIAN
METHOD:PUBLISH
X-WR-CALNAME:Ben Ackermans
X-ORIGINAL-URL:https://benackermans.nl
X-WR-CALDESC:Evenementen voor Ben Ackermans
REFRESH-INTERVAL;VALUE=DURATION:PT1H
X-Robots-Tag:noindex
X-PUBLISHED-TTL:PT1H
BEGIN:VTIMEZONE
TZID:Europe/Amsterdam
BEGIN:DAYLIGHT
TZOFFSETFROM:+0100
TZOFFSETTO:+0200
TZNAME:CEST
DTSTART:20200329T010000
END:DAYLIGHT
BEGIN:STANDARD
TZOFFSETFROM:+0200
TZOFFSETTO:+0100
TZNAME:CET
DTSTART:20201025T010000
END:STANDARD
BEGIN:DAYLIGHT
TZOFFSETFROM:+0100
TZOFFSETTO:+0200
TZNAME:CEST
DTSTART:20210328T010000
END:DAYLIGHT
BEGIN:STANDARD
TZOFFSETFROM:+0200
TZOFFSETTO:+0100
TZNAME:CET
DTSTART:20211031T010000
END:STANDARD
BEGIN:DAYLIGHT
TZOFFSETFROM:+0100
TZOFFSETTO:+0200
TZNAME:CEST
DTSTART:20220327T010000
END:DAYLIGHT
BEGIN:STANDARD
TZOFFSETFROM:+0200
TZOFFSETTO:+0100
TZNAME:CET
DTSTART:20221030T010000
END:STANDARD
BEGIN:DAYLIGHT
TZOFFSETFROM:+0100
TZOFFSETTO:+0200
TZNAME:CEST
DTSTART:20230326T010000
END:DAYLIGHT
BEGIN:STANDARD
TZOFFSETFROM:+0200
TZOFFSETTO:+0100
TZNAME:CET
DTSTART:20231029T010000
END:STANDARD
END:VTIMEZONE
BEGIN:VEVENT
DTSTART;TZID=Europe/Amsterdam:20220328T160000
DTEND;TZID=Europe/Amsterdam:20220328T170000
DTSTAMP:20260422T225841
CREATED:20220131T091605Z
LAST-MODIFIED:20220131T091609Z
UID:1011-1648483200-1648486800@benackermans.nl
SUMMARY:• Maandag 28 maart 2022 16:00-17:00
DESCRIPTION:Online training via zoom. Meer informatie vindt u op: Online trainingen
URL:https://benackermans.nl/event/maandag-28-maart-2022-1600-1700/
LOCATION:Zoom\, Nederland
CATEGORIES:Online Training
ORGANIZER;CN="Ben Ackermans":MAILTO:info@benackermans.nl
END:VEVENT
BEGIN:VEVENT
DTSTART;TZID=Europe/Amsterdam:20220314T160000
DTEND;TZID=Europe/Amsterdam:20220314T170000
DTSTAMP:20260422T225841
CREATED:20220131T091433Z
LAST-MODIFIED:20220131T091437Z
UID:1009-1647273600-1647277200@benackermans.nl
SUMMARY:• Maandag 14 maart 2022 16:00-17:00
DESCRIPTION:Online training via zoom. Meer informatie vindt u op: Online trainingen
URL:https://benackermans.nl/event/maandag-14-maart-2022-1600-1700/
LOCATION:Zoom\, Nederland
CATEGORIES:Online Training
ORGANIZER;CN="Ben Ackermans":MAILTO:info@benackermans.nl
END:VEVENT
BEGIN:VEVENT
DTSTART;TZID=Europe/Amsterdam:20220311T120000
DTEND;TZID=Europe/Amsterdam:20220311T130000
DTSTAMP:20260422T225841
CREATED:20220131T091806Z
LAST-MODIFIED:20220131T091945Z
UID:1023-1647000000-1647003600@benackermans.nl
SUMMARY:• Vrijdag 11 maart 2022 12:00-13:00
DESCRIPTION:Online training via zoom. Meer informatie vindt u op: Online trainingen
URL:https://benackermans.nl/event/vrijdag-11-maart-2022-1200-1300/
LOCATION:Zoom\, Nederland
CATEGORIES:Online Training
ORGANIZER;CN="Ben Ackermans":MAILTO:info@benackermans.nl
END:VEVENT
BEGIN:VEVENT
DTSTART;TZID=Europe/Amsterdam:20220307T160000
DTEND;TZID=Europe/Amsterdam:20220307T170000
DTSTAMP:20260422T225841
CREATED:20220131T091333Z
LAST-MODIFIED:20220131T091337Z
UID:1008-1646668800-1646672400@benackermans.nl
SUMMARY:• Maandag 7 maart 2022 16:00-17:00
DESCRIPTION:Online training via zoom. Meer informatie vindt u op: Online trainingen
URL:https://benackermans.nl/event/maandag-7-maart-2022-1600-1700/
LOCATION:Zoom\, Nederland
CATEGORIES:Online Training
ORGANIZER;CN="Ben Ackermans":MAILTO:info@benackermans.nl
END:VEVENT
BEGIN:VEVENT
DTSTART;TZID=Europe/Amsterdam:20220304T120000
DTEND;TZID=Europe/Amsterdam:20220304T130000
DTSTAMP:20260422T225841
CREATED:20220131T091650Z
LAST-MODIFIED:20220131T091653Z
UID:1020-1646395200-1646398800@benackermans.nl
SUMMARY:• Vrijdag 4 maart 2022 12:00-13:00
DESCRIPTION:Online training via zoom. Meer informatie vindt u op: Online trainingen
URL:https://benackermans.nl/event/vrijdag-4-maart-2022-1200-1300/
LOCATION:Zoom\, Nederland
CATEGORIES:Online Training
ORGANIZER;CN="Ben Ackermans":MAILTO:info@benackermans.nl
END:VEVENT
BEGIN:VEVENT
DTSTART;TZID=Europe/Amsterdam:20220225T120000
DTEND;TZID=Europe/Amsterdam:20220225T130000
DTSTAMP:20260422T225841
CREATED:20220103T100206Z
LAST-MODIFIED:20220103T100402Z
UID:988-1645790400-1645794000@benackermans.nl
SUMMARY:• Vrijdag 25 februari 2022 12:00-13:00
DESCRIPTION:Online training via zoom. Meer informatie vindt u op: Online trainingen
URL:https://benackermans.nl/event/vrijdag-25-februari-2022-1200-1300/
LOCATION:Zoom\, Nederland
CATEGORIES:Online Training
ORGANIZER;CN="Ben Ackermans":MAILTO:info@benackermans.nl
END:VEVENT
BEGIN:VEVENT
DTSTART;TZID=Europe/Amsterdam:20220218T120000
DTEND;TZID=Europe/Amsterdam:20220218T130000
DTSTAMP:20260422T225841
CREATED:20220103T100315Z
LAST-MODIFIED:20220103T100320Z
UID:987-1645185600-1645189200@benackermans.nl
SUMMARY:• Vrijdag 18 februari 2022 12:00-13:00
DESCRIPTION:Online training via zoom. Meer informatie vindt u op: Online trainingen
URL:https://benackermans.nl/event/vrijdag-18-februari-2022-1200-1300/
LOCATION:Zoom\, Nederland
CATEGORIES:Online Training
ORGANIZER;CN="Ben Ackermans":MAILTO:info@benackermans.nl
END:VEVENT
BEGIN:VEVENT
DTSTART;TZID=Europe/Amsterdam:20220214T160000
DTEND;TZID=Europe/Amsterdam:20220214T170000
DTSTAMP:20260422T225841
CREATED:20220103T100513Z
LAST-MODIFIED:20220103T100516Z
UID:994-1644854400-1644858000@benackermans.nl
SUMMARY:• Maandag 14 februari 2022 16:00-17:00
DESCRIPTION:Online training via zoom. Meer informatie vindt u op: Online trainingen
URL:https://benackermans.nl/event/maandag-14-februari-2022-1600-1700/
LOCATION:Zoom\, Nederland
CATEGORIES:Online Training
ORGANIZER;CN="Ben Ackermans":MAILTO:info@benackermans.nl
END:VEVENT
BEGIN:VEVENT
DTSTART;TZID=Europe/Amsterdam:20220211T120000
DTEND;TZID=Europe/Amsterdam:20220211T130000
DTSTAMP:20260422T225841
CREATED:20220103T100234Z
LAST-MODIFIED:20220103T100238Z
UID:986-1644580800-1644584400@benackermans.nl
SUMMARY:• Vrijdag 11 februari 2022 12:00-13:00
DESCRIPTION:Online training via zoom. Meer informatie vindt u op: Online trainingen
URL:https://benackermans.nl/event/vrijdag-11-februari-2022-1200-1300/
LOCATION:Zoom\, Nederland
CATEGORIES:Online Training
ORGANIZER;CN="Ben Ackermans":MAILTO:info@benackermans.nl
END:VEVENT
BEGIN:VEVENT
DTSTART;TZID=Europe/Amsterdam:20220207T160000
DTEND;TZID=Europe/Amsterdam:20220207T170000
DTSTAMP:20260422T225841
CREATED:20220103T100134Z
LAST-MODIFIED:20220103T100138Z
UID:983-1644249600-1644253200@benackermans.nl
SUMMARY:• Maandag 7 februari 2022 16:00-17:00
DESCRIPTION:Online training via zoom. Meer informatie vindt u op: Online trainingen
URL:https://benackermans.nl/event/maandag-7-februari-2022-1600-1700/
LOCATION:Zoom\, Nederland
CATEGORIES:Online Training
ORGANIZER;CN="Ben Ackermans":MAILTO:info@benackermans.nl
END:VEVENT
BEGIN:VEVENT
DTSTART;TZID=Europe/Amsterdam:20220128T120000
DTEND;TZID=Europe/Amsterdam:20220128T130000
DTSTAMP:20260422T225841
CREATED:20211210T081614Z
LAST-MODIFIED:20211210T081618Z
UID:951-1643371200-1643374800@benackermans.nl
SUMMARY:• Vrijdag 28 januari 2022 12:00-13:00
DESCRIPTION:Online training via zoom. Meer informatie vindt u op: Online trainingen
URL:https://benackermans.nl/event/vrijdag-28-januari-2022-1200-1300/
LOCATION:Zoom\, Nederland
CATEGORIES:Online Training
ORGANIZER;CN="Ben Ackermans":MAILTO:info@benackermans.nl
END:VEVENT
BEGIN:VEVENT
DTSTART;TZID=Europe/Amsterdam:20220124T160000
DTEND;TZID=Europe/Amsterdam:20220124T170000
DTSTAMP:20260422T225841
CREATED:20211210T081736Z
LAST-MODIFIED:20211210T081740Z
UID:965-1643040000-1643043600@benackermans.nl
SUMMARY:• Maandag 24 januari 2022 16:00-17:00
DESCRIPTION:Online training via zoom. Meer informatie vindt u op: Online trainingen
URL:https://benackermans.nl/event/maandag-24-januari-2022-1600-1700/
LOCATION:Zoom\, Nederland
CATEGORIES:Online Training
ORGANIZER;CN="Ben Ackermans":MAILTO:info@benackermans.nl
END:VEVENT
BEGIN:VEVENT
DTSTART;TZID=Europe/Amsterdam:20220121T120000
DTEND;TZID=Europe/Amsterdam:20220121T130000
DTSTAMP:20260422T225841
CREATED:20211210T081429Z
LAST-MODIFIED:20211210T081433Z
UID:950-1642766400-1642770000@benackermans.nl
SUMMARY:• Vrijdag 21 januari 2022 12:00-13:00
DESCRIPTION:Online training via zoom. Meer informatie vindt u op: Online trainingen
URL:https://benackermans.nl/event/vrijdag-21-januari-2022-1200-1300/
LOCATION:Zoom\, Nederland
CATEGORIES:Online Training
ORGANIZER;CN="Ben Ackermans":MAILTO:info@benackermans.nl
END:VEVENT
BEGIN:VEVENT
DTSTART;TZID=Europe/Amsterdam:20220117T160000
DTEND;TZID=Europe/Amsterdam:20220117T170000
DTSTAMP:20260422T225841
CREATED:20211210T081700Z
LAST-MODIFIED:20211210T081704Z
UID:964-1642435200-1642438800@benackermans.nl
SUMMARY:• Maandag 17 januari 2022 16:00-17:00
DESCRIPTION:Online training via zoom. Meer informatie vindt u op: Online trainingen
URL:https://benackermans.nl/event/maandag-17-januari-2022-1600-1700/
LOCATION:Zoom\, Nederland
CATEGORIES:Online Training
ORGANIZER;CN="Ben Ackermans":MAILTO:info@benackermans.nl
END:VEVENT
BEGIN:VEVENT
DTSTART;TZID=Europe/Amsterdam:20220114T120000
DTEND;TZID=Europe/Amsterdam:20220114T130000
DTSTAMP:20260422T225841
CREATED:20211210T081345Z
LAST-MODIFIED:20211210T081349Z
UID:949-1642161600-1642165200@benackermans.nl
SUMMARY:• Vrijdag 14 januari 2022 12:00-13:00
DESCRIPTION:Online training via zoom. Meer informatie vindt u op: Online trainingen
URL:https://benackermans.nl/event/vrijdag-14-januari-2022-1200-1300/
LOCATION:Zoom\, Nederland
CATEGORIES:Online Training
ORGANIZER;CN="Ben Ackermans":MAILTO:info@benackermans.nl
END:VEVENT
BEGIN:VEVENT
DTSTART;TZID=Europe/Amsterdam:20220107T120000
DTEND;TZID=Europe/Amsterdam:20220107T130000
DTSTAMP:20260422T225841
CREATED:20211110T110039Z
LAST-MODIFIED:20211110T110043Z
UID:897-1641556800-1641560400@benackermans.nl
SUMMARY:• Vrijdag 7 januari 2022 12:00-13:00
DESCRIPTION:Online training via zoom. Meer informatie vindt u op: Online trainingen
URL:https://benackermans.nl/event/vrijdag-7-januari-2022-1200-1300/
LOCATION:Zoom\, Nederland
CATEGORIES:Online Training
ORGANIZER;CN="Ben Ackermans":MAILTO:info@benackermans.nl
END:VEVENT
BEGIN:VEVENT
DTSTART;TZID=Europe/Amsterdam:20211231T120000
DTEND;TZID=Europe/Amsterdam:20211231T130000
DTSTAMP:20260422T225841
CREATED:20211110T105739Z
LAST-MODIFIED:20211110T105823Z
UID:896-1640952000-1640955600@benackermans.nl
SUMMARY:• Vrijdag 31 december 2021 12:00-13:00
DESCRIPTION:Online training via zoom. Meer informatie vindt u op: Online trainingen
URL:https://benackermans.nl/event/vrijdag-31-december-2021-1200-1300/
LOCATION:Zoom\, Nederland
CATEGORIES:Online Training
ORGANIZER;CN="Ben Ackermans":MAILTO:info@benackermans.nl
END:VEVENT
BEGIN:VEVENT
DTSTART;TZID=Europe/Amsterdam:20211227T160000
DTEND;TZID=Europe/Amsterdam:20211227T170000
DTSTAMP:20260422T225841
CREATED:20211110T105610Z
LAST-MODIFIED:20211227T140748Z
UID:904-1640620800-1640624400@benackermans.nl
SUMMARY:• Maandag 27 december 2021 16:00-17:00
DESCRIPTION:Online training via zoom. Meer informatie vindt u op: Online trainingen
URL:https://benackermans.nl/event/maandag-27-december-2021-1600-1700/
LOCATION:Zoom\, Nederland
CATEGORIES:Online Training
ORGANIZER;CN="Ben Ackermans":MAILTO:info@benackermans.nl
END:VEVENT
BEGIN:VEVENT
DTSTART;TZID=Europe/Amsterdam:20211224T120000
DTEND;TZID=Europe/Amsterdam:20211224T130000
DTSTAMP:20260422T225841
CREATED:20211110T105524Z
LAST-MODIFIED:20211110T105528Z
UID:894-1640347200-1640350800@benackermans.nl
SUMMARY:• Vrijdag 24 december 2021 12:00-13:00
DESCRIPTION:Online training via zoom. Meer informatie vindt u op: Online trainingen
URL:https://benackermans.nl/event/vrijdag-24-december-2021-1200-1300/
LOCATION:Zoom\, Nederland
CATEGORIES:Online Training
ORGANIZER;CN="Ben Ackermans":MAILTO:info@benackermans.nl
END:VEVENT
BEGIN:VEVENT
DTSTART;TZID=Europe/Amsterdam:20211220T160000
DTEND;TZID=Europe/Amsterdam:20211220T170000
DTSTAMP:20260422T225841
CREATED:20211110T105425Z
LAST-MODIFIED:20211110T105429Z
UID:903-1640016000-1640019600@benackermans.nl
SUMMARY:• Maandag 20 december 2021 16:00-17:00
DESCRIPTION:Online training via zoom. Meer informatie vindt u op: Online trainingen
URL:https://benackermans.nl/event/maandag-20-december-2021-1600-1700/
LOCATION:Zoom\, Nederland
CATEGORIES:Online Training
ORGANIZER;CN="Ben Ackermans":MAILTO:info@benackermans.nl
END:VEVENT
BEGIN:VEVENT
DTSTART;TZID=Europe/Amsterdam:20211213T160000
DTEND;TZID=Europe/Amsterdam:20211220T170000
DTSTAMP:20260422T225841
CREATED:20211110T105106Z
LAST-MODIFIED:20211110T105110Z
UID:902-1639411200-1640019600@benackermans.nl
SUMMARY:• Maandag 13 december 2021 16:00-17:00
DESCRIPTION:Online training via zoom. Meer informatie vindt u op: Online trainingen
URL:https://benackermans.nl/event/maandag-13-december-2021-1600-1700/
LOCATION:Zoom\, Nederland
CATEGORIES:Online Training
ORGANIZER;CN="Ben Ackermans":MAILTO:info@benackermans.nl
END:VEVENT
BEGIN:VEVENT
DTSTART;TZID=Europe/Amsterdam:20211210T120000
DTEND;TZID=Europe/Amsterdam:20211210T130000
DTSTAMP:20260422T225841
CREATED:20211110T104853Z
LAST-MODIFIED:20211110T104940Z
UID:893-1639137600-1639141200@benackermans.nl
SUMMARY:• Vrijdag 10 december 2021 12:00-13:00
DESCRIPTION:Online training via zoom. Meer informatie vindt u op: Online trainingen
URL:https://benackermans.nl/event/vrijdag-3-december-2021-1200-1300/
LOCATION:Zoom\, Nederland
CATEGORIES:Online Training
ORGANIZER;CN="Ben Ackermans":MAILTO:info@benackermans.nl
END:VEVENT
BEGIN:VEVENT
DTSTART;TZID=Europe/Amsterdam:20211206T160000
DTEND;TZID=Europe/Amsterdam:20211206T170000
DTSTAMP:20260422T225841
CREATED:20211110T104805Z
LAST-MODIFIED:20211110T104810Z
UID:892-1638806400-1638810000@benackermans.nl
SUMMARY:• Maandag 6 december 2021 16:00-17:00
DESCRIPTION:Online training via zoom. Meer informatie vindt u op: Online trainingen
URL:https://benackermans.nl/event/maandag-6-december-2021-1600-1700/
LOCATION:Zoom\, Nederland
CATEGORIES:Online Training
ORGANIZER;CN="Ben Ackermans":MAILTO:info@benackermans.nl
END:VEVENT
BEGIN:VEVENT
DTSTART;TZID=Europe/Amsterdam:20211203T120000
DTEND;TZID=Europe/Amsterdam:20211203T130000
DTSTAMP:20260422T225841
CREATED:20211018T110548Z
LAST-MODIFIED:20211018T110608Z
UID:855-1638532800-1638536400@benackermans.nl
SUMMARY:• Vrijdag 3 december 2021 12:00-13:00
DESCRIPTION:Online training via zoom. Meer informatie vindt u op: Online trainingen
URL:https://benackermans.nl/event/vrijdag-1-december-2021-1200-1300/
LOCATION:Zoom\, Nederland
CATEGORIES:Online Training
ORGANIZER;CN="Ben Ackermans":MAILTO:info@benackermans.nl
END:VEVENT
BEGIN:VEVENT
DTSTART;TZID=Europe/Amsterdam:20211129T160000
DTEND;TZID=Europe/Amsterdam:20211129T170000
DTSTAMP:20260422T225841
CREATED:20211018T110957Z
LAST-MODIFIED:20211018T111003Z
UID:881-1638201600-1638205200@benackermans.nl
SUMMARY:• Maandag 29 november 2021 16:00-17:00
DESCRIPTION:Online training via zoom. Meer informatie vindt u op: Online trainingen
URL:https://benackermans.nl/event/maandag-29-november-2021-1600-1700/
LOCATION:Zoom\, Nederland
CATEGORIES:Online Training
ORGANIZER;CN="Ben Ackermans":MAILTO:info@benackermans.nl
END:VEVENT
BEGIN:VEVENT
DTSTART;TZID=Europe/Amsterdam:20211126T120000
DTEND;TZID=Europe/Amsterdam:20211126T130000
DTSTAMP:20260422T225841
CREATED:20211018T110452Z
LAST-MODIFIED:20211018T110654Z
UID:854-1637928000-1637931600@benackermans.nl
SUMMARY:• Vrijdag 26 november 2021 12:00-13:00
DESCRIPTION:Online training via zoom. Meer informatie vindt u op: Online trainingen
URL:https://benackermans.nl/event/vrijdag-24-november-2021-1200-1300/
LOCATION:Zoom\, Nederland
CATEGORIES:Online Training
ORGANIZER;CN="Ben Ackermans":MAILTO:info@benackermans.nl
END:VEVENT
BEGIN:VEVENT
DTSTART;TZID=Europe/Amsterdam:20211122T160000
DTEND;TZID=Europe/Amsterdam:20211122T170000
DTSTAMP:20260422T225841
CREATED:20211018T110058Z
LAST-MODIFIED:20211018T110102Z
UID:863-1637596800-1637600400@benackermans.nl
SUMMARY:• Maandag 22 november 2021 16:00-17:00
DESCRIPTION:Online training via zoom. Meer informatie vindt u op: Online trainingen
URL:https://benackermans.nl/event/maandag-22-november-2021-1600-1700/
LOCATION:Zoom\, Nederland
CATEGORIES:Online Training
ORGANIZER;CN="Ben Ackermans":MAILTO:info@benackermans.nl
END:VEVENT
BEGIN:VEVENT
DTSTART;TZID=Europe/Amsterdam:20211119T120000
DTEND;TZID=Europe/Amsterdam:20211119T130000
DTSTAMP:20260422T225841
CREATED:20211018T110414Z
LAST-MODIFIED:20211018T110732Z
UID:853-1637323200-1637326800@benackermans.nl
SUMMARY:• Vrijdag 19 november 2021 12:00-13:00
DESCRIPTION:Online training via zoom. Meer informatie vindt u op: Online trainingen
URL:https://benackermans.nl/event/vrijdag-17-november-2021-1200-1300/
LOCATION:Zoom\, Nederland
CATEGORIES:Online Training
ORGANIZER;CN="Ben Ackermans":MAILTO:info@benackermans.nl
END:VEVENT
BEGIN:VEVENT
DTSTART;TZID=Europe/Amsterdam:20211108T160000
DTEND;TZID=Europe/Amsterdam:20211108T170000
DTSTAMP:20260422T225841
CREATED:20211018T105708Z
LAST-MODIFIED:20211018T105805Z
UID:850-1636387200-1636390800@benackermans.nl
SUMMARY:• Maandag 8 november 2021 16:00-17:00
DESCRIPTION:Online training via zoom. Meer informatie vindt u op: Online trainingen
URL:https://benackermans.nl/event/maandag-8-november-2021-1600-1700/
LOCATION:Zoom\, Nederland
CATEGORIES:Online Training
ORGANIZER;CN="Ben Ackermans":MAILTO:info@benackermans.nl
END:VEVENT
BEGIN:VEVENT
DTSTART;TZID=Europe/Amsterdam:20211105T120000
DTEND;TZID=Europe/Amsterdam:20211105T130000
DTSTAMP:20260422T225841
CREATED:20211018T110148Z
LAST-MODIFIED:20211018T110918Z
UID:849-1636113600-1636117200@benackermans.nl
SUMMARY:• Vrijdag 5 november 2021 12:00-13:00
DESCRIPTION:Online training via zoom. Meer informatie vindt u op: Online trainingen
URL:https://benackermans.nl/event/vrijdag-3-november-2021-1200-1300/
LOCATION:Zoom\, Nederland
CATEGORIES:Online Training
ORGANIZER;CN="Ben Ackermans":MAILTO:info@benackermans.nl
END:VEVENT
END:VCALENDAR