BEGIN:VCALENDAR
VERSION:2.0
PRODID:-//Ben Ackermans - ECPv6.15.20//NONSGML v1.0//EN
CALSCALE:GREGORIAN
METHOD:PUBLISH
X-ORIGINAL-URL:https://benackermans.nl
X-WR-CALDESC:Evenementen voor Ben Ackermans
REFRESH-INTERVAL;VALUE=DURATION:PT1H
X-Robots-Tag:noindex
X-PUBLISHED-TTL:PT1H
BEGIN:VTIMEZONE
TZID:Europe/Amsterdam
BEGIN:DAYLIGHT
TZOFFSETFROM:+0100
TZOFFSETTO:+0200
TZNAME:CEST
DTSTART:20200329T010000
END:DAYLIGHT
BEGIN:STANDARD
TZOFFSETFROM:+0200
TZOFFSETTO:+0100
TZNAME:CET
DTSTART:20201025T010000
END:STANDARD
BEGIN:DAYLIGHT
TZOFFSETFROM:+0100
TZOFFSETTO:+0200
TZNAME:CEST
DTSTART:20210328T010000
END:DAYLIGHT
BEGIN:STANDARD
TZOFFSETFROM:+0200
TZOFFSETTO:+0100
TZNAME:CET
DTSTART:20211031T010000
END:STANDARD
BEGIN:DAYLIGHT
TZOFFSETFROM:+0100
TZOFFSETTO:+0200
TZNAME:CEST
DTSTART:20220327T010000
END:DAYLIGHT
BEGIN:STANDARD
TZOFFSETFROM:+0200
TZOFFSETTO:+0100
TZNAME:CET
DTSTART:20221030T010000
END:STANDARD
END:VTIMEZONE
BEGIN:VEVENT
DTSTART;TZID=Europe/Amsterdam:20211001T120000
DTEND;TZID=Europe/Amsterdam:20211001T130000
DTSTAMP:20260423T042130
CREATED:20210823T091153Z
LAST-MODIFIED:20210823T091157Z
UID:808-1633089600-1633093200@benackermans.nl
SUMMARY:• Vrijdag 1 oktober 2021 12:00-13:00
DESCRIPTION:Online training via zoom. Meer informatie vindt u op: Online trainingen
URL:https://benackermans.nl/event/vrijdag-1-oktober-2021-1200-1300/
LOCATION:Zoom\, Nederland
CATEGORIES:Online Training
ORGANIZER;CN="Ben Ackermans":MAILTO:info@benackermans.nl
END:VEVENT
BEGIN:VEVENT
DTSTART;TZID=Europe/Amsterdam:20210927T160000
DTEND;TZID=Europe/Amsterdam:20210927T170000
DTSTAMP:20260423T042130
CREATED:20210823T091007Z
LAST-MODIFIED:20210823T091011Z
UID:810-1632758400-1632762000@benackermans.nl
SUMMARY:• Maandag 27 september 2021 16:00-17:00
DESCRIPTION:Online training via zoom. Meer informatie vindt u op: Online trainingen
URL:https://benackermans.nl/event/maandag-27-september-2021-1600-1700/
LOCATION:Zoom\, Nederland
CATEGORIES:Online Training
ORGANIZER;CN="Ben Ackermans":MAILTO:info@benackermans.nl
END:VEVENT
BEGIN:VEVENT
DTSTART;TZID=Europe/Amsterdam:20210924T120000
DTEND;TZID=Europe/Amsterdam:20210924T130000
DTSTAMP:20260423T042130
CREATED:20210823T090907Z
LAST-MODIFIED:20210823T090910Z
UID:807-1632484800-1632488400@benackermans.nl
SUMMARY:• Vrijdag 24 september 2021 12:00-13:00
DESCRIPTION:Online training via zoom. Meer informatie vindt u op: Online trainingen
URL:https://benackermans.nl/event/vrijdag-24-september-2021-1200-1300/
LOCATION:Zoom\, Nederland
CATEGORIES:Online Training
ORGANIZER;CN="Ben Ackermans":MAILTO:info@benackermans.nl
END:VEVENT
BEGIN:VEVENT
DTSTART;TZID=Europe/Amsterdam:20210910T120000
DTEND;TZID=Europe/Amsterdam:20210910T130000
DTSTAMP:20260423T042130
CREATED:20210823T090520Z
LAST-MODIFIED:20210823T090523Z
UID:805-1631275200-1631278800@benackermans.nl
SUMMARY:• Vrijdag 10 september 2021 12:00-13:00
DESCRIPTION:Online training via zoom. Meer informatie vindt u op: Online trainingen
URL:https://benackermans.nl/event/vrijdag-10-september-2021-1200-1300-2/
LOCATION:Zoom\, Nederland
CATEGORIES:Online Training
ORGANIZER;CN="Ben Ackermans":MAILTO:info@benackermans.nl
END:VEVENT
BEGIN:VEVENT
DTSTART;TZID=Europe/Amsterdam:20210906T160000
DTEND;TZID=Europe/Amsterdam:20210906T170000
DTSTAMP:20260423T042130
CREATED:20210730T112427Z
LAST-MODIFIED:20210730T112430Z
UID:793-1630944000-1630947600@benackermans.nl
SUMMARY:• Maandag 6 september 2021 16:00-17:00
DESCRIPTION:Online training via zoom. Meer informatie vindt u op: Online trainingen
URL:https://benackermans.nl/event/maandag-6-september-2021-1600-1700/
LOCATION:Zoom\, Nederland
CATEGORIES:Online Training
ORGANIZER;CN="Ben Ackermans":MAILTO:info@benackermans.nl
END:VEVENT
BEGIN:VEVENT
DTSTART;TZID=Europe/Amsterdam:20210903T120000
DTEND;TZID=Europe/Amsterdam:20210903T130000
DTSTAMP:20260423T042130
CREATED:20210725T110531Z
LAST-MODIFIED:20210725T110651Z
UID:775-1630670400-1630674000@benackermans.nl
SUMMARY:• Vrijdag 3 september 2021 12:00-13:00
DESCRIPTION:Online training via zoom. Meer informatie vindt u op: Online trainingen
URL:https://benackermans.nl/event/vrijdag-27-augustus2021-1200-1300/
LOCATION:Zoom\, Nederland
CATEGORIES:Online Training
ORGANIZER;CN="Ben Ackermans":MAILTO:info@benackermans.nl
END:VEVENT
BEGIN:VEVENT
DTSTART;TZID=Europe/Amsterdam:20210830T160000
DTEND;TZID=Europe/Amsterdam:20210830T160000
DTSTAMP:20260423T042130
CREATED:20210725T110557Z
LAST-MODIFIED:20210725T110616Z
UID:778-1630339200-1630339200@benackermans.nl
SUMMARY:• Maandag 30 augustus 2021 16:00-17:00
DESCRIPTION:Online training via zoom. Meer informatie vindt u op: Online trainingen
URL:https://benackermans.nl/event/maandag-16-augustus-2021-1600-1700-2/
LOCATION:Zoom\, Nederland
CATEGORIES:Online Training
ORGANIZER;CN="Ben Ackermans":MAILTO:info@benackermans.nl
END:VEVENT
BEGIN:VEVENT
DTSTART;TZID=Europe/Amsterdam:20210827T120000
DTEND;TZID=Europe/Amsterdam:20210827T130000
DTSTAMP:20260423T042130
CREATED:20210725T110842Z
LAST-MODIFIED:20210725T110845Z
UID:776-1630065600-1630069200@benackermans.nl
SUMMARY:• Vrijdag 27 augustus 2021 12:00-13:00
DESCRIPTION:Online training via zoom. Meer informatie vindt u op: Online trainingen
URL:https://benackermans.nl/event/vrijdag-27-augustus-2021-1200-1300/
LOCATION:Zoom\, Nederland
CATEGORIES:Online Training
ORGANIZER;CN="Ben Ackermans":MAILTO:info@benackermans.nl
END:VEVENT
BEGIN:VEVENT
DTSTART;TZID=Europe/Amsterdam:20210820T120000
DTEND;TZID=Europe/Amsterdam:20210820T130000
DTSTAMP:20260423T042130
CREATED:20210718T172232Z
LAST-MODIFIED:20210725T110947Z
UID:763-1629460800-1629464400@benackermans.nl
SUMMARY:• Vrijdag 20 augustus 2021 12:00-13:00
DESCRIPTION:Online training via zoom. Meer informatie vindt u op: Online trainingen
URL:https://benackermans.nl/event/vrijdag-20-augustus2021-1200-1300/
LOCATION:Zoom\, Nederland
CATEGORIES:Online Training
ORGANIZER;CN="Ben Ackermans":MAILTO:info@benackermans.nl
END:VEVENT
BEGIN:VEVENT
DTSTART;TZID=Europe/Amsterdam:20210816T160000
DTEND;TZID=Europe/Amsterdam:20210816T160000
DTSTAMP:20260423T042130
CREATED:20210718T172115Z
LAST-MODIFIED:20210718T172118Z
UID:764-1629129600-1629129600@benackermans.nl
SUMMARY:• Maandag 16 augustus 2021 16:00-17:00
DESCRIPTION:Online training via zoom. Meer informatie vindt u op: Online trainingen
URL:https://benackermans.nl/event/maandag-16-augustus-2021-1600-1700/
LOCATION:Zoom\, Nederland
CATEGORIES:Online Training
ORGANIZER;CN="Ben Ackermans":MAILTO:info@benackermans.nl
END:VEVENT
BEGIN:VEVENT
DTSTART;TZID=Europe/Amsterdam:20210813T120000
DTEND;TZID=Europe/Amsterdam:20210813T130000
DTSTAMP:20260423T042130
CREATED:20210718T172147Z
LAST-MODIFIED:20210725T110813Z
UID:762-1628856000-1628859600@benackermans.nl
SUMMARY:• Vrijdag 13 augustus 2021 12:00-13:00
DESCRIPTION:Online training via zoom. Meer informatie vindt u op: Online trainingen
URL:https://benackermans.nl/event/vrijdag-13-augustus2021-1200-1300/
LOCATION:Zoom\, Nederland
CATEGORIES:Online Training
ORGANIZER;CN="Ben Ackermans":MAILTO:info@benackermans.nl
END:VEVENT
BEGIN:VEVENT
DTSTART;TZID=Europe/Amsterdam:20210809T160000
DTEND;TZID=Europe/Amsterdam:20210809T160000
DTSTAMP:20260423T042130
CREATED:20210705T074154Z
LAST-MODIFIED:20220916T123331Z
UID:755-1628524800-1628524800@benackermans.nl
SUMMARY:• Maandag 9 augustus 2021 16:00-17:00
DESCRIPTION:Online training via zoom. Meer informatie vindt u op: Online trainingen
URL:https://benackermans.nl/event/maandag-2-augustus-2021-1600-1700/
LOCATION:Zoom\, Nederland
CATEGORIES:Online Training
ORGANIZER;CN="Ben Ackermans":MAILTO:info@benackermans.nl
END:VEVENT
BEGIN:VEVENT
DTSTART;TZID=Europe/Amsterdam:20210806T120000
DTEND;TZID=Europe/Amsterdam:20210806T130000
DTSTAMP:20260423T042130
CREATED:20210705T074230Z
LAST-MODIFIED:20210725T110742Z
UID:756-1628251200-1628254800@benackermans.nl
SUMMARY:• Vrijdag 6 augustus 2021 12:00-13:00
DESCRIPTION:Online training via zoom. Meer informatie vindt u op: Online trainingen
URL:https://benackermans.nl/event/vrijdag-6-augustus2021-1200-1300/
LOCATION:Zoom\, Nederland
CATEGORIES:Online Training
ORGANIZER;CN="Ben Ackermans":MAILTO:info@benackermans.nl
END:VEVENT
BEGIN:VEVENT
DTSTART;TZID=Europe/Amsterdam:20210802T160000
DTEND;TZID=Europe/Amsterdam:20210802T170000
DTSTAMP:20260423T042130
CREATED:20210730T112212Z
LAST-MODIFIED:20210730T112215Z
UID:765-1627920000-1627923600@benackermans.nl
SUMMARY:• Maandag 2 augustus 2021 16:00-17:00
DESCRIPTION:Online training via zoom. Meer informatie vindt u op: Online trainingen
URL:https://benackermans.nl/event/maandag-2-augustus-2021-1600-1700-2/
LOCATION:Zoom\, Nederland
CATEGORIES:Online Training
ORGANIZER;CN="Ben Ackermans":MAILTO:info@benackermans.nl
END:VEVENT
BEGIN:VEVENT
DTSTART;TZID=Europe/Amsterdam:20210730T120000
DTEND;TZID=Europe/Amsterdam:20210730T130000
DTSTAMP:20260423T042130
CREATED:20210704T105522Z
LAST-MODIFIED:20210704T105526Z
UID:743-1627646400-1627650000@benackermans.nl
SUMMARY:• Vrijdag 30 juli 2021 12:00-13:00
DESCRIPTION:Online training via zoom. Meer informatie vindt u op: Online trainingen
URL:https://benackermans.nl/event/vrijdag-30-juli-2021-1200-1300/
LOCATION:Zoom\, Nederland
CATEGORIES:Online Training
ORGANIZER;CN="Ben Ackermans":MAILTO:info@benackermans.nl
END:VEVENT
BEGIN:VEVENT
DTSTART;TZID=Europe/Amsterdam:20210726T160000
DTEND;TZID=Europe/Amsterdam:20210726T160000
DTSTAMP:20260423T042130
CREATED:20210704T105438Z
LAST-MODIFIED:20210704T105443Z
UID:748-1627315200-1627315200@benackermans.nl
SUMMARY:• Maandag 26 juli 2021 16:00-17:00
DESCRIPTION:Online training via zoom. Meer informatie vindt u op: Online trainingen
URL:https://benackermans.nl/event/maandag-26-juli-2021-1600-1700/
LOCATION:Zoom\, Nederland
CATEGORIES:Online Training
ORGANIZER;CN="Ben Ackermans":MAILTO:info@benackermans.nl
END:VEVENT
BEGIN:VEVENT
DTSTART;TZID=Europe/Amsterdam:20210723T120000
DTEND;TZID=Europe/Amsterdam:20210723T130000
DTSTAMP:20260423T042130
CREATED:20210704T105331Z
LAST-MODIFIED:20210704T105337Z
UID:742-1627041600-1627045200@benackermans.nl
SUMMARY:• Vrijdag 23 juli 2021 12:00-13:00
DESCRIPTION:Online training via zoom. Meer informatie vindt u op: Online trainingen
URL:https://benackermans.nl/event/vrijdag-23-juli-2021-1200-1300/
LOCATION:Zoom\, Nederland
CATEGORIES:Online Training
ORGANIZER;CN="Ben Ackermans":MAILTO:info@benackermans.nl
END:VEVENT
BEGIN:VEVENT
DTSTART;TZID=Europe/Amsterdam:20210719T160000
DTEND;TZID=Europe/Amsterdam:20210719T160000
DTSTAMP:20260423T042130
CREATED:20210704T105241Z
LAST-MODIFIED:20220916T123442Z
UID:741-1626710400-1626710400@benackermans.nl
SUMMARY:• Maandag 19 juli 2021 16:00-17:00
DESCRIPTION:Online training via zoom. Meer informatie vindt u op: Online trainingen
URL:https://benackermans.nl/event/maandag-19-juli-2021-1600-1700/
LOCATION:Zoom\, Nederland
CATEGORIES:Online Training
ORGANIZER;CN="Ben Ackermans":MAILTO:info@benackermans.nl
END:VEVENT
BEGIN:VEVENT
DTSTART;TZID=Europe/Amsterdam:20210716T120000
DTEND;TZID=Europe/Amsterdam:20210716T130000
DTSTAMP:20260423T042130
CREATED:20210617T125031Z
LAST-MODIFIED:20210617T125034Z
UID:729-1626436800-1626440400@benackermans.nl
SUMMARY:• Vrijdag 16 juli 2021 12:00-13:00
DESCRIPTION:Online training via zoom. Meer informatie vindt u op: Online trainingen
URL:https://benackermans.nl/event/vrijdag-16-juli-2021-1200-1300/
LOCATION:Zoom\, Nederland
CATEGORIES:Online Training
ORGANIZER;CN="Ben Ackermans":MAILTO:info@benackermans.nl
END:VEVENT
BEGIN:VEVENT
DTSTART;TZID=Europe/Amsterdam:20210712T160000
DTEND;TZID=Europe/Amsterdam:20210712T160000
DTSTAMP:20260423T042130
CREATED:20210617T125121Z
LAST-MODIFIED:20210617T125124Z
UID:730-1626105600-1626105600@benackermans.nl
SUMMARY:• Maandag 12 juli 2021 16:00-17:00
DESCRIPTION:Online training via zoom. Meer informatie vindt u op: Online trainingen
URL:https://benackermans.nl/event/maandag-12-juli-2021-1600-1700/
LOCATION:Zoom\, Nederland
CATEGORIES:Online Training
ORGANIZER;CN="Ben Ackermans":MAILTO:info@benackermans.nl
END:VEVENT
BEGIN:VEVENT
DTSTART;TZID=Europe/Amsterdam:20210618T120000
DTEND;TZID=Europe/Amsterdam:20210618T130000
DTSTAMP:20260423T042130
CREATED:20210527T083800Z
LAST-MODIFIED:20210527T083829Z
UID:627-1624017600-1624021200@benackermans.nl
SUMMARY:• Vrijdag 18 juni 2021 12:00-13:00
DESCRIPTION:Online training via zoom. Meer informatie vindt u op: Online trainingen
URL:https://benackermans.nl/event/vrijdag-11-juni-2021-1200-1300-2/
LOCATION:Zoom\, Nederland
CATEGORIES:Online Training
END:VEVENT
BEGIN:VEVENT
DTSTART;TZID=Europe/Amsterdam:20210611T120000
DTEND;TZID=Europe/Amsterdam:20210611T130000
DTSTAMP:20260423T042130
CREATED:20210512T160638Z
LAST-MODIFIED:20210512T160641Z
UID:297-1623412800-1623416400@benackermans.nl
SUMMARY:• Vrijdag 11 juni 2021 12:00-13:00
DESCRIPTION:Online training via zoom. Meer informatie vindt u op: Online trainingen
URL:https://benackermans.nl/event/vrijdag-11-juni-2021-1200-1300/
LOCATION:Zoom\, Nederland
CATEGORIES:Online Training
END:VEVENT
BEGIN:VEVENT
DTSTART;TZID=Europe/Amsterdam:20210607T160000
DTEND;TZID=Europe/Amsterdam:20210607T170000
DTSTAMP:20260423T042130
CREATED:20210512T160541Z
LAST-MODIFIED:20210512T160545Z
UID:296-1623081600-1623085200@benackermans.nl
SUMMARY:• Maandag 7 juni 2021 16:00-17:00
DESCRIPTION:Online training via zoom. Meer informatie vindt u op: Online trainingen
URL:https://benackermans.nl/event/maandag-7-juni-2021-1600-1700/
LOCATION:Zoom\, Nederland
CATEGORIES:Online Training
ORGANIZER;CN="Ben Ackermans":MAILTO:info@benackermans.nl
END:VEVENT
BEGIN:VEVENT
DTSTART;TZID=Europe/Amsterdam:20210531T160000
DTEND;TZID=Europe/Amsterdam:20210531T170000
DTSTAMP:20260423T042130
CREATED:20210512T160422Z
LAST-MODIFIED:20210512T160425Z
UID:290-1622476800-1622480400@benackermans.nl
SUMMARY:• Maandag 31 mei 2021 16:00-17:00
DESCRIPTION:Online training via zoom. Meer informatie vindt u op: Online trainingen
URL:https://benackermans.nl/event/maandag-31-mei-2021-1600-1700/
LOCATION:Zoom\, Nederland
CATEGORIES:Online Training
ORGANIZER;CN="Ben Ackermans":MAILTO:info@benackermans.nl
END:VEVENT
BEGIN:VEVENT
DTSTART;TZID=Europe/Amsterdam:20210528T120000
DTEND;TZID=Europe/Amsterdam:20210528T130000
DTSTAMP:20260423T042130
CREATED:20210430T155342Z
LAST-MODIFIED:20210501T210350Z
UID:141-1622203200-1622206800@benackermans.nl
SUMMARY:• Vrijdag 28 mei 2021 12:00-13:00
DESCRIPTION:Online training via zoom. Meer informatie vindt u op: Online trainingen
URL:https://benackermans.nl/event/online-training-vrijdag-21-mei-2021-2/
LOCATION:Zoom\, Nederland
CATEGORIES:Online Training
END:VEVENT
BEGIN:VEVENT
DTSTART;TZID=Europe/Amsterdam:20210521T120000
DTEND;TZID=Europe/Amsterdam:20210521T130000
DTSTAMP:20260423T042130
CREATED:20210430T154932Z
LAST-MODIFIED:20210501T210223Z
UID:134-1621598400-1621602000@benackermans.nl
SUMMARY:• Vrijdag 21 mei 2021 12:00-13:00
DESCRIPTION:Online training via zoom. Meer informatie vindt u op: Online trainingen
URL:https://benackermans.nl/event/online-training-vrijdag-21-mei-2021/
LOCATION:Zoom\, Nederland
CATEGORIES:Online Training
END:VEVENT
BEGIN:VEVENT
DTSTART;TZID=Europe/Amsterdam:20210510T160000
DTEND;TZID=Europe/Amsterdam:20210510T170000
DTSTAMP:20260423T042130
CREATED:20210430T151623Z
LAST-MODIFIED:20210501T205452Z
UID:120-1620662400-1620666000@benackermans.nl
SUMMARY:• Maandag 10 mei 2021 16:00-17:00
DESCRIPTION:Online training via zoom. Meer informatie vindt u op: Online trainingen
URL:https://benackermans.nl/event/online-training/
LOCATION:Zoom\, Nederland
CATEGORIES:Online Training
END:VEVENT
END:VCALENDAR