BEGIN:VCALENDAR
VERSION:2.0
PRODID:-//Ben Ackermans - ECPv6.15.20//NONSGML v1.0//EN
CALSCALE:GREGORIAN
METHOD:PUBLISH
X-WR-CALNAME:Ben Ackermans
X-ORIGINAL-URL:https://benackermans.nl
X-WR-CALDESC:Evenementen voor Ben Ackermans
REFRESH-INTERVAL;VALUE=DURATION:PT1H
X-Robots-Tag:noindex
X-PUBLISHED-TTL:PT1H
BEGIN:VTIMEZONE
TZID:Europe/Amsterdam
BEGIN:DAYLIGHT
TZOFFSETFROM:+0100
TZOFFSETTO:+0200
TZNAME:CEST
DTSTART:20230326T010000
END:DAYLIGHT
BEGIN:STANDARD
TZOFFSETFROM:+0200
TZOFFSETTO:+0100
TZNAME:CET
DTSTART:20231029T010000
END:STANDARD
BEGIN:DAYLIGHT
TZOFFSETFROM:+0100
TZOFFSETTO:+0200
TZNAME:CEST
DTSTART:20240331T010000
END:DAYLIGHT
BEGIN:STANDARD
TZOFFSETFROM:+0200
TZOFFSETTO:+0100
TZNAME:CET
DTSTART:20241027T010000
END:STANDARD
BEGIN:DAYLIGHT
TZOFFSETFROM:+0100
TZOFFSETTO:+0200
TZNAME:CEST
DTSTART:20250330T010000
END:DAYLIGHT
BEGIN:STANDARD
TZOFFSETFROM:+0200
TZOFFSETTO:+0100
TZNAME:CET
DTSTART:20251026T010000
END:STANDARD
BEGIN:DAYLIGHT
TZOFFSETFROM:+0100
TZOFFSETTO:+0200
TZNAME:CEST
DTSTART:20260329T010000
END:DAYLIGHT
BEGIN:STANDARD
TZOFFSETFROM:+0200
TZOFFSETTO:+0100
TZNAME:CET
DTSTART:20261025T010000
END:STANDARD
END:VTIMEZONE
BEGIN:VEVENT
DTSTART;TZID=Europe/Amsterdam:20250404T120000
DTEND;TZID=Europe/Amsterdam:20250404T130000
DTSTAMP:20260421T210744
CREATED:20250210T115058Z
LAST-MODIFIED:20250210T115101Z
UID:2365-1743768000-1743771600@benackermans.nl
SUMMARY:• Vrijdag 4 april 2025 12:00-13:00
DESCRIPTION:Online training via zoom. Meer informatie vindt u op: Online trainingen
URL:https://benackermans.nl/event/vrijdag-4-april-2025-1200-1300/
LOCATION:Zoom\, Nederland
CATEGORIES:Online Training
ORGANIZER;CN="Ben Ackermans":MAILTO:info@benackermans.nl
END:VEVENT
BEGIN:VEVENT
DTSTART;TZID=Europe/Amsterdam:20250331T160000
DTEND;TZID=Europe/Amsterdam:20250331T170000
DTSTAMP:20260421T210744
CREATED:20250210T115511Z
LAST-MODIFIED:20250312T142438Z
UID:2375-1743436800-1743440400@benackermans.nl
SUMMARY:• Maandag 31 maart 2025 16:00-17:00
DESCRIPTION:Online training via zoom. Meer informatie vindt u op: Online trainingen
URL:https://benackermans.nl/event/maandag-31-maart-2025-1600-1700/
LOCATION:Zoom\, Nederland
CATEGORIES:Online Training
ORGANIZER;CN="Ben Ackermans":MAILTO:info@benackermans.nl
END:VEVENT
BEGIN:VEVENT
DTSTART;TZID=Europe/Amsterdam:20250328T120000
DTEND;TZID=Europe/Amsterdam:20250328T130000
DTSTAMP:20260421T210744
CREATED:20250210T115018Z
LAST-MODIFIED:20250210T115021Z
UID:2364-1743163200-1743166800@benackermans.nl
SUMMARY:• Vrijdag 28 maart 2025 12:00-13:00
DESCRIPTION:Online training via zoom. Meer informatie vindt u op: Online trainingen
URL:https://benackermans.nl/event/vrijdag-28-maart-2025-1200-1300/
LOCATION:Zoom\, Nederland
CATEGORIES:Online Training
ORGANIZER;CN="Ben Ackermans":MAILTO:info@benackermans.nl
END:VEVENT
BEGIN:VEVENT
DTSTART;TZID=Europe/Amsterdam:20250324T160000
DTEND;TZID=Europe/Amsterdam:20250324T170000
DTSTAMP:20260421T210744
CREATED:20250210T115316Z
LAST-MODIFIED:20250312T142429Z
UID:2374-1742832000-1742835600@benackermans.nl
SUMMARY:• Maandag 24 maart 2025 16:00-17:00
DESCRIPTION:Online training via zoom. Meer informatie vindt u op: Online trainingen
URL:https://benackermans.nl/event/maandag-24-maart-2025-1600-1700/
LOCATION:Zoom\, Nederland
CATEGORIES:Online Training
ORGANIZER;CN="Ben Ackermans":MAILTO:info@benackermans.nl
END:VEVENT
BEGIN:VEVENT
DTSTART;TZID=Europe/Amsterdam:20250321T120000
DTEND;TZID=Europe/Amsterdam:20250321T130000
DTSTAMP:20260421T210744
CREATED:20250210T114943Z
LAST-MODIFIED:20250210T114946Z
UID:2363-1742558400-1742562000@benackermans.nl
SUMMARY:• Vrijdag 21 maart 2025 12:00-13:00
DESCRIPTION:Online training via zoom. Meer informatie vindt u op: Online trainingen
URL:https://benackermans.nl/event/vrijdag-21-maart-2025-1200-1300/
LOCATION:Zoom\, Nederland
CATEGORIES:Online Training
ORGANIZER;CN="Ben Ackermans":MAILTO:info@benackermans.nl
END:VEVENT
BEGIN:VEVENT
DTSTART;TZID=Europe/Amsterdam:20250310T160000
DTEND;TZID=Europe/Amsterdam:20250310T170000
DTSTAMP:20260421T210744
CREATED:20250112T114015Z
LAST-MODIFIED:20250210T115152Z
UID:2339-1741622400-1741626000@benackermans.nl
SUMMARY:Maandag 10 maart 2025 16:00-17:00
DESCRIPTION:Online training via zoom. Meer informatie vindt u op: Online trainingen
URL:https://benackermans.nl/event/maandag-10-maart-2025-1600-1700/
LOCATION:Zoom\, Nederland
CATEGORIES:Online Training
ORGANIZER;CN="Ben Ackermans":MAILTO:info@benackermans.nl
END:VEVENT
BEGIN:VEVENT
DTSTART;TZID=Europe/Amsterdam:20250307T120000
DTEND;TZID=Europe/Amsterdam:20250307T130000
DTSTAMP:20260421T210744
CREATED:20250112T114300Z
LAST-MODIFIED:20250112T114303Z
UID:2345-1741348800-1741352400@benackermans.nl
SUMMARY:• Vrijdag 7 maart 2025 12:00-13:00
DESCRIPTION:Online training via zoom. Meer informatie vindt u op: Online trainingen
URL:https://benackermans.nl/event/vrijdag-7-maart-2025-1200-1300/
LOCATION:Zoom\, Nederland
CATEGORIES:Online Training
ORGANIZER;CN="Ben Ackermans":MAILTO:info@benackermans.nl
END:VEVENT
BEGIN:VEVENT
DTSTART;TZID=Europe/Amsterdam:20250228T120000
DTEND;TZID=Europe/Amsterdam:20250228T130000
DTSTAMP:20260421T210744
CREATED:20250112T114229Z
LAST-MODIFIED:20250112T114232Z
UID:2344-1740744000-1740747600@benackermans.nl
SUMMARY:• Vrijdag 28 februari 2025 12:00-13:00
DESCRIPTION:Online training via zoom. Meer informatie vindt u op: Online trainingen
URL:https://benackermans.nl/event/vrijdag-28-februari-2025-1200-1300/
LOCATION:Zoom\, Nederland
CATEGORIES:Online Training
ORGANIZER;CN="Ben Ackermans":MAILTO:info@benackermans.nl
END:VEVENT
BEGIN:VEVENT
DTSTART;TZID=Europe/Amsterdam:20250224T160000
DTEND;TZID=Europe/Amsterdam:20250224T170000
DTSTAMP:20260421T210744
CREATED:20250112T113913Z
LAST-MODIFIED:20250112T113915Z
UID:2329-1740412800-1740416400@benackermans.nl
SUMMARY:• Maandag 24 februari 2025 16:00-17:00
DESCRIPTION:Online training via zoom. Meer informatie vindt u op: Online trainingen
URL:https://benackermans.nl/event/maandag-24-februari-2025-1600-1700/
LOCATION:Zoom\, Nederland
CATEGORIES:Online Training
ORGANIZER;CN="Ben Ackermans":MAILTO:info@benackermans.nl
END:VEVENT
BEGIN:VEVENT
DTSTART;TZID=Europe/Amsterdam:20250221T120000
DTEND;TZID=Europe/Amsterdam:20250221T130000
DTSTAMP:20260421T210744
CREATED:20250112T114154Z
LAST-MODIFIED:20250112T114157Z
UID:2343-1740139200-1740142800@benackermans.nl
SUMMARY:• Vrijdag 21 februari 2025 12:00-13:00
DESCRIPTION:Online training via zoom. Meer informatie vindt u op: Online trainingen
URL:https://benackermans.nl/event/vrijdag-21-februari-2025-1200-1300/
LOCATION:Zoom\, Nederland
CATEGORIES:Online Training
ORGANIZER;CN="Ben Ackermans":MAILTO:info@benackermans.nl
END:VEVENT
BEGIN:VEVENT
DTSTART;TZID=Europe/Amsterdam:20250217T160000
DTEND;TZID=Europe/Amsterdam:20250217T170000
DTSTAMP:20260421T210744
CREATED:20250112T113836Z
LAST-MODIFIED:20250112T113839Z
UID:2328-1739808000-1739811600@benackermans.nl
SUMMARY:• Maandag 17 februari 2025 16:00-17:00
DESCRIPTION:Online training via zoom. Meer informatie vindt u op: Online trainingen
URL:https://benackermans.nl/event/maandag-17-februari-2025-1600-1700/
LOCATION:Zoom\, Nederland
CATEGORIES:Online Training
ORGANIZER;CN="Ben Ackermans":MAILTO:info@benackermans.nl
END:VEVENT
BEGIN:VEVENT
DTSTART;TZID=Europe/Amsterdam:20250214T120000
DTEND;TZID=Europe/Amsterdam:20250214T130000
DTSTAMP:20260421T210744
CREATED:20250112T114102Z
LAST-MODIFIED:20250112T114105Z
UID:2342-1739534400-1739538000@benackermans.nl
SUMMARY:• Vrijdag 14 februari 2025 12:00-13:00
DESCRIPTION:Online training via zoom. Meer informatie vindt u op: Online trainingen
URL:https://benackermans.nl/event/vrijdag-14-februari-2025-1200-1300/
LOCATION:Zoom\, Nederland
CATEGORIES:Online Training
ORGANIZER;CN="Ben Ackermans":MAILTO:info@benackermans.nl
END:VEVENT
BEGIN:VEVENT
DTSTART;TZID=Europe/Amsterdam:20250207T120000
DTEND;TZID=Europe/Amsterdam:20250207T130000
DTSTAMP:20260421T210744
CREATED:20241209T165016Z
LAST-MODIFIED:20241209T165019Z
UID:2294-1738929600-1738933200@benackermans.nl
SUMMARY:• Vrijdag 7 februari 2025 12:00-13:00
DESCRIPTION:Online training via zoom. Meer informatie vindt u op: Online trainingen
URL:https://benackermans.nl/event/vrijdag-7-februari-2025-1200-1300/
LOCATION:Zoom\, Nederland
CATEGORIES:Online Training
ORGANIZER;CN="Ben Ackermans":MAILTO:info@benackermans.nl
END:VEVENT
BEGIN:VEVENT
DTSTART;TZID=Europe/Amsterdam:20250203T160000
DTEND;TZID=Europe/Amsterdam:20250203T170000
DTSTAMP:20260421T210744
CREATED:20241209T164527Z
LAST-MODIFIED:20241209T164552Z
UID:2297-1738598400-1738602000@benackermans.nl
SUMMARY:• Maandag 3 februari 2025 16:00-17:00
DESCRIPTION:Online training via zoom. Meer informatie vindt u op: Online trainingen
URL:https://benackermans.nl/event/maandag-3-februari-2025-1600-1700/
LOCATION:Zoom\, Nederland
CATEGORIES:Online Training
ORGANIZER;CN="Ben Ackermans":MAILTO:info@benackermans.nl
END:VEVENT
BEGIN:VEVENT
DTSTART;TZID=Europe/Amsterdam:20250131T120000
DTEND;TZID=Europe/Amsterdam:20250131T130000
DTSTAMP:20260421T210744
CREATED:20241209T164939Z
LAST-MODIFIED:20241209T164942Z
UID:2293-1738324800-1738328400@benackermans.nl
SUMMARY:• Vrijdag 31 januari 2025 12:00-13:00
DESCRIPTION:Online training via zoom. Meer informatie vindt u op: Online trainingen
URL:https://benackermans.nl/event/vrijdag-31-januari-2025-1200-1300/
LOCATION:Zoom\, Nederland
CATEGORIES:Online Training
ORGANIZER;CN="Ben Ackermans":MAILTO:info@benackermans.nl
END:VEVENT
BEGIN:VEVENT
DTSTART;TZID=Europe/Amsterdam:20250127T160000
DTEND;TZID=Europe/Amsterdam:20250127T170000
DTSTAMP:20260421T210744
CREATED:20241209T164443Z
LAST-MODIFIED:20241209T164458Z
UID:2296-1737993600-1737997200@benackermans.nl
SUMMARY:• Maandag 27 januari 2025 16:00-17:00
DESCRIPTION:Online training via zoom. Meer informatie vindt u op: Online trainingen
URL:https://benackermans.nl/event/maandag-27-januari-2025-1600-1700/
LOCATION:Zoom\, Nederland
CATEGORIES:Online Training
ORGANIZER;CN="Ben Ackermans":MAILTO:info@benackermans.nl
END:VEVENT
BEGIN:VEVENT
DTSTART;TZID=Europe/Amsterdam:20250124T120000
DTEND;TZID=Europe/Amsterdam:20250124T130000
DTSTAMP:20260421T210744
CREATED:20241209T164654Z
LAST-MODIFIED:20241209T164657Z
UID:2291-1737720000-1737723600@benackermans.nl
SUMMARY:• Vrijdag 24 januari 2025 12:00-13:00
DESCRIPTION:Online training via zoom. Meer informatie vindt u op: Online trainingen
URL:https://benackermans.nl/event/vrijdag-24-januari-2025-1200-1300/
LOCATION:Zoom\, Nederland
CATEGORIES:Online Training
ORGANIZER;CN="Ben Ackermans":MAILTO:info@benackermans.nl
END:VEVENT
BEGIN:VEVENT
DTSTART;TZID=Europe/Amsterdam:20250120T160000
DTEND;TZID=Europe/Amsterdam:20250120T170000
DTSTAMP:20260421T210744
CREATED:20241209T164312Z
LAST-MODIFIED:20241209T164410Z
UID:2295-1737388800-1737392400@benackermans.nl
SUMMARY:• Maandag 20 januari 2025 16:00-17:00
DESCRIPTION:Online training via zoom. Meer informatie vindt u op: Online trainingen
URL:https://benackermans.nl/event/maandag-20-januari-2025-1600-1700/
LOCATION:Zoom\, Nederland
CATEGORIES:Online Training
ORGANIZER;CN="Ben Ackermans":MAILTO:info@benackermans.nl
END:VEVENT
BEGIN:VEVENT
DTSTART;TZID=Europe/Amsterdam:20250117T120000
DTEND;TZID=Europe/Amsterdam:20250117T130000
DTSTAMP:20260421T210744
CREATED:20241209T164618Z
LAST-MODIFIED:20241209T164621Z
UID:2292-1737115200-1737118800@benackermans.nl
SUMMARY:• Vrijdag 17 januari 2025 12:00-13:00
DESCRIPTION:Online training via zoom. Meer informatie vindt u op: Online trainingen
URL:https://benackermans.nl/event/vrijdag-17-januari-2025-1200-1300/
LOCATION:Zoom\, Nederland
CATEGORIES:Online Training
ORGANIZER;CN="Ben Ackermans":MAILTO:info@benackermans.nl
END:VEVENT
BEGIN:VEVENT
DTSTART;TZID=Europe/Amsterdam:20250110T120000
DTEND;TZID=Europe/Amsterdam:20250110T130000
DTSTAMP:20260421T210744
CREATED:20241111T170504Z
LAST-MODIFIED:20241111T170506Z
UID:2268-1736510400-1736514000@benackermans.nl
SUMMARY:• Vrijdag 10 januari 2025 12:00-13:00
DESCRIPTION:Online training via zoom. Meer informatie vindt u op: Online trainingen
URL:https://benackermans.nl/event/vrijdag-10-januari-2025-1200-1300/
LOCATION:Zoom\, Nederland
CATEGORIES:Online Training
ORGANIZER;CN="Ben Ackermans":MAILTO:info@benackermans.nl
END:VEVENT
BEGIN:VEVENT
DTSTART;TZID=Europe/Amsterdam:20250106T160000
DTEND;TZID=Europe/Amsterdam:20250106T170000
DTSTAMP:20260421T210744
CREATED:20241111T170140Z
LAST-MODIFIED:20241111T170142Z
UID:2253-1736179200-1736182800@benackermans.nl
SUMMARY:• Maandag 6 januari 2025 16:00-17:00
DESCRIPTION:Online training via zoom. Meer informatie vindt u op: Online trainingen
URL:https://benackermans.nl/event/maandag-6-januari-2025-1600-1700/
LOCATION:Zoom\, Nederland
CATEGORIES:Online Training
ORGANIZER;CN="Ben Ackermans":MAILTO:info@benackermans.nl
END:VEVENT
BEGIN:VEVENT
DTSTART;TZID=Europe/Amsterdam:20250103T120000
DTEND;TZID=Europe/Amsterdam:20250103T130000
DTSTAMP:20260421T210744
CREATED:20241111T170426Z
LAST-MODIFIED:20241111T170428Z
UID:2267-1735905600-1735909200@benackermans.nl
SUMMARY:• Vrijdag 3 januari 2025 12:00-13:00
DESCRIPTION:Online training via zoom. Meer informatie vindt u op: Online trainingen
URL:https://benackermans.nl/event/vrijdag-3-januari-2025-1200-1300/
LOCATION:Zoom\, Nederland
CATEGORIES:Online Training
ORGANIZER;CN="Ben Ackermans":MAILTO:info@benackermans.nl
END:VEVENT
BEGIN:VEVENT
DTSTART;TZID=Europe/Amsterdam:20241227T120000
DTEND;TZID=Europe/Amsterdam:20241227T130000
DTSTAMP:20260421T210744
CREATED:20241111T170337Z
LAST-MODIFIED:20241111T170340Z
UID:2266-1735300800-1735304400@benackermans.nl
SUMMARY:• Vrijdag 27 december 2024 12:00-13:00
DESCRIPTION:Online training via zoom. Meer informatie vindt u op: Online trainingen
URL:https://benackermans.nl/event/vrijdag-27-december-2024-1200-1300/
LOCATION:Zoom\, Nederland
CATEGORIES:Online Training
ORGANIZER;CN="Ben Ackermans":MAILTO:info@benackermans.nl
END:VEVENT
BEGIN:VEVENT
DTSTART;TZID=Europe/Amsterdam:20241223T160000
DTEND;TZID=Europe/Amsterdam:20241223T170000
DTSTAMP:20260421T210744
CREATED:20241111T165913Z
LAST-MODIFIED:20241111T165916Z
UID:2251-1734969600-1734973200@benackermans.nl
SUMMARY:• Maandag 23 december 2024 16:00-17:00
DESCRIPTION:Online training via zoom. Meer informatie vindt u op: Online trainingen
URL:https://benackermans.nl/event/maandag-23-december-2024-1600-1700/
LOCATION:Zoom\, Nederland
CATEGORIES:Online Training
ORGANIZER;CN="Ben Ackermans":MAILTO:info@benackermans.nl
END:VEVENT
BEGIN:VEVENT
DTSTART;TZID=Europe/Amsterdam:20241220T120000
DTEND;TZID=Europe/Amsterdam:20241220T130000
DTSTAMP:20260421T210744
CREATED:20241111T170301Z
LAST-MODIFIED:20241111T170304Z
UID:2265-1734696000-1734699600@benackermans.nl
SUMMARY:• Vrijdag 20 december 2024 12:00-13:00
DESCRIPTION:Online training via zoom. Meer informatie vindt u op: Online trainingen
URL:https://benackermans.nl/event/vrijdag-20-december-2024-1200-1300/
LOCATION:Zoom\, Nederland
CATEGORIES:Online Training
ORGANIZER;CN="Ben Ackermans":MAILTO:info@benackermans.nl
END:VEVENT
BEGIN:VEVENT
DTSTART;TZID=Europe/Amsterdam:20241216T160000
DTEND;TZID=Europe/Amsterdam:20241216T170000
DTSTAMP:20260421T210744
CREATED:20241111T165842Z
LAST-MODIFIED:20241111T165844Z
UID:2250-1734364800-1734368400@benackermans.nl
SUMMARY:• Maandag 16 december 2024 16:00-17:00
DESCRIPTION:Online training via zoom. Meer informatie vindt u op: Online trainingen
URL:https://benackermans.nl/event/maandag-16-december-2024-1600-1700/
LOCATION:Zoom\, Nederland
CATEGORIES:Online Training
ORGANIZER;CN="Ben Ackermans":MAILTO:info@benackermans.nl
END:VEVENT
BEGIN:VEVENT
DTSTART;TZID=Europe/Amsterdam:20241213T120000
DTEND;TZID=Europe/Amsterdam:20241213T130000
DTSTAMP:20260421T210744
CREATED:20241111T170234Z
LAST-MODIFIED:20241111T170237Z
UID:2264-1734091200-1734094800@benackermans.nl
SUMMARY:• Vrijdag 13 december 2024 12:00-13:00
DESCRIPTION:Online training via zoom. Meer informatie vindt u op: Online trainingen
URL:https://benackermans.nl/event/vrijdag-13-december-2024-1200-1300/
LOCATION:Zoom\, Nederland
CATEGORIES:Online Training
ORGANIZER;CN="Ben Ackermans":MAILTO:info@benackermans.nl
END:VEVENT
BEGIN:VEVENT
DTSTART;TZID=Europe/Amsterdam:20241209T160000
DTEND;TZID=Europe/Amsterdam:20241209T170000
DTSTAMP:20260421T210744
CREATED:20241111T165619Z
LAST-MODIFIED:20241111T165621Z
UID:2249-1733760000-1733763600@benackermans.nl
SUMMARY:• Maandag 9 december 2024 16:00-17:00
DESCRIPTION:Online training via zoom. Meer informatie vindt u op: Online trainingen
URL:https://benackermans.nl/event/maandag-9-december-2024-1600-1700/
LOCATION:Zoom\, Nederland
CATEGORIES:Online Training
ORGANIZER;CN="Ben Ackermans":MAILTO:info@benackermans.nl
END:VEVENT
BEGIN:VEVENT
DTSTART;TZID=Europe/Amsterdam:20241125T160000
DTEND;TZID=Europe/Amsterdam:20241125T170000
DTSTAMP:20260421T210744
CREATED:20241014T130834Z
LAST-MODIFIED:20241014T130838Z
UID:2218-1732550400-1732554000@benackermans.nl
SUMMARY:• Maandag 25 november 2024 16:00-17:00
DESCRIPTION:Online training via zoom. Meer informatie vindt u op: Online trainingen
URL:https://benackermans.nl/event/maandag-25-november-2024-1600-1700/
LOCATION:Zoom\, Nederland
CATEGORIES:Online Training
ORGANIZER;CN="Ben Ackermans":MAILTO:info@benackermans.nl
END:VEVENT
BEGIN:VEVENT
DTSTART;TZID=Europe/Amsterdam:20241122T120000
DTEND;TZID=Europe/Amsterdam:20241122T130000
DTSTAMP:20260421T210744
CREATED:20241014T131654Z
LAST-MODIFIED:20241014T131657Z
UID:2230-1732276800-1732280400@benackermans.nl
SUMMARY:• Vrijdag 22 november 2024 12:00-13:00
DESCRIPTION:Online training via zoom. Meer informatie vindt u op: Online trainingen
URL:https://benackermans.nl/event/vrijdag-22-november-2024-1200-1300/
LOCATION:Zoom\, Nederland
CATEGORIES:Online Training
ORGANIZER;CN="Ben Ackermans":MAILTO:info@benackermans.nl
END:VEVENT
END:VCALENDAR