BEGIN:VCALENDAR
VERSION:2.0
PRODID:-//Ben Ackermans - ECPv6.15.20//NONSGML v1.0//EN
CALSCALE:GREGORIAN
METHOD:PUBLISH
X-WR-CALNAME:Ben Ackermans
X-ORIGINAL-URL:https://benackermans.nl
X-WR-CALDESC:Evenementen voor Ben Ackermans
REFRESH-INTERVAL;VALUE=DURATION:PT1H
X-Robots-Tag:noindex
X-PUBLISHED-TTL:PT1H
BEGIN:VTIMEZONE
TZID:Europe/Amsterdam
BEGIN:DAYLIGHT
TZOFFSETFROM:+0100
TZOFFSETTO:+0200
TZNAME:CEST
DTSTART:20230326T010000
END:DAYLIGHT
BEGIN:STANDARD
TZOFFSETFROM:+0200
TZOFFSETTO:+0100
TZNAME:CET
DTSTART:20231029T010000
END:STANDARD
BEGIN:DAYLIGHT
TZOFFSETFROM:+0100
TZOFFSETTO:+0200
TZNAME:CEST
DTSTART:20240331T010000
END:DAYLIGHT
BEGIN:STANDARD
TZOFFSETFROM:+0200
TZOFFSETTO:+0100
TZNAME:CET
DTSTART:20241027T010000
END:STANDARD
BEGIN:DAYLIGHT
TZOFFSETFROM:+0100
TZOFFSETTO:+0200
TZNAME:CEST
DTSTART:20250330T010000
END:DAYLIGHT
BEGIN:STANDARD
TZOFFSETFROM:+0200
TZOFFSETTO:+0100
TZNAME:CET
DTSTART:20251026T010000
END:STANDARD
END:VTIMEZONE
BEGIN:VEVENT
DTSTART;TZID=Europe/Amsterdam:20241028T160000
DTEND;TZID=Europe/Amsterdam:20241028T170000
DTSTAMP:20260422T022312
CREATED:20240912T120547Z
LAST-MODIFIED:20240912T120550Z
UID:2187-1730131200-1730134800@benackermans.nl
SUMMARY:• Maandag 28 oktober 2024 16:00-17:00
DESCRIPTION:Online training via zoom. Meer informatie vindt u op: Online trainingen
URL:https://benackermans.nl/event/maandag-28-oktober-2024-1600-1700/
LOCATION:Zoom\, Nederland
CATEGORIES:Online Training
ORGANIZER;CN="Ben Ackermans":MAILTO:info@benackermans.nl
END:VEVENT
BEGIN:VEVENT
DTSTART;TZID=Europe/Amsterdam:20240923T160000
DTEND;TZID=Europe/Amsterdam:20240923T170000
DTSTAMP:20260422T022312
CREATED:20240715T123951Z
LAST-MODIFIED:20240715T123953Z
UID:2098-1727107200-1727110800@benackermans.nl
SUMMARY:• Maandag 23 september 2024 16:00-17:00
DESCRIPTION:Online training via zoom. Meer informatie vindt u op: Online trainingen
URL:https://benackermans.nl/event/maandag-23-september-2024-1600-1700/
LOCATION:Zoom\, Nederland
CATEGORIES:Online Training
ORGANIZER;CN="Ben Ackermans":MAILTO:info@benackermans.nl
END:VEVENT
BEGIN:VEVENT
DTSTART;TZID=Europe/Amsterdam:20240920T120000
DTEND;TZID=Europe/Amsterdam:20240920T130000
DTSTAMP:20260422T022312
CREATED:20240715T125022Z
LAST-MODIFIED:20240715T125024Z
UID:2122-1726833600-1726837200@benackermans.nl
SUMMARY:• Vrijdag 20 september 2024 12:00-13:00
DESCRIPTION:Online training via zoom. Meer informatie vindt u op: Online trainingen
URL:https://benackermans.nl/event/vrijdag-20-september-2024-1200-1300/
LOCATION:Zoom\, Nederland
CATEGORIES:Online Training
ORGANIZER;CN="Ben Ackermans":MAILTO:info@benackermans.nl
END:VEVENT
BEGIN:VEVENT
DTSTART;TZID=Europe/Amsterdam:20240916T160000
DTEND;TZID=Europe/Amsterdam:20240916T170000
DTSTAMP:20260422T022312
CREATED:20240715T123841Z
LAST-MODIFIED:20240715T123844Z
UID:2097-1726502400-1726506000@benackermans.nl
SUMMARY:• Maandag 16 september 2024 16:00-17:00
DESCRIPTION:Online training via zoom. Meer informatie vindt u op: Online trainingen
URL:https://benackermans.nl/event/maandag-16-september-2024-1600-1700/
LOCATION:Zoom\, Nederland
CATEGORIES:Online Training
ORGANIZER;CN="Ben Ackermans":MAILTO:info@benackermans.nl
END:VEVENT
BEGIN:VEVENT
DTSTART;TZID=Europe/Amsterdam:20240909T160000
DTEND;TZID=Europe/Amsterdam:20240909T170000
DTSTAMP:20260422T022312
CREATED:20240715T123451Z
LAST-MODIFIED:20240715T123454Z
UID:2096-1725897600-1725901200@benackermans.nl
SUMMARY:• Maandag 9 september 2024 16:00-17:00
DESCRIPTION:Online training via zoom. Meer informatie vindt u op: Online trainingen
URL:https://benackermans.nl/event/maandag-9-september-2024-1600-1700/
LOCATION:Zoom\, Nederland
CATEGORIES:Online Training
ORGANIZER;CN="Ben Ackermans":MAILTO:info@benackermans.nl
END:VEVENT
BEGIN:VEVENT
DTSTART;TZID=Europe/Amsterdam:20240906T120000
DTEND;TZID=Europe/Amsterdam:20240906T130000
DTSTAMP:20260422T022312
CREATED:20240715T124906Z
LAST-MODIFIED:20240715T124909Z
UID:2120-1725624000-1725627600@benackermans.nl
SUMMARY:• Vrijdag 6 september 2024 12:00-13:00
DESCRIPTION:Online training via zoom. Meer informatie vindt u op: Online trainingen
URL:https://benackermans.nl/event/vrijdag-6-september-2024-1200-1300/
LOCATION:Zoom\, Nederland
CATEGORIES:Online Training
ORGANIZER;CN="Ben Ackermans":MAILTO:info@benackermans.nl
END:VEVENT
BEGIN:VEVENT
DTSTART;TZID=Europe/Amsterdam:20240902T160000
DTEND;TZID=Europe/Amsterdam:20240902T170000
DTSTAMP:20260422T022312
CREATED:20240715T123415Z
LAST-MODIFIED:20240715T123418Z
UID:2095-1725292800-1725296400@benackermans.nl
SUMMARY:• Maandag 2 september 2024 16:00-17:00
DESCRIPTION:Online training via zoom. Meer informatie vindt u op: Online trainingen
URL:https://benackermans.nl/event/maandag-2-september-2024-1600-1700/
LOCATION:Zoom\, Nederland
CATEGORIES:Online Training
ORGANIZER;CN="Ben Ackermans":MAILTO:info@benackermans.nl
END:VEVENT
BEGIN:VEVENT
DTSTART;TZID=Europe/Amsterdam:20240830T120000
DTEND;TZID=Europe/Amsterdam:20240830T130000
DTSTAMP:20260422T022312
CREATED:20240715T124804Z
LAST-MODIFIED:20240715T124807Z
UID:2119-1725019200-1725022800@benackermans.nl
SUMMARY:• Vrijdag 30 augustus 2024 12:00-13:00
DESCRIPTION:Online training via zoom. Meer informatie vindt u op: Online trainingen
URL:https://benackermans.nl/event/vrijdag-30-augustus-2024-1200-1300/
LOCATION:Zoom\, Nederland
CATEGORIES:Online Training
ORGANIZER;CN="Ben Ackermans":MAILTO:info@benackermans.nl
END:VEVENT
BEGIN:VEVENT
DTSTART;TZID=Europe/Amsterdam:20240823T120000
DTEND;TZID=Europe/Amsterdam:20240823T130000
DTSTAMP:20260422T022312
CREATED:20240715T124406Z
LAST-MODIFIED:20240715T124409Z
UID:2118-1724414400-1724418000@benackermans.nl
SUMMARY:• Vrijdag 23 augustus 2024 12:00-13:00
DESCRIPTION:Online training via zoom. Meer informatie vindt u op: Online trainingen
URL:https://benackermans.nl/event/vrijdag-23-augustus-2024-1200-1300/
LOCATION:Zoom\, Nederland
CATEGORIES:Online Training
ORGANIZER;CN="Ben Ackermans":MAILTO:info@benackermans.nl
END:VEVENT
BEGIN:VEVENT
DTSTART;TZID=Europe/Amsterdam:20240819T160000
DTEND;TZID=Europe/Amsterdam:20240819T170000
DTSTAMP:20260422T022312
CREATED:20240715T123250Z
LAST-MODIFIED:20240715T123253Z
UID:2093-1724083200-1724086800@benackermans.nl
SUMMARY:• Maandag 19 augustus 2024 16:00-17:00
DESCRIPTION:Online training via zoom. Meer informatie vindt u op: Online trainingen
URL:https://benackermans.nl/event/maandag-19-augustus-2024-1600-1700/
LOCATION:Zoom\, Nederland
CATEGORIES:Online Training
ORGANIZER;CN="Ben Ackermans":MAILTO:info@benackermans.nl
END:VEVENT
BEGIN:VEVENT
DTSTART;TZID=Europe/Amsterdam:20240729T160000
DTEND;TZID=Europe/Amsterdam:20240729T170000
DTSTAMP:20260422T022312
CREATED:20240515T175950Z
LAST-MODIFIED:20240515T175953Z
UID:2054-1722268800-1722272400@benackermans.nl
SUMMARY:• Maandag 29 juli 2024 16:00-17:00
DESCRIPTION:Online training via zoom. Meer informatie vindt u op: Online trainingen
URL:https://benackermans.nl/event/maandag-29-juli-2024-1600-1700/
LOCATION:Zoom\, Nederland
CATEGORIES:Online Training
ORGANIZER;CN="Ben Ackermans":MAILTO:info@benackermans.nl
END:VEVENT
BEGIN:VEVENT
DTSTART;TZID=Europe/Amsterdam:20240722T160000
DTEND;TZID=Europe/Amsterdam:20240722T170000
DTSTAMP:20260422T022312
CREATED:20240515T175612Z
LAST-MODIFIED:20240515T175919Z
UID:2043-1721664000-1721667600@benackermans.nl
SUMMARY:• Maandag 22 juli 2024 16:00-17:00
DESCRIPTION:Online training via zoom. Meer informatie vindt u op: Online trainingen
URL:https://benackermans.nl/event/maandag-1-juli-2024-1600-1700/
LOCATION:Zoom\, Nederland
CATEGORIES:Online Training
ORGANIZER;CN="Ben Ackermans":MAILTO:info@benackermans.nl
END:VEVENT
BEGIN:VEVENT
DTSTART;TZID=Europe/Amsterdam:20240705T120000
DTEND;TZID=Europe/Amsterdam:20240705T130000
DTSTAMP:20260422T022312
CREATED:20240515T173650Z
LAST-MODIFIED:20240515T173653Z
UID:2023-1720180800-1720184400@benackermans.nl
SUMMARY:• Vrijdag 5 juli 2024 12:00-13:00
DESCRIPTION:Online training via zoom. Meer informatie vindt u op: Online trainingen
URL:https://benackermans.nl/event/vrijdag-5-juli-2024-1200-1300/
LOCATION:Zoom\, Nederland
CATEGORIES:Online Training
ORGANIZER;CN="Ben Ackermans":MAILTO:info@benackermans.nl
END:VEVENT
BEGIN:VEVENT
DTSTART;TZID=Europe/Amsterdam:20240701T160000
DTEND;TZID=Europe/Amsterdam:20240701T170000
DTSTAMP:20260422T022312
CREATED:20240614T090902Z
LAST-MODIFIED:20240614T090905Z
UID:2078-1719849600-1719853200@benackermans.nl
SUMMARY:• Maandag 1 juli 2024 16:00-17:00
DESCRIPTION:Online training via zoom. Meer informatie vindt u op: Online trainingen
URL:https://benackermans.nl/event/maandag-1-juli-2024-1600-1700-2/
LOCATION:Zoom\, Nederland
CATEGORIES:Online Training
ORGANIZER;CN="Ben Ackermans":MAILTO:info@benackermans.nl
END:VEVENT
BEGIN:VEVENT
DTSTART;TZID=Europe/Amsterdam:20240610T160000
DTEND;TZID=Europe/Amsterdam:20240610T170000
DTSTAMP:20260422T022312
CREATED:20240322T082814Z
LAST-MODIFIED:20240322T082817Z
UID:1953-1718035200-1718038800@benackermans.nl
SUMMARY:• Maandag 10 juni 2024 16:00-17:00
DESCRIPTION:Online training via zoom. Meer informatie vindt u op: Online trainingen
URL:https://benackermans.nl/event/maandag-10-juni-2024-1600-1700/
LOCATION:Zoom\, Nederland
CATEGORIES:Online Training
ORGANIZER;CN="Ben Ackermans":MAILTO:info@benackermans.nl
END:VEVENT
BEGIN:VEVENT
DTSTART;TZID=Europe/Amsterdam:20240603T160000
DTEND;TZID=Europe/Amsterdam:20240603T170000
DTSTAMP:20260422T022312
CREATED:20240322T082741Z
LAST-MODIFIED:20240322T082744Z
UID:1952-1717430400-1717434000@benackermans.nl
SUMMARY:• Maandag 3 juni 2024 16:00-17:00
DESCRIPTION:Online training via zoom. Meer informatie vindt u op: Online trainingen
URL:https://benackermans.nl/event/maandag-3-juni-2024-1600-1700/
LOCATION:Zoom\, Nederland
CATEGORIES:Online Training
ORGANIZER;CN="Ben Ackermans":MAILTO:info@benackermans.nl
END:VEVENT
BEGIN:VEVENT
DTSTART;TZID=Europe/Amsterdam:20240527T160000
DTEND;TZID=Europe/Amsterdam:20240527T170000
DTSTAMP:20260422T022312
CREATED:20240322T082705Z
LAST-MODIFIED:20240322T082708Z
UID:1951-1716825600-1716829200@benackermans.nl
SUMMARY:• Maandag 27 mei 2024 16:00-17:00
DESCRIPTION:Online training via zoom. Meer informatie vindt u op: Online trainingen
URL:https://benackermans.nl/event/maandag-27-mei-2024-1600-1700/
LOCATION:Zoom\, Nederland
CATEGORIES:Online Training
ORGANIZER;CN="Ben Ackermans":MAILTO:info@benackermans.nl
END:VEVENT
BEGIN:VEVENT
DTSTART;TZID=Europe/Amsterdam:20240524T120000
DTEND;TZID=Europe/Amsterdam:20240524T130000
DTSTAMP:20260422T022312
CREATED:20240322T084933Z
LAST-MODIFIED:20240322T084936Z
UID:1977-1716552000-1716555600@benackermans.nl
SUMMARY:• Vrijdag 24 mei 2024 12:00-13:00
DESCRIPTION:Online training via zoom. Meer informatie vindt u op: Online trainingen
URL:https://benackermans.nl/event/vrijdag-24-mei-2024-1200-1300/
LOCATION:Zoom\, Nederland
CATEGORIES:Online Training
ORGANIZER;CN="Ben Ackermans":MAILTO:info@benackermans.nl
END:VEVENT
BEGIN:VEVENT
DTSTART;TZID=Europe/Amsterdam:20240517T120000
DTEND;TZID=Europe/Amsterdam:20240517T130000
DTSTAMP:20260422T022312
CREATED:20240322T084850Z
LAST-MODIFIED:20240322T084853Z
UID:1976-1715947200-1715950800@benackermans.nl
SUMMARY:• Vrijdag 17 mei 2024 12:00-13:00
DESCRIPTION:Online training via zoom. Meer informatie vindt u op: Online trainingen
URL:https://benackermans.nl/event/vrijdag-17-mei-2024-1200-1300/
LOCATION:Zoom\, Nederland
CATEGORIES:Online Training
ORGANIZER;CN="Ben Ackermans":MAILTO:info@benackermans.nl
END:VEVENT
BEGIN:VEVENT
DTSTART;TZID=Europe/Amsterdam:20240513T160000
DTEND;TZID=Europe/Amsterdam:20240513T170000
DTSTAMP:20260422T022312
CREATED:20240322T082534Z
LAST-MODIFIED:20240322T082537Z
UID:1949-1715616000-1715619600@benackermans.nl
SUMMARY:• Maandag 13 mei 2024 16:00-17:00
DESCRIPTION:Online training via zoom. Meer informatie vindt u op: Online trainingen
URL:https://benackermans.nl/event/maandag-13-mei-2024-1600-1700/
LOCATION:Zoom\, Nederland
CATEGORIES:Online Training
ORGANIZER;CN="Ben Ackermans":MAILTO:info@benackermans.nl
END:VEVENT
BEGIN:VEVENT
DTSTART;TZID=Europe/Amsterdam:20240510T120000
DTEND;TZID=Europe/Amsterdam:20240510T130000
DTSTAMP:20260422T022312
CREATED:20240322T084654Z
LAST-MODIFIED:20240322T084657Z
UID:1975-1715342400-1715346000@benackermans.nl
SUMMARY:• Vrijdag 10 mei 2024 12:00-13:00
DESCRIPTION:Online training via zoom. Meer informatie vindt u op: Online trainingen
URL:https://benackermans.nl/event/vrijdag-10-mei-2024-1200-1300/
LOCATION:Zoom\, Nederland
CATEGORIES:Online Training
ORGANIZER;CN="Ben Ackermans":MAILTO:info@benackermans.nl
END:VEVENT
BEGIN:VEVENT
DTSTART;TZID=Europe/Amsterdam:20240506T160000
DTEND;TZID=Europe/Amsterdam:20240506T170000
DTSTAMP:20260422T022312
CREATED:20240322T082445Z
LAST-MODIFIED:20240322T082448Z
UID:1948-1715011200-1715014800@benackermans.nl
SUMMARY:• Maandag 6 mei 2024 16:00-17:00
DESCRIPTION:Online training via zoom. Meer informatie vindt u op: Online trainingen
URL:https://benackermans.nl/event/maandag-6-mei-2024-1600-1700/
LOCATION:Zoom\, Nederland
CATEGORIES:Online Training
ORGANIZER;CN="Ben Ackermans":MAILTO:info@benackermans.nl
END:VEVENT
BEGIN:VEVENT
DTSTART;TZID=Europe/Amsterdam:20240429T160000
DTEND;TZID=Europe/Amsterdam:20240429T170000
DTSTAMP:20260422T022312
CREATED:20240322T082401Z
LAST-MODIFIED:20240322T082404Z
UID:1947-1714406400-1714410000@benackermans.nl
SUMMARY:• Maandag 29 april 2024 16:00-17:00
DESCRIPTION:Online training via zoom. Meer informatie vindt u op: Online trainingen
URL:https://benackermans.nl/event/maandag-29-april-2024-1600-1700/
LOCATION:Zoom\, Nederland
CATEGORIES:Online Training
ORGANIZER;CN="Ben Ackermans":MAILTO:info@benackermans.nl
END:VEVENT
BEGIN:VEVENT
DTSTART;TZID=Europe/Amsterdam:20240405T120000
DTEND;TZID=Europe/Amsterdam:20240405T130000
DTSTAMP:20260422T022312
CREATED:20240217T143626Z
LAST-MODIFIED:20240217T143629Z
UID:1928-1712318400-1712322000@benackermans.nl
SUMMARY:• Vrijdag 5 april 2024 12:00-13:00
DESCRIPTION:Online training via zoom. Meer informatie vindt u op: Online trainingen
URL:https://benackermans.nl/event/vrijdag-5-april-2024-1200-1300/
LOCATION:Zoom\, Nederland
CATEGORIES:Online Training
ORGANIZER;CN="Ben Ackermans":MAILTO:info@benackermans.nl
END:VEVENT
BEGIN:VEVENT
DTSTART;TZID=Europe/Amsterdam:20240329T120000
DTEND;TZID=Europe/Amsterdam:20240329T130000
DTSTAMP:20260422T022312
CREATED:20240217T143525Z
LAST-MODIFIED:20240217T143528Z
UID:1927-1711713600-1711717200@benackermans.nl
SUMMARY:• Vrijdag 29 maart 2024 12:00-13:00
DESCRIPTION:Online training via zoom. Meer informatie vindt u op: Online trainingen
URL:https://benackermans.nl/event/vrijdag-29-maart-2024-1200-1300/
LOCATION:Zoom\, Nederland
CATEGORIES:Online Training
ORGANIZER;CN="Ben Ackermans":MAILTO:info@benackermans.nl
END:VEVENT
BEGIN:VEVENT
DTSTART;TZID=Europe/Amsterdam:20240325T160000
DTEND;TZID=Europe/Amsterdam:20240325T170000
DTSTAMP:20260422T022312
CREATED:20240217T142523Z
LAST-MODIFIED:20240217T142526Z
UID:1910-1711382400-1711386000@benackermans.nl
SUMMARY:• Maandag 25 maart 2024 16:00-17:00
DESCRIPTION:Online training via zoom. Meer informatie vindt u op: Online trainingen
URL:https://benackermans.nl/event/maandag-25-maart-2024-1600-1700/
LOCATION:Zoom\, Nederland
CATEGORIES:Online Training
ORGANIZER;CN="Ben Ackermans":MAILTO:info@benackermans.nl
END:VEVENT
BEGIN:VEVENT
DTSTART;TZID=Europe/Amsterdam:20240318T160000
DTEND;TZID=Europe/Amsterdam:20240318T170000
DTSTAMP:20260422T022312
CREATED:20240217T142445Z
LAST-MODIFIED:20240217T142448Z
UID:1909-1710777600-1710781200@benackermans.nl
SUMMARY:• Maandag 18 maart 2024 16:00-17:00
DESCRIPTION:Online training via zoom. Meer informatie vindt u op: Online trainingen
URL:https://benackermans.nl/event/maandag-18-maart-2024-1600-1700/
LOCATION:Zoom\, Nederland
CATEGORIES:Online Training
ORGANIZER;CN="Ben Ackermans":MAILTO:info@benackermans.nl
END:VEVENT
BEGIN:VEVENT
DTSTART;TZID=Europe/Amsterdam:20240315T120000
DTEND;TZID=Europe/Amsterdam:20240315T130000
DTSTAMP:20260422T022312
CREATED:20240217T143249Z
LAST-MODIFIED:20240217T143253Z
UID:1925-1710504000-1710507600@benackermans.nl
SUMMARY:• Vrijdag 15 maart 2024 12:00-13:00
DESCRIPTION:Online training via zoom. Meer informatie vindt u op: Online trainingen
URL:https://benackermans.nl/event/vrijdag-15-maart-2024-1200-1300/
LOCATION:Zoom\, Nederland
CATEGORIES:Online Training
ORGANIZER;CN="Ben Ackermans":MAILTO:info@benackermans.nl
END:VEVENT
BEGIN:VEVENT
DTSTART;TZID=Europe/Amsterdam:20240311T160000
DTEND;TZID=Europe/Amsterdam:20240311T170000
DTSTAMP:20260422T022312
CREATED:20231228T102640Z
LAST-MODIFIED:20240217T142700Z
UID:1876-1710172800-1710176400@benackermans.nl
SUMMARY:• Maandag 11 maart 2024 16:00-17:00
DESCRIPTION:Online training via zoom. Meer informatie vindt u op: Online trainingen
URL:https://benackermans.nl/event/maandag-11-maart-2024-1600-1700/
LOCATION:Zoom\, Nederland
CATEGORIES:Online Training
ORGANIZER;CN="Ben Ackermans":MAILTO:info@benackermans.nl
END:VEVENT
BEGIN:VEVENT
DTSTART;TZID=Europe/Amsterdam:20240308T120000
DTEND;TZID=Europe/Amsterdam:20240308T130000
DTSTAMP:20260422T022312
CREATED:20231228T103511Z
LAST-MODIFIED:20231228T103514Z
UID:1889-1709899200-1709902800@benackermans.nl
SUMMARY:• Vrijdag 8 maart 2024 12:00-13:00
DESCRIPTION:Online training via zoom. Meer informatie vindt u op: Online trainingen
URL:https://benackermans.nl/event/vrijdag-8-maart-2024-1200-1300/
LOCATION:Zoom\, Nederland
CATEGORIES:Online Training
ORGANIZER;CN="Ben Ackermans":MAILTO:info@benackermans.nl
END:VEVENT
END:VCALENDAR