BEGIN:VCALENDAR
VERSION:2.0
PRODID:-//Ben Ackermans - ECPv6.15.20//NONSGML v1.0//EN
CALSCALE:GREGORIAN
METHOD:PUBLISH
X-WR-CALNAME:Ben Ackermans
X-ORIGINAL-URL:https://benackermans.nl
X-WR-CALDESC:Evenementen voor Ben Ackermans
REFRESH-INTERVAL;VALUE=DURATION:PT1H
X-Robots-Tag:noindex
X-PUBLISHED-TTL:PT1H
BEGIN:VTIMEZONE
TZID:Europe/Amsterdam
BEGIN:DAYLIGHT
TZOFFSETFROM:+0100
TZOFFSETTO:+0200
TZNAME:CEST
DTSTART:20230326T010000
END:DAYLIGHT
BEGIN:STANDARD
TZOFFSETFROM:+0200
TZOFFSETTO:+0100
TZNAME:CET
DTSTART:20231029T010000
END:STANDARD
BEGIN:DAYLIGHT
TZOFFSETFROM:+0100
TZOFFSETTO:+0200
TZNAME:CEST
DTSTART:20240331T010000
END:DAYLIGHT
BEGIN:STANDARD
TZOFFSETFROM:+0200
TZOFFSETTO:+0100
TZNAME:CET
DTSTART:20241027T010000
END:STANDARD
BEGIN:DAYLIGHT
TZOFFSETFROM:+0100
TZOFFSETTO:+0200
TZNAME:CEST
DTSTART:20250330T010000
END:DAYLIGHT
BEGIN:STANDARD
TZOFFSETFROM:+0200
TZOFFSETTO:+0100
TZNAME:CET
DTSTART:20251026T010000
END:STANDARD
END:VTIMEZONE
BEGIN:VEVENT
DTSTART;TZID=Europe/Amsterdam:20241104T160000
DTEND;TZID=Europe/Amsterdam:20241104T170000
DTSTAMP:20260421T213107
CREATED:20240912T120627Z
LAST-MODIFIED:20240912T120629Z
UID:2188-1730736000-1730739600@benackermans.nl
SUMMARY:• Maandag 4 november 2024 16:00-17:00
DESCRIPTION:Online training via zoom. Meer informatie vindt u op: Online trainingen
URL:https://benackermans.nl/event/maandag-4-november-2024-1600-1700/
LOCATION:Zoom\, Nederland
CATEGORIES:Online Training
ORGANIZER;CN="Ben Ackermans":MAILTO:info@benackermans.nl
END:VEVENT
BEGIN:VEVENT
DTSTART;TZID=Europe/Amsterdam:20241101T120000
DTEND;TZID=Europe/Amsterdam:20241101T130000
DTSTAMP:20260421T213107
CREATED:20240912T115957Z
LAST-MODIFIED:20240912T120000Z
UID:2164-1730462400-1730466000@benackermans.nl
SUMMARY:• Vrijdag 1 november 2024 12:00-13:00
DESCRIPTION:Online training via zoom. Meer informatie vindt u op: Online trainingen
URL:https://benackermans.nl/event/vrijdag-1-november-2024-1200-1300/
LOCATION:Zoom\, Nederland
CATEGORIES:Online Training
ORGANIZER;CN="Ben Ackermans":MAILTO:info@benackermans.nl
END:VEVENT
BEGIN:VEVENT
DTSTART;TZID=Europe/Amsterdam:20241028T160000
DTEND;TZID=Europe/Amsterdam:20241028T170000
DTSTAMP:20260421T213107
CREATED:20240912T120547Z
LAST-MODIFIED:20240912T120550Z
UID:2187-1730131200-1730134800@benackermans.nl
SUMMARY:• Maandag 28 oktober 2024 16:00-17:00
DESCRIPTION:Online training via zoom. Meer informatie vindt u op: Online trainingen
URL:https://benackermans.nl/event/maandag-28-oktober-2024-1600-1700/
LOCATION:Zoom\, Nederland
CATEGORIES:Online Training
ORGANIZER;CN="Ben Ackermans":MAILTO:info@benackermans.nl
END:VEVENT
BEGIN:VEVENT
DTSTART;TZID=Europe/Amsterdam:20241025T120000
DTEND;TZID=Europe/Amsterdam:20241025T130000
DTSTAMP:20260421T213107
CREATED:20240912T115907Z
LAST-MODIFIED:20241025T084017Z
UID:2163-1729857600-1729861200@benackermans.nl
SUMMARY:• Vrijdag 25 oktober 2024 Geen training
DESCRIPTION:Online training via zoom. Meer informatie vindt u op: Online trainingen
URL:https://benackermans.nl/event/vrijdag-25-oktober-2024-1200-1300/
LOCATION:Zoom\, Nederland
CATEGORIES:Offline Training
ORGANIZER;CN="Ben Ackermans":MAILTO:info@benackermans.nl
END:VEVENT
BEGIN:VEVENT
DTSTART;TZID=Europe/Amsterdam:20241021T160000
DTEND;TZID=Europe/Amsterdam:20241021T170000
DTSTAMP:20260421T213107
CREATED:20240912T120513Z
LAST-MODIFIED:20241019T121010Z
UID:2186-1729526400-1729530000@benackermans.nl
SUMMARY:• Maandag 21 oktober 2024 Geen training
DESCRIPTION:Online training via zoom. Meer informatie vindt u op: Online trainingen
URL:https://benackermans.nl/event/maandag-21-oktober-2024-1600-1700/
LOCATION:Zoom\, Nederland
CATEGORIES:Offline Training
ORGANIZER;CN="Ben Ackermans":MAILTO:info@benackermans.nl
END:VEVENT
BEGIN:VEVENT
DTSTART;TZID=Europe/Amsterdam:20241018T120000
DTEND;TZID=Europe/Amsterdam:20241018T130000
DTSTAMP:20260421T213107
CREATED:20240912T115833Z
LAST-MODIFIED:20241018T071623Z
UID:2162-1729252800-1729256400@benackermans.nl
SUMMARY:• Vrijdag 18 oktober 2024 Geen training
DESCRIPTION:Online training via zoom. Meer informatie vindt u op: Online trainingen
URL:https://benackermans.nl/event/vrijdag-18-oktober-2024-1200-1300/
LOCATION:Zoom\, Nederland
CATEGORIES:Offline Training
ORGANIZER;CN="Ben Ackermans":MAILTO:info@benackermans.nl
END:VEVENT
BEGIN:VEVENT
DTSTART;TZID=Europe/Amsterdam:20241014T160000
DTEND;TZID=Europe/Amsterdam:20241014T170000
DTSTAMP:20260421T213107
CREATED:20240912T120358Z
LAST-MODIFIED:20241014T091337Z
UID:2185-1728921600-1728925200@benackermans.nl
SUMMARY:• Maandag 14 oktober 2024 Geen training
DESCRIPTION:Online training via zoom. Meer informatie vindt u op: Online trainingen
URL:https://benackermans.nl/event/maandag-14-oktober-2024-1600-1700/
LOCATION:Zoom\, Nederland
CATEGORIES:Offline Training
ORGANIZER;CN="Ben Ackermans":MAILTO:info@benackermans.nl
END:VEVENT
BEGIN:VEVENT
DTSTART;TZID=Europe/Amsterdam:20241011T120000
DTEND;TZID=Europe/Amsterdam:20241011T130000
DTSTAMP:20260421T213107
CREATED:20240912T115748Z
LAST-MODIFIED:20241014T091312Z
UID:2161-1728648000-1728651600@benackermans.nl
SUMMARY:• Vrijdag 11 oktober 2024 Geen training
DESCRIPTION:Online training via zoom. Meer informatie vindt u op: Online trainingen
URL:https://benackermans.nl/event/vrijdag-11-oktober-2024-1200-1300/
LOCATION:Zoom\, Nederland
CATEGORIES:Offline Training
ORGANIZER;CN="Ben Ackermans":MAILTO:info@benackermans.nl
END:VEVENT
BEGIN:VEVENT
DTSTART;TZID=Europe/Amsterdam:20241007T160000
DTEND;TZID=Europe/Amsterdam:20241007T170000
DTSTAMP:20260421T213107
CREATED:20240715T124101Z
LAST-MODIFIED:20241003T160501Z
UID:2100-1728316800-1728320400@benackermans.nl
SUMMARY:• Maandag 7 oktober 2024 Geen training
DESCRIPTION:Online training via zoom. Meer informatie vindt u op: Online trainingen
URL:https://benackermans.nl/event/maandag-7-oktober-2024-1600-1700/
LOCATION:Zoom\, Nederland
CATEGORIES:Offline Training
ORGANIZER;CN="Ben Ackermans":MAILTO:info@benackermans.nl
END:VEVENT
BEGIN:VEVENT
DTSTART;TZID=Europe/Amsterdam:20241004T120000
DTEND;TZID=Europe/Amsterdam:20241004T130000
DTSTAMP:20260421T213107
CREATED:20240715T125149Z
LAST-MODIFIED:20240930T110912Z
UID:2124-1728043200-1728046800@benackermans.nl
SUMMARY:• Vrijdag 4 oktober 2024 Geen training
DESCRIPTION:Online training via zoom. Meer informatie vindt u op: Online trainingen
URL:https://benackermans.nl/event/vrijdag-4-oktober-2024-1200-1300/
LOCATION:Zoom\, Nederland
CATEGORIES:Offline Training
ORGANIZER;CN="Ben Ackermans":MAILTO:info@benackermans.nl
END:VEVENT
BEGIN:VEVENT
DTSTART;TZID=Europe/Amsterdam:20240930T160000
DTEND;TZID=Europe/Amsterdam:20240930T170000
DTSTAMP:20260421T213107
CREATED:20240927T094957Z
LAST-MODIFIED:20240930T110203Z
UID:2199-1727712000-1727715600@benackermans.nl
SUMMARY:• Maandag 30 september 2024 Geen training
DESCRIPTION:Online training via zoom. Meer informatie vindt u op: Online trainingen
URL:https://benackermans.nl/event/maandag-30-september-2024-1600-1700/
LOCATION:Zoom\, Nederland
CATEGORIES:Offline Training
ORGANIZER;CN="Ben Ackermans":MAILTO:info@benackermans.nl
END:VEVENT
BEGIN:VEVENT
DTSTART;TZID=Europe/Amsterdam:20240927T120000
DTEND;TZID=Europe/Amsterdam:20240927T130000
DTSTAMP:20260421T213107
CREATED:20240715T125108Z
LAST-MODIFIED:20240927T094855Z
UID:2123-1727438400-1727442000@benackermans.nl
SUMMARY:• Vrijdag 27 september 2024 Geen training
DESCRIPTION:Online training via zoom. Meer informatie vindt u op: Online trainingen
URL:https://benackermans.nl/event/vrijdag-27-september-2024-1200-1300/
LOCATION:Zoom\, Nederland
CATEGORIES:Offline Training
ORGANIZER;CN="Ben Ackermans":MAILTO:info@benackermans.nl
END:VEVENT
BEGIN:VEVENT
DTSTART;TZID=Europe/Amsterdam:20240923T160000
DTEND;TZID=Europe/Amsterdam:20240923T170000
DTSTAMP:20260421T213107
CREATED:20240715T123951Z
LAST-MODIFIED:20240715T123953Z
UID:2098-1727107200-1727110800@benackermans.nl
SUMMARY:• Maandag 23 september 2024 16:00-17:00
DESCRIPTION:Online training via zoom. Meer informatie vindt u op: Online trainingen
URL:https://benackermans.nl/event/maandag-23-september-2024-1600-1700/
LOCATION:Zoom\, Nederland
CATEGORIES:Online Training
ORGANIZER;CN="Ben Ackermans":MAILTO:info@benackermans.nl
END:VEVENT
BEGIN:VEVENT
DTSTART;TZID=Europe/Amsterdam:20240920T120000
DTEND;TZID=Europe/Amsterdam:20240920T130000
DTSTAMP:20260421T213107
CREATED:20240715T125022Z
LAST-MODIFIED:20240715T125024Z
UID:2122-1726833600-1726837200@benackermans.nl
SUMMARY:• Vrijdag 20 september 2024 12:00-13:00
DESCRIPTION:Online training via zoom. Meer informatie vindt u op: Online trainingen
URL:https://benackermans.nl/event/vrijdag-20-september-2024-1200-1300/
LOCATION:Zoom\, Nederland
CATEGORIES:Online Training
ORGANIZER;CN="Ben Ackermans":MAILTO:info@benackermans.nl
END:VEVENT
BEGIN:VEVENT
DTSTART;TZID=Europe/Amsterdam:20240916T160000
DTEND;TZID=Europe/Amsterdam:20240916T170000
DTSTAMP:20260421T213107
CREATED:20240715T123841Z
LAST-MODIFIED:20240715T123844Z
UID:2097-1726502400-1726506000@benackermans.nl
SUMMARY:• Maandag 16 september 2024 16:00-17:00
DESCRIPTION:Online training via zoom. Meer informatie vindt u op: Online trainingen
URL:https://benackermans.nl/event/maandag-16-september-2024-1600-1700/
LOCATION:Zoom\, Nederland
CATEGORIES:Online Training
ORGANIZER;CN="Ben Ackermans":MAILTO:info@benackermans.nl
END:VEVENT
BEGIN:VEVENT
DTSTART;TZID=Europe/Amsterdam:20240913T120000
DTEND;TZID=Europe/Amsterdam:20240913T130000
DTSTAMP:20260421T213107
CREATED:20240715T124940Z
LAST-MODIFIED:20240912T115155Z
UID:2121-1726228800-1726232400@benackermans.nl
SUMMARY:• Vrijdag 13 september 2024 Geen training
DESCRIPTION:Online training via zoom. Meer informatie vindt u op: Online trainingen
URL:https://benackermans.nl/event/vrijdag-13-september-2024-1200-1300/
LOCATION:Zoom\, Nederland
CATEGORIES:Offline Training
ORGANIZER;CN="Ben Ackermans":MAILTO:info@benackermans.nl
END:VEVENT
BEGIN:VEVENT
DTSTART;TZID=Europe/Amsterdam:20240909T160000
DTEND;TZID=Europe/Amsterdam:20240909T170000
DTSTAMP:20260421T213107
CREATED:20240715T123451Z
LAST-MODIFIED:20240715T123454Z
UID:2096-1725897600-1725901200@benackermans.nl
SUMMARY:• Maandag 9 september 2024 16:00-17:00
DESCRIPTION:Online training via zoom. Meer informatie vindt u op: Online trainingen
URL:https://benackermans.nl/event/maandag-9-september-2024-1600-1700/
LOCATION:Zoom\, Nederland
CATEGORIES:Online Training
ORGANIZER;CN="Ben Ackermans":MAILTO:info@benackermans.nl
END:VEVENT
BEGIN:VEVENT
DTSTART;TZID=Europe/Amsterdam:20240906T120000
DTEND;TZID=Europe/Amsterdam:20240906T130000
DTSTAMP:20260421T213107
CREATED:20240715T124906Z
LAST-MODIFIED:20240715T124909Z
UID:2120-1725624000-1725627600@benackermans.nl
SUMMARY:• Vrijdag 6 september 2024 12:00-13:00
DESCRIPTION:Online training via zoom. Meer informatie vindt u op: Online trainingen
URL:https://benackermans.nl/event/vrijdag-6-september-2024-1200-1300/
LOCATION:Zoom\, Nederland
CATEGORIES:Online Training
ORGANIZER;CN="Ben Ackermans":MAILTO:info@benackermans.nl
END:VEVENT
BEGIN:VEVENT
DTSTART;TZID=Europe/Amsterdam:20240902T160000
DTEND;TZID=Europe/Amsterdam:20240902T170000
DTSTAMP:20260421T213107
CREATED:20240715T123415Z
LAST-MODIFIED:20240715T123418Z
UID:2095-1725292800-1725296400@benackermans.nl
SUMMARY:• Maandag 2 september 2024 16:00-17:00
DESCRIPTION:Online training via zoom. Meer informatie vindt u op: Online trainingen
URL:https://benackermans.nl/event/maandag-2-september-2024-1600-1700/
LOCATION:Zoom\, Nederland
CATEGORIES:Online Training
ORGANIZER;CN="Ben Ackermans":MAILTO:info@benackermans.nl
END:VEVENT
BEGIN:VEVENT
DTSTART;TZID=Europe/Amsterdam:20240830T120000
DTEND;TZID=Europe/Amsterdam:20240830T130000
DTSTAMP:20260421T213107
CREATED:20240715T124804Z
LAST-MODIFIED:20240715T124807Z
UID:2119-1725019200-1725022800@benackermans.nl
SUMMARY:• Vrijdag 30 augustus 2024 12:00-13:00
DESCRIPTION:Online training via zoom. Meer informatie vindt u op: Online trainingen
URL:https://benackermans.nl/event/vrijdag-30-augustus-2024-1200-1300/
LOCATION:Zoom\, Nederland
CATEGORIES:Online Training
ORGANIZER;CN="Ben Ackermans":MAILTO:info@benackermans.nl
END:VEVENT
BEGIN:VEVENT
DTSTART;TZID=Europe/Amsterdam:20240826T160000
DTEND;TZID=Europe/Amsterdam:20240826T170000
DTSTAMP:20260421T213107
CREATED:20240715T123334Z
LAST-MODIFIED:20240826T072423Z
UID:2094-1724688000-1724691600@benackermans.nl
SUMMARY:• Maandag 26 augustus 2024 Geen training
DESCRIPTION:Online training via zoom. Meer informatie vindt u op: Online trainingen
URL:https://benackermans.nl/event/maandag-26-augustus-2024-1600-1700/
LOCATION:Zoom\, Nederland
CATEGORIES:Offline Training
ORGANIZER;CN="Ben Ackermans":MAILTO:info@benackermans.nl
END:VEVENT
BEGIN:VEVENT
DTSTART;TZID=Europe/Amsterdam:20240823T120000
DTEND;TZID=Europe/Amsterdam:20240823T130000
DTSTAMP:20260421T213107
CREATED:20240715T124406Z
LAST-MODIFIED:20240715T124409Z
UID:2118-1724414400-1724418000@benackermans.nl
SUMMARY:• Vrijdag 23 augustus 2024 12:00-13:00
DESCRIPTION:Online training via zoom. Meer informatie vindt u op: Online trainingen
URL:https://benackermans.nl/event/vrijdag-23-augustus-2024-1200-1300/
LOCATION:Zoom\, Nederland
CATEGORIES:Online Training
ORGANIZER;CN="Ben Ackermans":MAILTO:info@benackermans.nl
END:VEVENT
BEGIN:VEVENT
DTSTART;TZID=Europe/Amsterdam:20240819T160000
DTEND;TZID=Europe/Amsterdam:20240819T170000
DTSTAMP:20260421T213107
CREATED:20240715T123250Z
LAST-MODIFIED:20240715T123253Z
UID:2093-1724083200-1724086800@benackermans.nl
SUMMARY:• Maandag 19 augustus 2024 16:00-17:00
DESCRIPTION:Online training via zoom. Meer informatie vindt u op: Online trainingen
URL:https://benackermans.nl/event/maandag-19-augustus-2024-1600-1700/
LOCATION:Zoom\, Nederland
CATEGORIES:Online Training
ORGANIZER;CN="Ben Ackermans":MAILTO:info@benackermans.nl
END:VEVENT
BEGIN:VEVENT
DTSTART;TZID=Europe/Amsterdam:20240816T120000
DTEND;TZID=Europe/Amsterdam:20240816T130000
DTSTAMP:20260421T213107
CREATED:20240715T124249Z
LAST-MODIFIED:20240816T141229Z
UID:2117-1723809600-1723813200@benackermans.nl
SUMMARY:• Vrijdag 16 augustus 2024 Geen trining
DESCRIPTION:Online training via zoom. Meer informatie vindt u op: Online trainingen
URL:https://benackermans.nl/event/vrijdag-16-augustus-2024-1200-1300/
LOCATION:Zoom\, Nederland
CATEGORIES:Offline Training
ORGANIZER;CN="Ben Ackermans":MAILTO:info@benackermans.nl
END:VEVENT
BEGIN:VEVENT
DTSTART;TZID=Europe/Amsterdam:20240812T160000
DTEND;TZID=Europe/Amsterdam:20240812T170000
DTSTAMP:20260421T213107
CREATED:20240515T180126Z
LAST-MODIFIED:20240812T103125Z
UID:2056-1723478400-1723482000@benackermans.nl
SUMMARY:• Maandag 12 augustus 2024 Geen training
DESCRIPTION:Online training via zoom. Meer informatie vindt u op: Online trainingen
URL:https://benackermans.nl/event/maandag-12-augustus-2024-1600-1700/
LOCATION:Zoom\, Nederland
CATEGORIES:Offline Training
ORGANIZER;CN="Ben Ackermans":MAILTO:info@benackermans.nl
END:VEVENT
BEGIN:VEVENT
DTSTART;TZID=Europe/Amsterdam:20240809T120000
DTEND;TZID=Europe/Amsterdam:20240809T130000
DTSTAMP:20260421T213107
CREATED:20240515T174108Z
LAST-MODIFIED:20240805T101149Z
UID:2038-1723204800-1723208400@benackermans.nl
SUMMARY:• Vrijdag 9 augustus 2024 Geen training
DESCRIPTION:Online training via zoom. Meer informatie vindt u op: Online trainingen
URL:https://benackermans.nl/event/vrijdag-9-augustus-2024-1200-1300/
LOCATION:Zoom\, Nederland
CATEGORIES:Offline Training
ORGANIZER;CN="Ben Ackermans":MAILTO:info@benackermans.nl
END:VEVENT
BEGIN:VEVENT
DTSTART;TZID=Europe/Amsterdam:20240805T160000
DTEND;TZID=Europe/Amsterdam:20240805T170000
DTSTAMP:20260421T213107
CREATED:20240515T180045Z
LAST-MODIFIED:20240805T095821Z
UID:2055-1722873600-1722877200@benackermans.nl
SUMMARY:• Maandag 5 augustus 2024 Geen Training
DESCRIPTION:Online training via zoom. Meer informatie vindt u op: Online trainingen
URL:https://benackermans.nl/event/maandag-5-augustus-2024-1600-1700/
LOCATION:Zoom\, Nederland
CATEGORIES:Offline Training
ORGANIZER;CN="Ben Ackermans":MAILTO:info@benackermans.nl
END:VEVENT
BEGIN:VEVENT
DTSTART;TZID=Europe/Amsterdam:20240802T120000
DTEND;TZID=Europe/Amsterdam:20240802T130000
DTSTAMP:20260421T213107
CREATED:20240515T174005Z
LAST-MODIFIED:20240729T151831Z
UID:2029-1722600000-1722603600@benackermans.nl
SUMMARY:• Vrijdag 2 augustus 2024 Geen training
DESCRIPTION:Online training via zoom. Meer informatie vindt u op: Online trainingen
URL:https://benackermans.nl/event/vrijdag-2-augustus-2024-1200-1300/
LOCATION:Zoom\, Nederland
CATEGORIES:Offline Training
ORGANIZER;CN="Ben Ackermans":MAILTO:info@benackermans.nl
END:VEVENT
BEGIN:VEVENT
DTSTART;TZID=Europe/Amsterdam:20240729T160000
DTEND;TZID=Europe/Amsterdam:20240729T170000
DTSTAMP:20260421T213107
CREATED:20240515T175950Z
LAST-MODIFIED:20240515T175953Z
UID:2054-1722268800-1722272400@benackermans.nl
SUMMARY:• Maandag 29 juli 2024 16:00-17:00
DESCRIPTION:Online training via zoom. Meer informatie vindt u op: Online trainingen
URL:https://benackermans.nl/event/maandag-29-juli-2024-1600-1700/
LOCATION:Zoom\, Nederland
CATEGORIES:Online Training
ORGANIZER;CN="Ben Ackermans":MAILTO:info@benackermans.nl
END:VEVENT
BEGIN:VEVENT
DTSTART;TZID=Europe/Amsterdam:20240726T120000
DTEND;TZID=Europe/Amsterdam:20240726T130000
DTSTAMP:20260421T213107
CREATED:20240515T173924Z
LAST-MODIFIED:20240724T145541Z
UID:2028-1721995200-1721998800@benackermans.nl
SUMMARY:• Vrijdag 26 juli 2024 Geen training
DESCRIPTION:Online training via zoom. Meer informatie vindt u op: Online trainingen
URL:https://benackermans.nl/event/vrijdag-26-juli-2024-1200-1300/
LOCATION:Zoom\, Nederland
CATEGORIES:Offline Training
ORGANIZER;CN="Ben Ackermans":MAILTO:info@benackermans.nl
END:VEVENT
END:VCALENDAR