BEGIN:VCALENDAR
VERSION:2.0
PRODID:-//Ben Ackermans - ECPv6.15.20//NONSGML v1.0//EN
CALSCALE:GREGORIAN
METHOD:PUBLISH
X-ORIGINAL-URL:https://benackermans.nl
X-WR-CALDESC:Evenementen voor Ben Ackermans
REFRESH-INTERVAL;VALUE=DURATION:PT1H
X-Robots-Tag:noindex
X-PUBLISHED-TTL:PT1H
BEGIN:VTIMEZONE
TZID:Europe/Amsterdam
BEGIN:DAYLIGHT
TZOFFSETFROM:+0100
TZOFFSETTO:+0200
TZNAME:CEST
DTSTART:20230326T010000
END:DAYLIGHT
BEGIN:STANDARD
TZOFFSETFROM:+0200
TZOFFSETTO:+0100
TZNAME:CET
DTSTART:20231029T010000
END:STANDARD
BEGIN:DAYLIGHT
TZOFFSETFROM:+0100
TZOFFSETTO:+0200
TZNAME:CEST
DTSTART:20240331T010000
END:DAYLIGHT
BEGIN:STANDARD
TZOFFSETFROM:+0200
TZOFFSETTO:+0100
TZNAME:CET
DTSTART:20241027T010000
END:STANDARD
BEGIN:DAYLIGHT
TZOFFSETFROM:+0100
TZOFFSETTO:+0200
TZNAME:CEST
DTSTART:20250330T010000
END:DAYLIGHT
BEGIN:STANDARD
TZOFFSETFROM:+0200
TZOFFSETTO:+0100
TZNAME:CET
DTSTART:20251026T010000
END:STANDARD
END:VTIMEZONE
BEGIN:VEVENT
DTSTART;TZID=Europe/Amsterdam:20240520T160000
DTEND;TZID=Europe/Amsterdam:20240520T170000
DTSTAMP:20260421T235421
CREATED:20240322T082610Z
LAST-MODIFIED:20240515T170431Z
UID:1950-1716220800-1716224400@benackermans.nl
SUMMARY:• Maandag 20 mei 2024 Pinksteren
DESCRIPTION:Online training via zoom. Meer informatie vindt u op: Online trainingen
URL:https://benackermans.nl/event/maandag-20-mei-2024-1600-1700/
LOCATION:Zoom\, Nederland
CATEGORIES:Offline Training
ORGANIZER;CN="Ben Ackermans":MAILTO:info@benackermans.nl
END:VEVENT
BEGIN:VEVENT
DTSTART;TZID=Europe/Amsterdam:20240517T120000
DTEND;TZID=Europe/Amsterdam:20240517T130000
DTSTAMP:20260421T235421
CREATED:20240322T084850Z
LAST-MODIFIED:20240322T084853Z
UID:1976-1715947200-1715950800@benackermans.nl
SUMMARY:• Vrijdag 17 mei 2024 12:00-13:00
DESCRIPTION:Online training via zoom. Meer informatie vindt u op: Online trainingen
URL:https://benackermans.nl/event/vrijdag-17-mei-2024-1200-1300/
LOCATION:Zoom\, Nederland
CATEGORIES:Online Training
ORGANIZER;CN="Ben Ackermans":MAILTO:info@benackermans.nl
END:VEVENT
BEGIN:VEVENT
DTSTART;TZID=Europe/Amsterdam:20240513T160000
DTEND;TZID=Europe/Amsterdam:20240513T170000
DTSTAMP:20260421T235421
CREATED:20240322T082534Z
LAST-MODIFIED:20240322T082537Z
UID:1949-1715616000-1715619600@benackermans.nl
SUMMARY:• Maandag 13 mei 2024 16:00-17:00
DESCRIPTION:Online training via zoom. Meer informatie vindt u op: Online trainingen
URL:https://benackermans.nl/event/maandag-13-mei-2024-1600-1700/
LOCATION:Zoom\, Nederland
CATEGORIES:Online Training
ORGANIZER;CN="Ben Ackermans":MAILTO:info@benackermans.nl
END:VEVENT
BEGIN:VEVENT
DTSTART;TZID=Europe/Amsterdam:20240510T120000
DTEND;TZID=Europe/Amsterdam:20240510T130000
DTSTAMP:20260421T235421
CREATED:20240322T084654Z
LAST-MODIFIED:20240322T084657Z
UID:1975-1715342400-1715346000@benackermans.nl
SUMMARY:• Vrijdag 10 mei 2024 12:00-13:00
DESCRIPTION:Online training via zoom. Meer informatie vindt u op: Online trainingen
URL:https://benackermans.nl/event/vrijdag-10-mei-2024-1200-1300/
LOCATION:Zoom\, Nederland
CATEGORIES:Online Training
ORGANIZER;CN="Ben Ackermans":MAILTO:info@benackermans.nl
END:VEVENT
BEGIN:VEVENT
DTSTART;TZID=Europe/Amsterdam:20240506T160000
DTEND;TZID=Europe/Amsterdam:20240506T170000
DTSTAMP:20260421T235421
CREATED:20240322T082445Z
LAST-MODIFIED:20240322T082448Z
UID:1948-1715011200-1715014800@benackermans.nl
SUMMARY:• Maandag 6 mei 2024 16:00-17:00
DESCRIPTION:Online training via zoom. Meer informatie vindt u op: Online trainingen
URL:https://benackermans.nl/event/maandag-6-mei-2024-1600-1700/
LOCATION:Zoom\, Nederland
CATEGORIES:Online Training
ORGANIZER;CN="Ben Ackermans":MAILTO:info@benackermans.nl
END:VEVENT
BEGIN:VEVENT
DTSTART;TZID=Europe/Amsterdam:20240503T120000
DTEND;TZID=Europe/Amsterdam:20240503T130000
DTSTAMP:20260421T235421
CREATED:20240322T084510Z
LAST-MODIFIED:20240503T090726Z
UID:1974-1714737600-1714741200@benackermans.nl
SUMMARY:• Vrijdag 3 mei 2024 Geen training
DESCRIPTION:Online training via zoom. Meer informatie vindt u op: Online trainingen
URL:https://benackermans.nl/event/vrijdag-3-mei-2024-1200-1300/
LOCATION:Zoom\, Nederland
CATEGORIES:Offline Training
ORGANIZER;CN="Ben Ackermans":MAILTO:info@benackermans.nl
END:VEVENT
BEGIN:VEVENT
DTSTART;TZID=Europe/Amsterdam:20240429T160000
DTEND;TZID=Europe/Amsterdam:20240429T170000
DTSTAMP:20260421T235421
CREATED:20240322T082401Z
LAST-MODIFIED:20240322T082404Z
UID:1947-1714406400-1714410000@benackermans.nl
SUMMARY:• Maandag 29 april 2024 16:00-17:00
DESCRIPTION:Online training via zoom. Meer informatie vindt u op: Online trainingen
URL:https://benackermans.nl/event/maandag-29-april-2024-1600-1700/
LOCATION:Zoom\, Nederland
CATEGORIES:Online Training
ORGANIZER;CN="Ben Ackermans":MAILTO:info@benackermans.nl
END:VEVENT
BEGIN:VEVENT
DTSTART;TZID=Europe/Amsterdam:20240426T120000
DTEND;TZID=Europe/Amsterdam:20240426T130000
DTSTAMP:20260421T235421
CREATED:20240322T084314Z
LAST-MODIFIED:20240426T074653Z
UID:1973-1714132800-1714136400@benackermans.nl
SUMMARY:• Vrijdag 26 april 2024 geen training
DESCRIPTION:Online training via zoom. Meer informatie vindt u op: Online trainingen
URL:https://benackermans.nl/event/vrijdag-26-april-2024-1200-1300/
LOCATION:Zoom\, Nederland
CATEGORIES:Offline Training
ORGANIZER;CN="Ben Ackermans":MAILTO:info@benackermans.nl
END:VEVENT
BEGIN:VEVENT
DTSTART;TZID=Europe/Amsterdam:20240422T160000
DTEND;TZID=Europe/Amsterdam:20240422T170000
DTSTAMP:20260421T235421
CREATED:20240322T082323Z
LAST-MODIFIED:20240405T113317Z
UID:1946-1713801600-1713805200@benackermans.nl
SUMMARY:• Maandag 22 april 2024 Geen training
DESCRIPTION:Online training via zoom. Meer informatie vindt u op: Online trainingen
URL:https://benackermans.nl/event/maandag-22-april-2024-1600-1700/
LOCATION:Zoom\, Nederland
CATEGORIES:Offline Training
ORGANIZER;CN="Ben Ackermans":MAILTO:info@benackermans.nl
END:VEVENT
BEGIN:VEVENT
DTSTART;TZID=Europe/Amsterdam:20240419T120000
DTEND;TZID=Europe/Amsterdam:20240419T130000
DTSTAMP:20260421T235421
CREATED:20240322T083240Z
LAST-MODIFIED:20240405T112454Z
UID:1972-1713528000-1713531600@benackermans.nl
SUMMARY:• Vrijdag 19 april 2024 Geen training
DESCRIPTION:Online training via zoom. Meer informatie vindt u op: Online trainingen
URL:https://benackermans.nl/event/vrijdag-19-april-2024-1200-1300/
LOCATION:Zoom\, Nederland
CATEGORIES:Offline Training
ORGANIZER;CN="Ben Ackermans":MAILTO:info@benackermans.nl
END:VEVENT
BEGIN:VEVENT
DTSTART;TZID=Europe/Amsterdam:20240415T160000
DTEND;TZID=Europe/Amsterdam:20240415T170000
DTSTAMP:20260421T235421
CREATED:20240322T082239Z
LAST-MODIFIED:20240405T112434Z
UID:1945-1713196800-1713200400@benackermans.nl
SUMMARY:• Maandag 15 april 2024 Geen training
DESCRIPTION:Online training via zoom. Meer informatie vindt u op: Online trainingen
URL:https://benackermans.nl/event/maandag-15-april-2024-1600-1700/
LOCATION:Zoom\, Nederland
CATEGORIES:Offline Training
ORGANIZER;CN="Ben Ackermans":MAILTO:info@benackermans.nl
END:VEVENT
BEGIN:VEVENT
DTSTART;TZID=Europe/Amsterdam:20240412T120000
DTEND;TZID=Europe/Amsterdam:20240412T130000
DTSTAMP:20260421T235421
CREATED:20240217T143702Z
LAST-MODIFIED:20240405T112415Z
UID:1929-1712923200-1712926800@benackermans.nl
SUMMARY:• Vrijdag 12 april 2024 Geen training
DESCRIPTION:Online training via zoom. Meer informatie vindt u op: Online trainingen
URL:https://benackermans.nl/event/vrijdag-12-april-2024-1200-1300/
LOCATION:Zoom\, Nederland
CATEGORIES:Offline Training
ORGANIZER;CN="Ben Ackermans":MAILTO:info@benackermans.nl
END:VEVENT
BEGIN:VEVENT
DTSTART;TZID=Europe/Amsterdam:20240408T160000
DTEND;TZID=Europe/Amsterdam:20240408T170000
DTSTAMP:20260421T235421
CREATED:20240217T142813Z
LAST-MODIFIED:20240405T112245Z
UID:1913-1712592000-1712595600@benackermans.nl
SUMMARY:•  Maandag 8 april 2024 Geen trainng
DESCRIPTION:Online training via zoom. Meer informatie vindt u op: Online trainingen
URL:https://benackermans.nl/event/maandag-8-april-2024-1600-1700/
LOCATION:Zoom\, Nederland
CATEGORIES:Offline Training
ORGANIZER;CN="Ben Ackermans":MAILTO:info@benackermans.nl
END:VEVENT
BEGIN:VEVENT
DTSTART;TZID=Europe/Amsterdam:20240405T120000
DTEND;TZID=Europe/Amsterdam:20240405T130000
DTSTAMP:20260421T235421
CREATED:20240217T143626Z
LAST-MODIFIED:20240217T143629Z
UID:1928-1712318400-1712322000@benackermans.nl
SUMMARY:• Vrijdag 5 april 2024 12:00-13:00
DESCRIPTION:Online training via zoom. Meer informatie vindt u op: Online trainingen
URL:https://benackermans.nl/event/vrijdag-5-april-2024-1200-1300/
LOCATION:Zoom\, Nederland
CATEGORIES:Online Training
ORGANIZER;CN="Ben Ackermans":MAILTO:info@benackermans.nl
END:VEVENT
BEGIN:VEVENT
DTSTART;TZID=Europe/Amsterdam:20240401T160000
DTEND;TZID=Europe/Amsterdam:20240401T170000
DTSTAMP:20260421T235421
CREATED:20240217T142733Z
LAST-MODIFIED:20240217T142840Z
UID:1912-1711987200-1711990800@benackermans.nl
SUMMARY:• Maandag 1 april 2024 Pasen
DESCRIPTION:Online training via zoom. Meer informatie vindt u op: Online trainingen
URL:https://benackermans.nl/event/maandag-1-april-2024-1600-1700/
LOCATION:Zoom\, Nederland
CATEGORIES:Offline Training
ORGANIZER;CN="Ben Ackermans":MAILTO:info@benackermans.nl
END:VEVENT
BEGIN:VEVENT
DTSTART;TZID=Europe/Amsterdam:20240329T120000
DTEND;TZID=Europe/Amsterdam:20240329T130000
DTSTAMP:20260421T235421
CREATED:20240217T143525Z
LAST-MODIFIED:20240217T143528Z
UID:1927-1711713600-1711717200@benackermans.nl
SUMMARY:• Vrijdag 29 maart 2024 12:00-13:00
DESCRIPTION:Online training via zoom. Meer informatie vindt u op: Online trainingen
URL:https://benackermans.nl/event/vrijdag-29-maart-2024-1200-1300/
LOCATION:Zoom\, Nederland
CATEGORIES:Online Training
ORGANIZER;CN="Ben Ackermans":MAILTO:info@benackermans.nl
END:VEVENT
BEGIN:VEVENT
DTSTART;TZID=Europe/Amsterdam:20240325T160000
DTEND;TZID=Europe/Amsterdam:20240325T170000
DTSTAMP:20260421T235421
CREATED:20240217T142523Z
LAST-MODIFIED:20240217T142526Z
UID:1910-1711382400-1711386000@benackermans.nl
SUMMARY:• Maandag 25 maart 2024 16:00-17:00
DESCRIPTION:Online training via zoom. Meer informatie vindt u op: Online trainingen
URL:https://benackermans.nl/event/maandag-25-maart-2024-1600-1700/
LOCATION:Zoom\, Nederland
CATEGORIES:Online Training
ORGANIZER;CN="Ben Ackermans":MAILTO:info@benackermans.nl
END:VEVENT
BEGIN:VEVENT
DTSTART;TZID=Europe/Amsterdam:20240322T120000
DTEND;TZID=Europe/Amsterdam:20240322T130000
DTSTAMP:20260421T235421
CREATED:20240217T143439Z
LAST-MODIFIED:20240322T085532Z
UID:1926-1711108800-1711112400@benackermans.nl
SUMMARY:• Vrijdag 22 maart 2024 Geen training
DESCRIPTION:Online training via zoom. Meer informatie vindt u op: Online trainingen
URL:https://benackermans.nl/event/vrijdag-22-maart-2024-1200-1300/
LOCATION:Zoom\, Nederland
CATEGORIES:Offline Training
ORGANIZER;CN="Ben Ackermans":MAILTO:info@benackermans.nl
END:VEVENT
BEGIN:VEVENT
DTSTART;TZID=Europe/Amsterdam:20240318T160000
DTEND;TZID=Europe/Amsterdam:20240318T170000
DTSTAMP:20260421T235421
CREATED:20240217T142445Z
LAST-MODIFIED:20240217T142448Z
UID:1909-1710777600-1710781200@benackermans.nl
SUMMARY:• Maandag 18 maart 2024 16:00-17:00
DESCRIPTION:Online training via zoom. Meer informatie vindt u op: Online trainingen
URL:https://benackermans.nl/event/maandag-18-maart-2024-1600-1700/
LOCATION:Zoom\, Nederland
CATEGORIES:Online Training
ORGANIZER;CN="Ben Ackermans":MAILTO:info@benackermans.nl
END:VEVENT
BEGIN:VEVENT
DTSTART;TZID=Europe/Amsterdam:20240315T120000
DTEND;TZID=Europe/Amsterdam:20240315T130000
DTSTAMP:20260421T235421
CREATED:20240217T143249Z
LAST-MODIFIED:20240217T143253Z
UID:1925-1710504000-1710507600@benackermans.nl
SUMMARY:• Vrijdag 15 maart 2024 12:00-13:00
DESCRIPTION:Online training via zoom. Meer informatie vindt u op: Online trainingen
URL:https://benackermans.nl/event/vrijdag-15-maart-2024-1200-1300/
LOCATION:Zoom\, Nederland
CATEGORIES:Online Training
ORGANIZER;CN="Ben Ackermans":MAILTO:info@benackermans.nl
END:VEVENT
BEGIN:VEVENT
DTSTART;TZID=Europe/Amsterdam:20240311T160000
DTEND;TZID=Europe/Amsterdam:20240311T170000
DTSTAMP:20260421T235421
CREATED:20231228T102640Z
LAST-MODIFIED:20240217T142700Z
UID:1876-1710172800-1710176400@benackermans.nl
SUMMARY:• Maandag 11 maart 2024 16:00-17:00
DESCRIPTION:Online training via zoom. Meer informatie vindt u op: Online trainingen
URL:https://benackermans.nl/event/maandag-11-maart-2024-1600-1700/
LOCATION:Zoom\, Nederland
CATEGORIES:Online Training
ORGANIZER;CN="Ben Ackermans":MAILTO:info@benackermans.nl
END:VEVENT
BEGIN:VEVENT
DTSTART;TZID=Europe/Amsterdam:20240308T120000
DTEND;TZID=Europe/Amsterdam:20240308T130000
DTSTAMP:20260421T235421
CREATED:20231228T103511Z
LAST-MODIFIED:20231228T103514Z
UID:1889-1709899200-1709902800@benackermans.nl
SUMMARY:• Vrijdag 8 maart 2024 12:00-13:00
DESCRIPTION:Online training via zoom. Meer informatie vindt u op: Online trainingen
URL:https://benackermans.nl/event/vrijdag-8-maart-2024-1200-1300/
LOCATION:Zoom\, Nederland
CATEGORIES:Online Training
ORGANIZER;CN="Ben Ackermans":MAILTO:info@benackermans.nl
END:VEVENT
BEGIN:VEVENT
DTSTART;TZID=Europe/Amsterdam:20240304T160000
DTEND;TZID=Europe/Amsterdam:20240304T170000
DTSTAMP:20260421T235421
CREATED:20240217T142601Z
LAST-MODIFIED:20240217T142710Z
UID:1911-1709568000-1709571600@benackermans.nl
SUMMARY:• Maandag 4 maart 2024 16:00-17:00
DESCRIPTION:Online training via zoom. Meer informatie vindt u op: Online trainingen
URL:https://benackermans.nl/event/maandag-4-maart-2024-1600-1700/
LOCATION:Zoom\, Nederland
CATEGORIES:Online Training
ORGANIZER;CN="Ben Ackermans":MAILTO:info@benackermans.nl
END:VEVENT
BEGIN:VEVENT
DTSTART;TZID=Europe/Amsterdam:20240301T120000
DTEND;TZID=Europe/Amsterdam:20240301T130000
DTSTAMP:20260421T235421
CREATED:20231228T103434Z
LAST-MODIFIED:20240229T190951Z
UID:1888-1709294400-1709298000@benackermans.nl
SUMMARY:• Vrijdag 1 maart 2024 Geen training
DESCRIPTION:Online training via zoom. Meer informatie vindt u op: Online trainingen
URL:https://benackermans.nl/event/vrijdag-1-maart-2024-1200-1300/
LOCATION:Zoom\, Nederland
CATEGORIES:Offline Training
ORGANIZER;CN="Ben Ackermans":MAILTO:info@benackermans.nl
END:VEVENT
BEGIN:VEVENT
DTSTART;TZID=Europe/Amsterdam:20240226T160000
DTEND;TZID=Europe/Amsterdam:20240226T170000
DTSTAMP:20260421T235421
CREATED:20231228T102537Z
LAST-MODIFIED:20231228T102540Z
UID:1859-1708963200-1708966800@benackermans.nl
SUMMARY:• Maandag 26 februari 2024 16:00-17:00
DESCRIPTION:Online training via zoom. Meer informatie vindt u op: Online trainingen
URL:https://benackermans.nl/event/maandag-26-februari-2024-1600-1700/
LOCATION:Zoom\, Nederland
CATEGORIES:Online Training
ORGANIZER;CN="Ben Ackermans":MAILTO:info@benackermans.nl
END:VEVENT
BEGIN:VEVENT
DTSTART;TZID=Europe/Amsterdam:20240223T120000
DTEND;TZID=Europe/Amsterdam:20240223T130000
DTSTAMP:20260421T235421
CREATED:20231228T103401Z
LAST-MODIFIED:20231228T103404Z
UID:1887-1708689600-1708693200@benackermans.nl
SUMMARY:• Vrijdag 23 februari 2024 12:00-13:00
DESCRIPTION:Online training via zoom. Meer informatie vindt u op: Online trainingen
URL:https://benackermans.nl/event/vrijdag-23-februari-2024-1200-1300/
LOCATION:Zoom\, Nederland
CATEGORIES:Online Training
ORGANIZER;CN="Ben Ackermans":MAILTO:info@benackermans.nl
END:VEVENT
BEGIN:VEVENT
DTSTART;TZID=Europe/Amsterdam:20240219T160000
DTEND;TZID=Europe/Amsterdam:20240219T170000
DTSTAMP:20260421T235421
CREATED:20231228T102410Z
LAST-MODIFIED:20231228T102426Z
UID:1858-1708358400-1708362000@benackermans.nl
SUMMARY:• Maandag 19 februari 2024 16:00-17:00
DESCRIPTION:Online training via zoom. Meer informatie vindt u op: Online trainingen
URL:https://benackermans.nl/event/maandag-19-februari-2024-1600-1700/
LOCATION:Zoom\, Nederland
CATEGORIES:Online Training
ORGANIZER;CN="Ben Ackermans":MAILTO:info@benackermans.nl
END:VEVENT
BEGIN:VEVENT
DTSTART;TZID=Europe/Amsterdam:20240216T120000
DTEND;TZID=Europe/Amsterdam:20240216T130000
DTSTAMP:20260421T235421
CREATED:20231228T103303Z
LAST-MODIFIED:20231228T103307Z
UID:1886-1708084800-1708088400@benackermans.nl
SUMMARY:• Vrijdag 16 februari 2024 12:00-13:00
DESCRIPTION:Online training via zoom. Meer informatie vindt u op: Online trainingen
URL:https://benackermans.nl/event/vrijdag-16-februari-2024-1200-1300/
LOCATION:Zoom\, Nederland
CATEGORIES:Online Training
ORGANIZER;CN="Ben Ackermans":MAILTO:info@benackermans.nl
END:VEVENT
BEGIN:VEVENT
DTSTART;TZID=Europe/Amsterdam:20240212T160000
DTEND;TZID=Europe/Amsterdam:20240212T170000
DTSTAMP:20260421T235421
CREATED:20231228T102259Z
LAST-MODIFIED:20240205T161726Z
UID:1857-1707753600-1707757200@benackermans.nl
SUMMARY:• Maandag 12 februari 2024 Carnaval
DESCRIPTION:Online training via zoom. Meer informatie vindt u op: Online trainingen
URL:https://benackermans.nl/event/maandag-12-februari-2024-1600-1700/
LOCATION:Zoom\, Nederland
CATEGORIES:Offline Training
ORGANIZER;CN="Ben Ackermans":MAILTO:info@benackermans.nl
END:VEVENT
BEGIN:VEVENT
DTSTART;TZID=Europe/Amsterdam:20240209T120000
DTEND;TZID=Europe/Amsterdam:20240209T130000
DTSTAMP:20260421T235421
CREATED:20231228T103053Z
LAST-MODIFIED:20231228T103116Z
UID:1885-1707480000-1707483600@benackermans.nl
SUMMARY:• Vrijdag 9 februari 2024 12:00-13:00
DESCRIPTION:Online training via zoom. Meer informatie vindt u op: Online trainingen
URL:https://benackermans.nl/event/vrijdag-9-februari-2024-1200-1300/
LOCATION:Zoom\, Nederland
CATEGORIES:Online Training
ORGANIZER;CN="Ben Ackermans":MAILTO:info@benackermans.nl
END:VEVENT
END:VCALENDAR