BEGIN:VCALENDAR
VERSION:2.0
PRODID:-//Ben Ackermans - ECPv6.15.20//NONSGML v1.0//EN
CALSCALE:GREGORIAN
METHOD:PUBLISH
X-ORIGINAL-URL:https://benackermans.nl
X-WR-CALDESC:Evenementen voor Ben Ackermans
REFRESH-INTERVAL;VALUE=DURATION:PT1H
X-Robots-Tag:noindex
X-PUBLISHED-TTL:PT1H
BEGIN:VTIMEZONE
TZID:Europe/Amsterdam
BEGIN:DAYLIGHT
TZOFFSETFROM:+0100
TZOFFSETTO:+0200
TZNAME:CEST
DTSTART:20220327T010000
END:DAYLIGHT
BEGIN:STANDARD
TZOFFSETFROM:+0200
TZOFFSETTO:+0100
TZNAME:CET
DTSTART:20221030T010000
END:STANDARD
BEGIN:DAYLIGHT
TZOFFSETFROM:+0100
TZOFFSETTO:+0200
TZNAME:CEST
DTSTART:20230326T010000
END:DAYLIGHT
BEGIN:STANDARD
TZOFFSETFROM:+0200
TZOFFSETTO:+0100
TZNAME:CET
DTSTART:20231029T010000
END:STANDARD
BEGIN:DAYLIGHT
TZOFFSETFROM:+0100
TZOFFSETTO:+0200
TZNAME:CEST
DTSTART:20240331T010000
END:DAYLIGHT
BEGIN:STANDARD
TZOFFSETFROM:+0200
TZOFFSETTO:+0100
TZNAME:CET
DTSTART:20241027T010000
END:STANDARD
BEGIN:DAYLIGHT
TZOFFSETFROM:+0100
TZOFFSETTO:+0200
TZNAME:CEST
DTSTART:20250330T010000
END:DAYLIGHT
BEGIN:STANDARD
TZOFFSETFROM:+0200
TZOFFSETTO:+0100
TZNAME:CET
DTSTART:20251026T010000
END:STANDARD
END:VTIMEZONE
BEGIN:VEVENT
DTSTART;TZID=Europe/Amsterdam:20240226T160000
DTEND;TZID=Europe/Amsterdam:20240226T170000
DTSTAMP:20260422T225800
CREATED:20231228T102537Z
LAST-MODIFIED:20231228T102540Z
UID:1859-1708963200-1708966800@benackermans.nl
SUMMARY:• Maandag 26 februari 2024 16:00-17:00
DESCRIPTION:Online training via zoom. Meer informatie vindt u op: Online trainingen
URL:https://benackermans.nl/event/maandag-26-februari-2024-1600-1700/
LOCATION:Zoom\, Nederland
CATEGORIES:Online Training
ORGANIZER;CN="Ben Ackermans":MAILTO:info@benackermans.nl
END:VEVENT
BEGIN:VEVENT
DTSTART;TZID=Europe/Amsterdam:20240223T120000
DTEND;TZID=Europe/Amsterdam:20240223T130000
DTSTAMP:20260422T225801
CREATED:20231228T103401Z
LAST-MODIFIED:20231228T103404Z
UID:1887-1708689600-1708693200@benackermans.nl
SUMMARY:• Vrijdag 23 februari 2024 12:00-13:00
DESCRIPTION:Online training via zoom. Meer informatie vindt u op: Online trainingen
URL:https://benackermans.nl/event/vrijdag-23-februari-2024-1200-1300/
LOCATION:Zoom\, Nederland
CATEGORIES:Online Training
ORGANIZER;CN="Ben Ackermans":MAILTO:info@benackermans.nl
END:VEVENT
BEGIN:VEVENT
DTSTART;TZID=Europe/Amsterdam:20240219T160000
DTEND;TZID=Europe/Amsterdam:20240219T170000
DTSTAMP:20260422T225801
CREATED:20231228T102410Z
LAST-MODIFIED:20231228T102426Z
UID:1858-1708358400-1708362000@benackermans.nl
SUMMARY:• Maandag 19 februari 2024 16:00-17:00
DESCRIPTION:Online training via zoom. Meer informatie vindt u op: Online trainingen
URL:https://benackermans.nl/event/maandag-19-februari-2024-1600-1700/
LOCATION:Zoom\, Nederland
CATEGORIES:Online Training
ORGANIZER;CN="Ben Ackermans":MAILTO:info@benackermans.nl
END:VEVENT
BEGIN:VEVENT
DTSTART;TZID=Europe/Amsterdam:20240216T120000
DTEND;TZID=Europe/Amsterdam:20240216T130000
DTSTAMP:20260422T225801
CREATED:20231228T103303Z
LAST-MODIFIED:20231228T103307Z
UID:1886-1708084800-1708088400@benackermans.nl
SUMMARY:• Vrijdag 16 februari 2024 12:00-13:00
DESCRIPTION:Online training via zoom. Meer informatie vindt u op: Online trainingen
URL:https://benackermans.nl/event/vrijdag-16-februari-2024-1200-1300/
LOCATION:Zoom\, Nederland
CATEGORIES:Online Training
ORGANIZER;CN="Ben Ackermans":MAILTO:info@benackermans.nl
END:VEVENT
BEGIN:VEVENT
DTSTART;TZID=Europe/Amsterdam:20240212T160000
DTEND;TZID=Europe/Amsterdam:20240212T170000
DTSTAMP:20260422T225801
CREATED:20231228T102259Z
LAST-MODIFIED:20240205T161726Z
UID:1857-1707753600-1707757200@benackermans.nl
SUMMARY:• Maandag 12 februari 2024 Carnaval
DESCRIPTION:Online training via zoom. Meer informatie vindt u op: Online trainingen
URL:https://benackermans.nl/event/maandag-12-februari-2024-1600-1700/
LOCATION:Zoom\, Nederland
CATEGORIES:Offline Training
ORGANIZER;CN="Ben Ackermans":MAILTO:info@benackermans.nl
END:VEVENT
BEGIN:VEVENT
DTSTART;TZID=Europe/Amsterdam:20240209T120000
DTEND;TZID=Europe/Amsterdam:20240209T130000
DTSTAMP:20260422T225801
CREATED:20231228T103053Z
LAST-MODIFIED:20231228T103116Z
UID:1885-1707480000-1707483600@benackermans.nl
SUMMARY:• Vrijdag 9 februari 2024 12:00-13:00
DESCRIPTION:Online training via zoom. Meer informatie vindt u op: Online trainingen
URL:https://benackermans.nl/event/vrijdag-9-februari-2024-1200-1300/
LOCATION:Zoom\, Nederland
CATEGORIES:Online Training
ORGANIZER;CN="Ben Ackermans":MAILTO:info@benackermans.nl
END:VEVENT
BEGIN:VEVENT
DTSTART;TZID=Europe/Amsterdam:20240205T160000
DTEND;TZID=Europe/Amsterdam:20240205T170000
DTSTAMP:20260422T225801
CREATED:20231228T102028Z
LAST-MODIFIED:20231228T102327Z
UID:1856-1707148800-1707152400@benackermans.nl
SUMMARY:• Maandag 5 februari 2024 16:00-17:00
DESCRIPTION:Online training via zoom. Meer informatie vindt u op: Online trainingen
URL:https://benackermans.nl/event/maandag-5-februari-2024-1600-1700/
LOCATION:Zoom\, Nederland
CATEGORIES:Online Training
ORGANIZER;CN="Ben Ackermans":MAILTO:info@benackermans.nl
END:VEVENT
BEGIN:VEVENT
DTSTART;TZID=Europe/Amsterdam:20240202T120000
DTEND;TZID=Europe/Amsterdam:20240202T130000
DTSTAMP:20260422T225801
CREATED:20231228T102843Z
LAST-MODIFIED:20231228T102846Z
UID:1880-1706875200-1706878800@benackermans.nl
SUMMARY:• Vrijdag 2 februari 2024 12:00-13:00
DESCRIPTION:Online training via zoom. Meer informatie vindt u op: Online trainingen
URL:https://benackermans.nl/event/vrijdag-2-februari-2024-1200-1300/
LOCATION:Zoom\, Nederland
CATEGORIES:Online Training
ORGANIZER;CN="Ben Ackermans":MAILTO:info@benackermans.nl
END:VEVENT
BEGIN:VEVENT
DTSTART;TZID=Europe/Amsterdam:20240129T160000
DTEND;TZID=Europe/Amsterdam:20240129T170000
DTSTAMP:20260422T225801
CREATED:20231228T101956Z
LAST-MODIFIED:20240122T161217Z
UID:1855-1706544000-1706547600@benackermans.nl
SUMMARY:• Maandag 29 januari 2024 Geen training
DESCRIPTION:Online training via zoom. Meer informatie vindt u op: Online trainingen
URL:https://benackermans.nl/event/maandag-29-januari-2024-1600-1700/
LOCATION:Zoom\, Nederland
CATEGORIES:Offline Training
ORGANIZER;CN="Ben Ackermans":MAILTO:info@benackermans.nl
END:VEVENT
BEGIN:VEVENT
DTSTART;TZID=Europe/Amsterdam:20240126T120000
DTEND;TZID=Europe/Amsterdam:20240126T130000
DTSTAMP:20260422T225801
CREATED:20231228T102750Z
LAST-MODIFIED:20240122T161201Z
UID:1879-1706270400-1706274000@benackermans.nl
SUMMARY:• Vrijdag 26 januari 2024 Geen training
DESCRIPTION:Online training via zoom. Meer informatie vindt u op: Online trainingen
URL:https://benackermans.nl/event/vrijdag-26-januari-2024-1200-1300/
LOCATION:Zoom\, Nederland
CATEGORIES:Offline Training
ORGANIZER;CN="Ben Ackermans":MAILTO:info@benackermans.nl
END:VEVENT
BEGIN:VEVENT
DTSTART;TZID=Europe/Amsterdam:20240122T160000
DTEND;TZID=Europe/Amsterdam:20240122T170000
DTSTAMP:20260422T225801
CREATED:20231228T101924Z
LAST-MODIFIED:20231228T102218Z
UID:1854-1705939200-1705942800@benackermans.nl
SUMMARY:• Maandag 22 januari 2024 16:00-17:00
DESCRIPTION:Online training via zoom. Meer informatie vindt u op: Online trainingen
URL:https://benackermans.nl/event/maandag-22-januari-2024-1600-1700/
LOCATION:Zoom\, Nederland
CATEGORIES:Online Training
ORGANIZER;CN="Ben Ackermans":MAILTO:info@benackermans.nl
END:VEVENT
BEGIN:VEVENT
DTSTART;TZID=Europe/Amsterdam:20240119T120000
DTEND;TZID=Europe/Amsterdam:20240119T130000
DTSTAMP:20260422T225801
CREATED:20231111T135208Z
LAST-MODIFIED:20231111T135211Z
UID:1838-1705665600-1705669200@benackermans.nl
SUMMARY:• Vrijdag 19 januari 2024 12:00-13:00
DESCRIPTION:Online training via zoom. Meer informatie vindt u op: Online trainingen
URL:https://benackermans.nl/event/vrijdag-19-januari-2024-1200-1300/
LOCATION:Zoom\, Nederland
CATEGORIES:Online Training
ORGANIZER;CN="Ben Ackermans":MAILTO:info@benackermans.nl
END:VEVENT
BEGIN:VEVENT
DTSTART;TZID=Europe/Amsterdam:20240115T160000
DTEND;TZID=Europe/Amsterdam:20240115T170000
DTSTAMP:20260422T225801
CREATED:20231111T134925Z
LAST-MODIFIED:20240115T120419Z
UID:1823-1705334400-1705338000@benackermans.nl
SUMMARY:• Maandag 15 januari 2024 Geen training
DESCRIPTION:Online training via zoom. Meer informatie vindt u op: Online trainingen
URL:https://benackermans.nl/event/maandag-15-januari-2024-1600-1700/
LOCATION:Zoom\, Nederland
CATEGORIES:Offline Training
ORGANIZER;CN="Ben Ackermans":MAILTO:info@benackermans.nl
END:VEVENT
BEGIN:VEVENT
DTSTART;TZID=Europe/Amsterdam:20240112T120000
DTEND;TZID=Europe/Amsterdam:20240112T130000
DTSTAMP:20260422T225801
CREATED:20231111T134023Z
LAST-MODIFIED:20231113T162147Z
UID:1807-1705060800-1705064400@benackermans.nl
SUMMARY:• Vrijdag 12 januari 2024 12:00-13:00
DESCRIPTION:Online training via zoom. Meer informatie vindt u op: Online trainingen
URL:https://benackermans.nl/event/vrijdag-12-januari-2024-1200-1300/
LOCATION:Zoom\, Nederland
CATEGORIES:Online Training
ORGANIZER;CN="Ben Ackermans":MAILTO:info@benackermans.nl
END:VEVENT
BEGIN:VEVENT
DTSTART;TZID=Europe/Amsterdam:20240108T160000
DTEND;TZID=Europe/Amsterdam:20240108T170000
DTSTAMP:20260422T225801
CREATED:20231111T134832Z
LAST-MODIFIED:20231111T134835Z
UID:1822-1704729600-1704733200@benackermans.nl
SUMMARY:• Maandag 8 januari 2024 16:00-17:00
DESCRIPTION:Online training via zoom. Meer informatie vindt u op: Online trainingen
URL:https://benackermans.nl/event/maandag-8-januari-2024-1600-1700/
LOCATION:Zoom\, Nederland
CATEGORIES:Online Training
ORGANIZER;CN="Ben Ackermans":MAILTO:info@benackermans.nl
END:VEVENT
BEGIN:VEVENT
DTSTART;TZID=Europe/Amsterdam:20240105T120000
DTEND;TZID=Europe/Amsterdam:20240105T130000
DTSTAMP:20260422T225801
CREATED:20231111T135133Z
LAST-MODIFIED:20231113T162154Z
UID:1837-1704456000-1704459600@benackermans.nl
SUMMARY:• Vrijdag 5 januari 2024 12:00-13:00
DESCRIPTION:Online training via zoom. Meer informatie vindt u op: Online trainingen
URL:https://benackermans.nl/event/vrijdag-5-januari-2024-1200-1300/
LOCATION:Zoom\, Nederland
CATEGORIES:Online Training
ORGANIZER;CN="Ben Ackermans":MAILTO:info@benackermans.nl
END:VEVENT
BEGIN:VEVENT
DTSTART;TZID=Europe/Amsterdam:20240101T160000
DTEND;TZID=Europe/Amsterdam:20240101T170000
DTSTAMP:20260422T225801
CREATED:20231111T134635Z
LAST-MODIFIED:20231111T134708Z
UID:1821-1704124800-1704128400@benackermans.nl
SUMMARY:• Maandag 1 januari 2024 Nieuwjaar
DESCRIPTION:Online training via zoom. Meer informatie vindt u op: Online trainingen
URL:https://benackermans.nl/event/maandag-1-januari-2024-nieuwjaar/
LOCATION:Zoom\, Nederland
CATEGORIES:Offline Training
ORGANIZER;CN="Ben Ackermans":MAILTO:info@benackermans.nl
END:VEVENT
BEGIN:VEVENT
DTSTART;TZID=Europe/Amsterdam:20231229T120000
DTEND;TZID=Europe/Amsterdam:20231229T130000
DTSTAMP:20260422T225801
CREATED:20231111T133932Z
LAST-MODIFIED:20231111T133936Z
UID:1806-1703851200-1703854800@benackermans.nl
SUMMARY:• Vrijdag 29 december 2023 12:00-13:00
DESCRIPTION:Online training via zoom. Meer informatie vindt u op: Online trainingen
URL:https://benackermans.nl/event/vrijdag-29-december-2023-1200-1300/
LOCATION:Zoom\, Nederland
CATEGORIES:Online Training
ORGANIZER;CN="Ben Ackermans":MAILTO:info@benackermans.nl
END:VEVENT
BEGIN:VEVENT
DTSTART;TZID=Europe/Amsterdam:20231225T160000
DTEND;TZID=Europe/Amsterdam:20231225T170000
DTSTAMP:20260422T225801
CREATED:20231111T134500Z
LAST-MODIFIED:20231111T134503Z
UID:1820-1703520000-1703523600@benackermans.nl
SUMMARY:• Maandag 25 december 2023 Kerstmis
DESCRIPTION:Online training via zoom. Meer informatie vindt u op: Online trainingen
URL:https://benackermans.nl/event/maandag-25-december-2023-kerstmis/
LOCATION:Zoom\, Nederland
CATEGORIES:Offline Training
ORGANIZER;CN="Ben Ackermans":MAILTO:info@benackermans.nl
END:VEVENT
BEGIN:VEVENT
DTSTART;TZID=Europe/Amsterdam:20231222T120000
DTEND;TZID=Europe/Amsterdam:20231222T130000
DTSTAMP:20260422T225801
CREATED:20231111T133837Z
LAST-MODIFIED:20231111T133840Z
UID:1805-1703246400-1703250000@benackermans.nl
SUMMARY:• Vrijdag 22 december 2023 12:00-13:00
DESCRIPTION:Online training via zoom. Meer informatie vindt u op: Online trainingen
URL:https://benackermans.nl/event/vrijdag-22-december-2023-1200-1300/
LOCATION:Zoom\, Nederland
CATEGORIES:Online Training
ORGANIZER;CN="Ben Ackermans":MAILTO:info@benackermans.nl
END:VEVENT
BEGIN:VEVENT
DTSTART;TZID=Europe/Amsterdam:20231218T160000
DTEND;TZID=Europe/Amsterdam:20231218T170000
DTSTAMP:20260422T225801
CREATED:20231111T134332Z
LAST-MODIFIED:20231207T084814Z
UID:1819-1702915200-1702918800@benackermans.nl
SUMMARY:• Maandag 18 december 2023 Geen training
DESCRIPTION:Online training via zoom. Meer informatie vindt u op: Online trainingen
URL:https://benackermans.nl/event/maandag-18-december-2023-1600-1700/
LOCATION:Zoom\, Nederland
CATEGORIES:Offline Training
ORGANIZER;CN="Ben Ackermans":MAILTO:info@benackermans.nl
END:VEVENT
BEGIN:VEVENT
DTSTART;TZID=Europe/Amsterdam:20231215T120000
DTEND;TZID=Europe/Amsterdam:20231215T130000
DTSTAMP:20260422T225801
CREATED:20231111T133745Z
LAST-MODIFIED:20231207T084753Z
UID:1804-1702641600-1702645200@benackermans.nl
SUMMARY:• Vrijdag 15 december 2023 Geen training
DESCRIPTION:Online training via zoom. Meer informatie vindt u op: Online trainingen
URL:https://benackermans.nl/event/vrijdag-15-december-2023-1200-1300/
LOCATION:Zoom\, Nederland
CATEGORIES:Offline Training
ORGANIZER;CN="Ben Ackermans":MAILTO:info@benackermans.nl
END:VEVENT
BEGIN:VEVENT
DTSTART;TZID=Europe/Amsterdam:20231211T160000
DTEND;TZID=Europe/Amsterdam:20231211T170000
DTSTAMP:20260422T225801
CREATED:20231111T134131Z
LAST-MODIFIED:20231207T084646Z
UID:1818-1702310400-1702314000@benackermans.nl
SUMMARY:• Maandag 11 december 2023 Geen training
DESCRIPTION:Online training via zoom. Meer informatie vindt u op: Online trainingen
URL:https://benackermans.nl/event/maandag-11-december-2023-1600-1700/
LOCATION:Zoom\, Nederland
CATEGORIES:Offline Training
ORGANIZER;CN="Ben Ackermans":MAILTO:info@benackermans.nl
END:VEVENT
BEGIN:VEVENT
DTSTART;TZID=Europe/Amsterdam:20231208T120000
DTEND;TZID=Europe/Amsterdam:20231208T130000
DTSTAMP:20260422T225801
CREATED:20231111T133706Z
LAST-MODIFIED:20231207T084628Z
UID:1803-1702036800-1702040400@benackermans.nl
SUMMARY:• Vrijdag 8 december 2023 Geen training
DESCRIPTION:Online training via zoom. Meer informatie vindt u op: Online trainingen
URL:https://benackermans.nl/event/vrijdag-8-december-2023-1200-1300/
LOCATION:Zoom\, Nederland
CATEGORIES:Offline Training
ORGANIZER;CN="Ben Ackermans":MAILTO:info@benackermans.nl
END:VEVENT
BEGIN:VEVENT
DTSTART;TZID=Europe/Amsterdam:20231204T160000
DTEND;TZID=Europe/Amsterdam:20231204T170000
DTSTAMP:20260422T225801
CREATED:20231012T181731Z
LAST-MODIFIED:20231012T181735Z
UID:1788-1701705600-1701709200@benackermans.nl
SUMMARY:• Maandag 4 december 2023 16:00-17:00
DESCRIPTION:Online training via zoom. Meer informatie vindt u op: Online trainingen
URL:https://benackermans.nl/event/maandag-4-december-2023-1600-1700/
LOCATION:Zoom\, Nederland
CATEGORIES:Online Training
ORGANIZER;CN="Ben Ackermans":MAILTO:info@benackermans.nl
END:VEVENT
BEGIN:VEVENT
DTSTART;TZID=Europe/Amsterdam:20231201T120000
DTEND;TZID=Europe/Amsterdam:20231201T130000
DTSTAMP:20260422T225801
CREATED:20231012T175902Z
LAST-MODIFIED:20231012T175905Z
UID:1776-1701432000-1701435600@benackermans.nl
SUMMARY:• Vrijdag 1 december 2023 12:00-13:00
DESCRIPTION:Online training via zoom. Meer informatie vindt u op: Online trainingen
URL:https://benackermans.nl/event/vrijdag-1-december-2023-1200-1300/
LOCATION:Zoom\, Nederland
CATEGORIES:Online Training
ORGANIZER;CN="Ben Ackermans":MAILTO:info@benackermans.nl
END:VEVENT
BEGIN:VEVENT
DTSTART;TZID=Europe/Amsterdam:20231127T160000
DTEND;TZID=Europe/Amsterdam:20231127T170000
DTSTAMP:20260422T225801
CREATED:20231012T181630Z
LAST-MODIFIED:20231012T181636Z
UID:1787-1701100800-1701104400@benackermans.nl
SUMMARY:• Maandag 27 november 2023 16:00-17:00
DESCRIPTION:Online training via zoom. Meer informatie vindt u op: Online trainingen
URL:https://benackermans.nl/event/maandag-27-november-2023-1600-1700/
LOCATION:Zoom\, Nederland
CATEGORIES:Online Training
ORGANIZER;CN="Ben Ackermans":MAILTO:info@benackermans.nl
END:VEVENT
BEGIN:VEVENT
DTSTART;TZID=Europe/Amsterdam:20231124T120000
DTEND;TZID=Europe/Amsterdam:20231124T130000
DTSTAMP:20260422T225801
CREATED:20231012T175745Z
LAST-MODIFIED:20231012T175748Z
UID:1775-1700827200-1700830800@benackermans.nl
SUMMARY:• Vrijdag 24 november 2023 12:00-13:00
DESCRIPTION:Online training via zoom. Meer informatie vindt u op: Online trainingen
URL:https://benackermans.nl/event/vrijdag-24-november-2023-1200-1300/
LOCATION:Zoom\, Nederland
CATEGORIES:Online Training
ORGANIZER;CN="Ben Ackermans":MAILTO:info@benackermans.nl
END:VEVENT
BEGIN:VEVENT
DTSTART;TZID=Europe/Amsterdam:20231120T160000
DTEND;TZID=Europe/Amsterdam:20231120T170000
DTSTAMP:20260422T225801
CREATED:20231012T181553Z
LAST-MODIFIED:20231012T181556Z
UID:1786-1700496000-1700499600@benackermans.nl
SUMMARY:• Maandag 20 november 2023 16:00-17:00
DESCRIPTION:Online training via zoom. Meer informatie vindt u op: Online trainingen
URL:https://benackermans.nl/event/maandag-20-november-2023-1600-1700/
LOCATION:Zoom\, Nederland
CATEGORIES:Online Training
ORGANIZER;CN="Ben Ackermans":MAILTO:info@benackermans.nl
END:VEVENT
BEGIN:VEVENT
DTSTART;TZID=Europe/Amsterdam:20231117T120000
DTEND;TZID=Europe/Amsterdam:20231117T130000
DTSTAMP:20260422T225801
CREATED:20231012T175712Z
LAST-MODIFIED:20231012T175715Z
UID:1774-1700222400-1700226000@benackermans.nl
SUMMARY:• Vrijdag 17 november 2023 12:00-13:00
DESCRIPTION:Online training via zoom. Meer informatie vindt u op: Online trainingen
URL:https://benackermans.nl/event/vrijdag-17-november-2023-1200-1300/
LOCATION:Zoom\, Nederland
CATEGORIES:Online Training
ORGANIZER;CN="Ben Ackermans":MAILTO:info@benackermans.nl
END:VEVENT
END:VCALENDAR