BEGIN:VCALENDAR
VERSION:2.0
PRODID:-//Ben Ackermans - ECPv6.15.20//NONSGML v1.0//EN
CALSCALE:GREGORIAN
METHOD:PUBLISH
X-WR-CALNAME:Ben Ackermans
X-ORIGINAL-URL:https://benackermans.nl
X-WR-CALDESC:Evenementen voor Ben Ackermans
REFRESH-INTERVAL;VALUE=DURATION:PT1H
X-Robots-Tag:noindex
X-PUBLISHED-TTL:PT1H
BEGIN:VTIMEZONE
TZID:Europe/Amsterdam
BEGIN:DAYLIGHT
TZOFFSETFROM:+0100
TZOFFSETTO:+0200
TZNAME:CEST
DTSTART:20210328T010000
END:DAYLIGHT
BEGIN:STANDARD
TZOFFSETFROM:+0200
TZOFFSETTO:+0100
TZNAME:CET
DTSTART:20211031T010000
END:STANDARD
BEGIN:DAYLIGHT
TZOFFSETFROM:+0100
TZOFFSETTO:+0200
TZNAME:CEST
DTSTART:20220327T010000
END:DAYLIGHT
BEGIN:STANDARD
TZOFFSETFROM:+0200
TZOFFSETTO:+0100
TZNAME:CET
DTSTART:20221030T010000
END:STANDARD
BEGIN:DAYLIGHT
TZOFFSETFROM:+0100
TZOFFSETTO:+0200
TZNAME:CEST
DTSTART:20230326T010000
END:DAYLIGHT
BEGIN:STANDARD
TZOFFSETFROM:+0200
TZOFFSETTO:+0100
TZNAME:CET
DTSTART:20231029T010000
END:STANDARD
BEGIN:DAYLIGHT
TZOFFSETFROM:+0100
TZOFFSETTO:+0200
TZNAME:CEST
DTSTART:20240331T010000
END:DAYLIGHT
BEGIN:STANDARD
TZOFFSETFROM:+0200
TZOFFSETTO:+0100
TZNAME:CET
DTSTART:20241027T010000
END:STANDARD
END:VTIMEZONE
BEGIN:VEVENT
DTSTART;TZID=Europe/Amsterdam:20230102T160000
DTEND;TZID=Europe/Amsterdam:20230102T170000
DTSTAMP:20260423T165404
CREATED:20221012T064723Z
LAST-MODIFIED:20230102T075222Z
UID:1331-1672675200-1672678800@benackermans.nl
SUMMARY:• Maandag 2 januari 2023 Geen training
DESCRIPTION:Online training via zoom. Meer informatie vindt u op: Online trainingen
URL:https://benackermans.nl/event/maandag-2-januari-2023-1600-1700/
LOCATION:Zoom\, Nederland
CATEGORIES:Offline Training
ORGANIZER;CN="Ben Ackermans":MAILTO:info@benackermans.nl
END:VEVENT
BEGIN:VEVENT
DTSTART;TZID=Europe/Amsterdam:20221230T120000
DTEND;TZID=Europe/Amsterdam:20221230T130000
DTSTAMP:20260423T165404
CREATED:20221012T063616Z
LAST-MODIFIED:20221012T063621Z
UID:1323-1672401600-1672405200@benackermans.nl
SUMMARY:• Vrijdag 30 december 2022 12:00-13:00
DESCRIPTION:Online training via zoom. Meer informatie vindt u op: Online trainingen
URL:https://benackermans.nl/event/vrijdag-30-december-2022-1200-1300/
LOCATION:Zoom\, Nederland
CATEGORIES:Online Training
ORGANIZER;CN="Ben Ackermans":MAILTO:info@benackermans.nl
END:VEVENT
BEGIN:VEVENT
DTSTART;TZID=Europe/Amsterdam:20221226T160000
DTEND;TZID=Europe/Amsterdam:20221226T170000
DTSTAMP:20260423T165404
CREATED:20221012T064601Z
LAST-MODIFIED:20221012T064637Z
UID:1330-1672070400-1672074000@benackermans.nl
SUMMARY:• Maandag 26 december 2022 Kerstmis
DESCRIPTION:Online training via zoom. Meer informatie vindt u op: Online trainingen
URL:https://benackermans.nl/event/maandag-26-december-2022-kerstmis/
LOCATION:Zoom\, Nederland
CATEGORIES:Offline Training
ORGANIZER;CN="Ben Ackermans":MAILTO:info@benackermans.nl
END:VEVENT
BEGIN:VEVENT
DTSTART;TZID=Europe/Amsterdam:20221223T120000
DTEND;TZID=Europe/Amsterdam:20221223T130000
DTSTAMP:20260423T165404
CREATED:20221012T063525Z
LAST-MODIFIED:20221012T063529Z
UID:1322-1671796800-1671800400@benackermans.nl
SUMMARY:• Vrijdag 23 december 2022 12:00-13:00
DESCRIPTION:Online training via zoom. Meer informatie vindt u op: Online trainingen
URL:https://benackermans.nl/event/vrijdag-23-december-2022-1200-1300/
LOCATION:Zoom\, Nederland
CATEGORIES:Online Training
ORGANIZER;CN="Ben Ackermans":MAILTO:info@benackermans.nl
END:VEVENT
BEGIN:VEVENT
DTSTART;TZID=Europe/Amsterdam:20221219T160000
DTEND;TZID=Europe/Amsterdam:20221219T170000
DTSTAMP:20260423T165404
CREATED:20220817T111545Z
LAST-MODIFIED:20221012T064441Z
UID:1255-1671465600-1671469200@benackermans.nl
SUMMARY:• Maandag 19 december 2022 16:00-17:00
DESCRIPTION:Online training via zoom. Meer informatie vindt u op: Online trainingen
URL:https://benackermans.nl/event/maandag-7-november-2022-1600-1700/
LOCATION:Zoom\, Nederland
CATEGORIES:Online Training
ORGANIZER;CN="Ben Ackermans":MAILTO:info@benackermans.nl
END:VEVENT
BEGIN:VEVENT
DTSTART;TZID=Europe/Amsterdam:20221216T120000
DTEND;TZID=Europe/Amsterdam:20221216T130000
DTSTAMP:20260423T165404
CREATED:20221012T063425Z
LAST-MODIFIED:20221012T063429Z
UID:1321-1671192000-1671195600@benackermans.nl
SUMMARY:• Vrijdag 16 december 2022 12:00-13:00
DESCRIPTION:Online training via zoom. Meer informatie vindt u op: Online trainingen
URL:https://benackermans.nl/event/vrijdag-16-december-2022-1200-1300/
LOCATION:Zoom\, Nederland
CATEGORIES:Online Training
ORGANIZER;CN="Ben Ackermans":MAILTO:info@benackermans.nl
END:VEVENT
BEGIN:VEVENT
DTSTART;TZID=Europe/Amsterdam:20221212T160000
DTEND;TZID=Europe/Amsterdam:20221212T170000
DTSTAMP:20260423T165404
CREATED:20221012T064226Z
LAST-MODIFIED:20221012T064253Z
UID:1329-1670860800-1670864400@benackermans.nl
SUMMARY:• Maandag 12 december 2022 16:00-17:00
DESCRIPTION:Online training via zoom. Meer informatie vindt u op: Online trainingen
URL:https://benackermans.nl/event/maandag-12-december-2022-1600-1700/
LOCATION:Zoom\, Nederland
CATEGORIES:Online Training
ORGANIZER;CN="Ben Ackermans":MAILTO:info@benackermans.nl
END:VEVENT
BEGIN:VEVENT
DTSTART;TZID=Europe/Amsterdam:20221209T120000
DTEND;TZID=Europe/Amsterdam:20221209T130000
DTSTAMP:20260423T165405
CREATED:20221012T063331Z
LAST-MODIFIED:20221012T063335Z
UID:1320-1670587200-1670590800@benackermans.nl
SUMMARY:• Vrijdag 9 december 2022 12:00-13:00
DESCRIPTION:Online training via zoom. Meer informatie vindt u op: Online trainingen
URL:https://benackermans.nl/event/vrijdag-9-december-2022-1200-1300/
LOCATION:Zoom\, Nederland
CATEGORIES:Online Training
ORGANIZER;CN="Ben Ackermans":MAILTO:info@benackermans.nl
END:VEVENT
BEGIN:VEVENT
DTSTART;TZID=Europe/Amsterdam:20221205T160000
DTEND;TZID=Europe/Amsterdam:20221205T170000
DTSTAMP:20260423T165405
CREATED:20221012T064144Z
LAST-MODIFIED:20221101T090655Z
UID:1328-1670256000-1670259600@benackermans.nl
SUMMARY:• Maandag 5 december 2022 16:00-17:00
DESCRIPTION:Online training via zoom. Meer informatie vindt u op: Online trainingen
URL:https://benackermans.nl/event/maandag-5-december-2022-1600-1700/
LOCATION:Zoom\, Nederland
CATEGORIES:Online Training
ORGANIZER;CN="Ben Ackermans":MAILTO:info@benackermans.nl
END:VEVENT
BEGIN:VEVENT
DTSTART;TZID=Europe/Amsterdam:20221202T120000
DTEND;TZID=Europe/Amsterdam:20221202T130000
DTSTAMP:20260423T165405
CREATED:20221012T063250Z
LAST-MODIFIED:20221129T102217Z
UID:1319-1669982400-1669986000@benackermans.nl
SUMMARY:• Vrijdag 2 december 2022 Geen training
DESCRIPTION:Online training via zoom. Meer informatie vindt u op: Online trainingen
URL:https://benackermans.nl/event/vrijdag-2-december-2022-1200-1300/
LOCATION:Zoom\, Nederland
CATEGORIES:Offline Training
ORGANIZER;CN="Ben Ackermans":MAILTO:info@benackermans.nl
END:VEVENT
BEGIN:VEVENT
DTSTART;TZID=Europe/Amsterdam:20221128T160000
DTEND;TZID=Europe/Amsterdam:20221128T170000
DTSTAMP:20260423T165405
CREATED:20221012T064057Z
LAST-MODIFIED:20221012T064101Z
UID:1327-1669651200-1669654800@benackermans.nl
SUMMARY:• Maandag 28 november 2022 16:00-17:00
DESCRIPTION:Online training via zoom. Meer informatie vindt u op: Online trainingen
URL:https://benackermans.nl/event/maandag-28-november-2022-1600-1700/
LOCATION:Zoom\, Nederland
CATEGORIES:Online Training
ORGANIZER;CN="Ben Ackermans":MAILTO:info@benackermans.nl
END:VEVENT
BEGIN:VEVENT
DTSTART;TZID=Europe/Amsterdam:20221125T120000
DTEND;TZID=Europe/Amsterdam:20221125T130000
DTSTAMP:20260423T165405
CREATED:20221012T063206Z
LAST-MODIFIED:20221012T063210Z
UID:1318-1669377600-1669381200@benackermans.nl
SUMMARY:• Vrijdag 25 november 2022 12:00-13:00
DESCRIPTION:Online training via zoom. Meer informatie vindt u op: Online trainingen
URL:https://benackermans.nl/event/vrijdag-25-november-2022-1200-1300/
LOCATION:Zoom\, Nederland
CATEGORIES:Online Training
ORGANIZER;CN="Ben Ackermans":MAILTO:info@benackermans.nl
END:VEVENT
BEGIN:VEVENT
DTSTART;TZID=Europe/Amsterdam:20221121T160000
DTEND;TZID=Europe/Amsterdam:20221121T170000
DTSTAMP:20260423T165405
CREATED:20221012T063840Z
LAST-MODIFIED:20221012T064019Z
UID:1326-1669046400-1669050000@benackermans.nl
SUMMARY:• Maandag 21 november 2022 16:00-17:00
DESCRIPTION:Online training via zoom. Meer informatie vindt u op: Online trainingen
URL:https://benackermans.nl/event/maandag-21-november-2022-1600-1700/
LOCATION:Zoom\, Nederland
CATEGORIES:Online Training
ORGANIZER;CN="Ben Ackermans":MAILTO:info@benackermans.nl
END:VEVENT
BEGIN:VEVENT
DTSTART;TZID=Europe/Amsterdam:20221118T120000
DTEND;TZID=Europe/Amsterdam:20221118T130000
DTSTAMP:20260423T165405
CREATED:20220817T115310Z
LAST-MODIFIED:20221012T063045Z
UID:1279-1668772800-1668776400@benackermans.nl
SUMMARY:• Vrijdag 18 november 2022 12:00-13:00
DESCRIPTION:Online training via zoom. Meer informatie vindt u op: Online trainingen
URL:https://benackermans.nl/event/vrijdag-4-november-2022-1200-1300/
LOCATION:Zoom\, Nederland
CATEGORIES:Online Training
ORGANIZER;CN="Ben Ackermans":MAILTO:info@benackermans.nl
END:VEVENT
BEGIN:VEVENT
DTSTART;TZID=Europe/Amsterdam:20221114T160000
DTEND;TZID=Europe/Amsterdam:20221114T170000
DTSTAMP:20260423T165405
CREATED:20221012T063752Z
LAST-MODIFIED:20221101T091458Z
UID:1325-1668441600-1668445200@benackermans.nl
SUMMARY:• Maandag 14 november 2022 Geen training
DESCRIPTION:Online training via zoom. Meer informatie vindt u op: Online trainingen
URL:https://benackermans.nl/event/maandag-14-november-2022-1600-1700/
LOCATION:Zoom\, Nederland
CATEGORIES:Offline Training
ORGANIZER;CN="Ben Ackermans":MAILTO:info@benackermans.nl
END:VEVENT
BEGIN:VEVENT
DTSTART;TZID=Europe/Amsterdam:20221111T120000
DTEND;TZID=Europe/Amsterdam:20221111T130000
DTSTAMP:20260423T165405
CREATED:20221012T062953Z
LAST-MODIFIED:20221101T091553Z
UID:1317-1668168000-1668171600@benackermans.nl
SUMMARY:• Vrijdag 11 november 2022 Geen training
DESCRIPTION:Online training via zoom. Meer informatie vindt u op: Online trainingen
URL:https://benackermans.nl/event/vrijdag-11-november-2022-1200-1300/
LOCATION:Zoom\, Nederland
CATEGORIES:Offline Training
ORGANIZER;CN="Ben Ackermans":MAILTO:info@benackermans.nl
END:VEVENT
BEGIN:VEVENT
DTSTART;TZID=Europe/Amsterdam:20221107T160000
DTEND;TZID=Europe/Amsterdam:20221107T170000
DTSTAMP:20260423T165405
CREATED:20221101T090706Z
LAST-MODIFIED:20221101T091014Z
UID:1375-1667836800-1667840400@benackermans.nl
SUMMARY:• Maandag 7 november 2022 16:00-17:00
DESCRIPTION:Online training via zoom. Meer informatie vindt u op: Online trainingen
URL:https://benackermans.nl/event/maandag-7-november-2022-1600-1700-2/
LOCATION:Zoom\, Nederland
CATEGORIES:Online Training
ORGANIZER;CN="Ben Ackermans":MAILTO:info@benackermans.nl
END:VEVENT
BEGIN:VEVENT
DTSTART;TZID=Europe/Amsterdam:20221104T120000
DTEND;TZID=Europe/Amsterdam:20221104T130000
DTSTAMP:20260423T165405
CREATED:20221101T090718Z
LAST-MODIFIED:20221101T090812Z
UID:1376-1667563200-1667566800@benackermans.nl
SUMMARY:• Vrijdag 4 november 2022 12:00-13:00
DESCRIPTION:Online training via zoom. Meer informatie vindt u op: Online trainingen
URL:https://benackermans.nl/event/vrijdag-4-november-2022-1200-1300-2/
LOCATION:Zoom\, Nederland
CATEGORIES:Online Training
ORGANIZER;CN="Ben Ackermans":MAILTO:info@benackermans.nl
END:VEVENT
BEGIN:VEVENT
DTSTART;TZID=Europe/Amsterdam:20221031T160000
DTEND;TZID=Europe/Amsterdam:20221031T170000
DTSTAMP:20260423T165405
CREATED:20220817T092136Z
LAST-MODIFIED:20220817T092220Z
UID:1254-1667232000-1667235600@benackermans.nl
SUMMARY:• Maandag 31 oktober 2022 16:00-17:00
DESCRIPTION:Online training via zoom. Meer informatie vindt u op: Online trainingen
URL:https://benackermans.nl/event/maandag-31-oktober-2022-1600-1700/
LOCATION:Zoom\, Nederland
CATEGORIES:Online Training
ORGANIZER;CN="Ben Ackermans":MAILTO:info@benackermans.nl
END:VEVENT
BEGIN:VEVENT
DTSTART;TZID=Europe/Amsterdam:20221028T120000
DTEND;TZID=Europe/Amsterdam:20221028T130000
DTSTAMP:20260423T165405
CREATED:20220817T115137Z
LAST-MODIFIED:20220817T115142Z
UID:1278-1666958400-1666962000@benackermans.nl
SUMMARY:• Vrijdag 28 oktober 2022 12:00-13:00
DESCRIPTION:Online training via zoom. Meer informatie vindt u op: Online trainingen
URL:https://benackermans.nl/event/vrijdag-28-oktober-2022-1200-1300/
LOCATION:Zoom\, Nederland
CATEGORIES:Online Training
ORGANIZER;CN="Ben Ackermans":MAILTO:info@benackermans.nl
END:VEVENT
BEGIN:VEVENT
DTSTART;TZID=Europe/Amsterdam:20221024T160000
DTEND;TZID=Europe/Amsterdam:20221024T170000
DTSTAMP:20260423T165405
CREATED:20220817T092045Z
LAST-MODIFIED:20221021T112348Z
UID:1253-1666627200-1666630800@benackermans.nl
SUMMARY:• Maandag 24 oktober 2022 Geen training
DESCRIPTION:Online training via zoom. Meer informatie vindt u op: Online trainingen
URL:https://benackermans.nl/event/maandag-24-oktober-2022-1600-1700/
LOCATION:Zoom\, Nederland
CATEGORIES:Offline Training
ORGANIZER;CN="Ben Ackermans":MAILTO:info@benackermans.nl
END:VEVENT
BEGIN:VEVENT
DTSTART;TZID=Europe/Amsterdam:20221021T120000
DTEND;TZID=Europe/Amsterdam:20221021T130000
DTSTAMP:20260423T165405
CREATED:20220817T115025Z
LAST-MODIFIED:20220817T115030Z
UID:1277-1666353600-1666357200@benackermans.nl
SUMMARY:• Vrijdag 21 oktober 2022 12:00-13:00
DESCRIPTION:Online training via zoom. Meer informatie vindt u op: Online trainingen
URL:https://benackermans.nl/event/vrijdag-21-oktober-2022-1200-1300/
LOCATION:Zoom\, Nederland
CATEGORIES:Online Training
ORGANIZER;CN="Ben Ackermans":MAILTO:info@benackermans.nl
END:VEVENT
BEGIN:VEVENT
DTSTART;TZID=Europe/Amsterdam:20221017T160000
DTEND;TZID=Europe/Amsterdam:20221017T170000
DTSTAMP:20260423T165406
CREATED:20220817T091936Z
LAST-MODIFIED:20221015T172112Z
UID:1252-1666022400-1666026000@benackermans.nl
SUMMARY:• Maandag 17 oktober 2022 16:00-17:00
DESCRIPTION:Online training via zoom. Meer informatie vindt u op: Online trainingen
URL:https://benackermans.nl/event/maandag-17-oktober-2022-1600-1700/
LOCATION:Zoom\, Nederland
CATEGORIES:Online Training
ORGANIZER;CN="Ben Ackermans":MAILTO:info@benackermans.nl
END:VEVENT
BEGIN:VEVENT
DTSTART;TZID=Europe/Amsterdam:20221014T120000
DTEND;TZID=Europe/Amsterdam:20221014T130000
DTSTAMP:20260423T165406
CREATED:20220817T114922Z
LAST-MODIFIED:20221004T071641Z
UID:1276-1665748800-1665752400@benackermans.nl
SUMMARY:• Vrijdag 14 oktober 2022 Geen training
DESCRIPTION:Online training via zoom. Meer informatie vindt u op: Online trainingen
URL:https://benackermans.nl/event/vrijdag-14-oktober-2022-1200-1300/
LOCATION:Zoom\, Nederland
CATEGORIES:Offline Training
ORGANIZER;CN="Ben Ackermans":MAILTO:info@benackermans.nl
END:VEVENT
BEGIN:VEVENT
DTSTART;TZID=Europe/Amsterdam:20221010T160000
DTEND;TZID=Europe/Amsterdam:20221010T170000
DTSTAMP:20260423T165406
CREATED:20220817T091842Z
LAST-MODIFIED:20221004T071601Z
UID:1251-1665417600-1665421200@benackermans.nl
SUMMARY:• Maandag 10 oktober 2022 Geen training
DESCRIPTION:Online training via zoom. Meer informatie vindt u op: Online trainingen
URL:https://benackermans.nl/event/maandag-10-oktober-2022-1600-1700/
LOCATION:Zoom\, Nederland
CATEGORIES:Offline Training
ORGANIZER;CN="Ben Ackermans":MAILTO:info@benackermans.nl
END:VEVENT
BEGIN:VEVENT
DTSTART;TZID=Europe/Amsterdam:20221007T120000
DTEND;TZID=Europe/Amsterdam:20221007T130000
DTSTAMP:20260423T165406
CREATED:20220817T114803Z
LAST-MODIFIED:20221007T084128Z
UID:1275-1665144000-1665147600@benackermans.nl
SUMMARY:• Vrijdag 7 oktober 2022 Geen training
DESCRIPTION:Online training via zoom. Meer informatie vindt u op: Online trainingen
URL:https://benackermans.nl/event/vrijdag-7-oktober-2022-1200-1300/
LOCATION:Zoom\, Nederland
CATEGORIES:Offline Training
ORGANIZER;CN="Ben Ackermans":MAILTO:info@benackermans.nl
END:VEVENT
BEGIN:VEVENT
DTSTART;TZID=Europe/Amsterdam:20221003T160000
DTEND;TZID=Europe/Amsterdam:20221003T170000
DTSTAMP:20260423T165406
CREATED:20220817T091725Z
LAST-MODIFIED:20220817T091729Z
UID:1250-1664812800-1664816400@benackermans.nl
SUMMARY:• Maandag 3 oktober 2022 16:00-17:00
DESCRIPTION:Online training via zoom. Meer informatie vindt u op: Online trainingen
URL:https://benackermans.nl/event/maandag-3-oktober-2022-1600-1700/
LOCATION:Zoom\, Nederland
CATEGORIES:Online Training
ORGANIZER;CN="Ben Ackermans":MAILTO:info@benackermans.nl
END:VEVENT
BEGIN:VEVENT
DTSTART;TZID=Europe/Amsterdam:20220930T120000
DTEND;TZID=Europe/Amsterdam:20220930T130000
DTSTAMP:20260423T165406
CREATED:20220817T114619Z
LAST-MODIFIED:20220926T083131Z
UID:1274-1664539200-1664542800@benackermans.nl
SUMMARY:• Vrijdag 30 september 2022 Geen training
DESCRIPTION:Online training via zoom. Meer informatie vindt u op: Online trainingen
URL:https://benackermans.nl/event/vrijdag-30-september-2022-1200-1300/
LOCATION:Zoom\, Nederland
CATEGORIES:Offline Training
ORGANIZER;CN="Ben Ackermans":MAILTO:info@benackermans.nl
END:VEVENT
BEGIN:VEVENT
DTSTART;TZID=Europe/Amsterdam:20220926T160000
DTEND;TZID=Europe/Amsterdam:20220926T170000
DTSTAMP:20260423T165406
CREATED:20220817T091517Z
LAST-MODIFIED:20220926T083020Z
UID:1249-1664208000-1664211600@benackermans.nl
SUMMARY:• Maandag 26 september 2022 Geen training
DESCRIPTION:Online training via zoom. Meer informatie vindt u op: Online trainingen
URL:https://benackermans.nl/event/maandag-26-september-2022-1600-1700/
LOCATION:Zoom\, Nederland
CATEGORIES:Offline Training
ORGANIZER;CN="Ben Ackermans":MAILTO:info@benackermans.nl
END:VEVENT
BEGIN:VEVENT
DTSTART;TZID=Europe/Amsterdam:20220923T120000
DTEND;TZID=Europe/Amsterdam:20220923T130000
DTSTAMP:20260423T165406
CREATED:20220817T114435Z
LAST-MODIFIED:20220923T094606Z
UID:1273-1663934400-1663938000@benackermans.nl
SUMMARY:• Vrijdag 23 september 2022 Geen training
DESCRIPTION:Online training via zoom. Meer informatie vindt u op: Online trainingen
URL:https://benackermans.nl/event/vrijdag-23-september-2022-1200-1300/
LOCATION:Zoom\, Nederland
CATEGORIES:Offline Training
ORGANIZER;CN="Ben Ackermans":MAILTO:info@benackermans.nl
END:VEVENT
END:VCALENDAR