BEGIN:VCALENDAR
VERSION:2.0
PRODID:-//Ben Ackermans - ECPv6.15.20//NONSGML v1.0//EN
CALSCALE:GREGORIAN
METHOD:PUBLISH
X-ORIGINAL-URL:https://benackermans.nl
X-WR-CALDESC:Evenementen voor Ben Ackermans
REFRESH-INTERVAL;VALUE=DURATION:PT1H
X-Robots-Tag:noindex
X-PUBLISHED-TTL:PT1H
BEGIN:VTIMEZONE
TZID:Europe/Amsterdam
BEGIN:DAYLIGHT
TZOFFSETFROM:+0100
TZOFFSETTO:+0200
TZNAME:CEST
DTSTART:20210328T010000
END:DAYLIGHT
BEGIN:STANDARD
TZOFFSETFROM:+0200
TZOFFSETTO:+0100
TZNAME:CET
DTSTART:20211031T010000
END:STANDARD
BEGIN:DAYLIGHT
TZOFFSETFROM:+0100
TZOFFSETTO:+0200
TZNAME:CEST
DTSTART:20220327T010000
END:DAYLIGHT
BEGIN:STANDARD
TZOFFSETFROM:+0200
TZOFFSETTO:+0100
TZNAME:CET
DTSTART:20221030T010000
END:STANDARD
BEGIN:DAYLIGHT
TZOFFSETFROM:+0100
TZOFFSETTO:+0200
TZNAME:CEST
DTSTART:20230326T010000
END:DAYLIGHT
BEGIN:STANDARD
TZOFFSETFROM:+0200
TZOFFSETTO:+0100
TZNAME:CET
DTSTART:20231029T010000
END:STANDARD
END:VTIMEZONE
BEGIN:VEVENT
DTSTART;TZID=Europe/Amsterdam:20220718T160000
DTEND;TZID=Europe/Amsterdam:20220718T170000
DTSTAMP:20260423T234422
CREATED:20220530T152143Z
LAST-MODIFIED:20220530T152147Z
UID:1176-1658160000-1658163600@benackermans.nl
SUMMARY:• Maandag 18 juli 2022 16:00-17:00
DESCRIPTION:Online training via zoom. Meer informatie vindt u op: Online trainingen
URL:https://benackermans.nl/event/maandag-18-juli-2022-1600-1700/
LOCATION:Zoom\, Nederland
CATEGORIES:Online Training
ORGANIZER;CN="Ben Ackermans":MAILTO:info@benackermans.nl
END:VEVENT
BEGIN:VEVENT
DTSTART;TZID=Europe/Amsterdam:20220715T120000
DTEND;TZID=Europe/Amsterdam:20220715T130000
DTSTAMP:20260423T234422
CREATED:20220530T152407Z
LAST-MODIFIED:20220530T152411Z
UID:1175-1657886400-1657890000@benackermans.nl
SUMMARY:• Vrijdag 15 juli 2022 12:00-13:00
DESCRIPTION:Online training via zoom. Meer informatie vindt u op: Online trainingen
URL:https://benackermans.nl/event/vrijdag-15-juli-2022-1200-1300/
LOCATION:Zoom\, Nederland
CATEGORIES:Online Training
ORGANIZER;CN="Ben Ackermans":MAILTO:info@benackermans.nl
END:VEVENT
BEGIN:VEVENT
DTSTART;TZID=Europe/Amsterdam:20220711T160000
DTEND;TZID=Europe/Amsterdam:20220711T170000
DTSTAMP:20260423T234422
CREATED:20220530T151915Z
LAST-MODIFIED:20220711T090039Z
UID:1174-1657555200-1657558800@benackermans.nl
SUMMARY:• Maandag 11 juli 2022 Geen training
DESCRIPTION:Online training via zoom. Meer informatie vindt u op: Online trainingen
URL:https://benackermans.nl/event/maandag-4-juli-2022-1600-1700-2/
LOCATION:Zoom\, Nederland
CATEGORIES:Offline Training
ORGANIZER;CN="Ben Ackermans":MAILTO:info@benackermans.nl
END:VEVENT
BEGIN:VEVENT
DTSTART;TZID=Europe/Amsterdam:20220708T120000
DTEND;TZID=Europe/Amsterdam:20220708T130000
DTSTAMP:20260423T234422
CREATED:20220502T174437Z
LAST-MODIFIED:20220502T174440Z
UID:1158-1657281600-1657285200@benackermans.nl
SUMMARY:• Vrijdag 8 juli 2022 12:00-13:00
DESCRIPTION:Online training via zoom. Meer informatie vindt u op: Online trainingen
URL:https://benackermans.nl/event/vrijdag-8-juli-2022-1200-1300/
LOCATION:Zoom\, Nederland
CATEGORIES:Online Training
ORGANIZER;CN="Ben Ackermans":MAILTO:info@benackermans.nl
END:VEVENT
BEGIN:VEVENT
DTSTART;TZID=Europe/Amsterdam:20220704T160000
DTEND;TZID=Europe/Amsterdam:20220704T170000
DTSTAMP:20260423T234422
CREATED:20220502T174035Z
LAST-MODIFIED:20220711T090054Z
UID:1141-1656950400-1656954000@benackermans.nl
SUMMARY:• Maandag 4 juli 2022 Geen training
DESCRIPTION:Online training via zoom. Meer informatie vindt u op: Online trainingen
URL:https://benackermans.nl/event/maandag-4-juli-2022-1600-1700/
LOCATION:Zoom\, Nederland
CATEGORIES:Offline Training
ORGANIZER;CN="Ben Ackermans":MAILTO:info@benackermans.nl
END:VEVENT
BEGIN:VEVENT
DTSTART;TZID=Europe/Amsterdam:20220701T120000
DTEND;TZID=Europe/Amsterdam:20220701T130000
DTSTAMP:20260423T234422
CREATED:20220502T174357Z
LAST-MODIFIED:20220509T153635Z
UID:1138-1656676800-1656680400@benackermans.nl
SUMMARY:• Vrijdag 1 juli 2022 Geen training
DESCRIPTION:Online training via zoom. Meer informatie vindt u op: Online trainingen
URL:https://benackermans.nl/event/vrijdag-1-juli-2022-vervalt/
LOCATION:Zoom\, Nederland
CATEGORIES:Offline Training
ORGANIZER;CN="Ben Ackermans":MAILTO:info@benackermans.nl
END:VEVENT
BEGIN:VEVENT
DTSTART;TZID=Europe/Amsterdam:20220627T160000
DTEND;TZID=Europe/Amsterdam:20220627T170000
DTSTAMP:20260423T234422
CREATED:20220502T173951Z
LAST-MODIFIED:20220509T153609Z
UID:1140-1656345600-1656349200@benackermans.nl
SUMMARY:• Maandag 27 juni 2022 Geen training
DESCRIPTION:Online training via zoom. Meer informatie vindt u op: Online trainingen
URL:https://benackermans.nl/event/maandag-27-juni-2022-vervalt/
LOCATION:Zoom\, Nederland
CATEGORIES:Offline Training
ORGANIZER;CN="Ben Ackermans":MAILTO:info@benackermans.nl
END:VEVENT
BEGIN:VEVENT
DTSTART;TZID=Europe/Amsterdam:20220624T120000
DTEND;TZID=Europe/Amsterdam:20220624T130000
DTSTAMP:20260423T234422
CREATED:20220502T174251Z
LAST-MODIFIED:20220509T153550Z
UID:1137-1656072000-1656075600@benackermans.nl
SUMMARY:• Vrijdag 24 juni 2022 Geen training
DESCRIPTION:Online training via zoom. Meer informatie vindt u op: Online trainingen
URL:https://benackermans.nl/event/vrijdag-24-juni-2022-vervalt/
LOCATION:Zoom\, Nederland
CATEGORIES:Offline Training
ORGANIZER;CN="Ben Ackermans":MAILTO:info@benackermans.nl
END:VEVENT
BEGIN:VEVENT
DTSTART;TZID=Europe/Amsterdam:20220620T160000
DTEND;TZID=Europe/Amsterdam:20220620T170000
DTSTAMP:20260423T234422
CREATED:20220405T142834Z
LAST-MODIFIED:20220502T173846Z
UID:1092-1655740800-1655744400@benackermans.nl
SUMMARY:• Maandag 20 juni 2022 16:00-17:00
DESCRIPTION:Online training via zoom. Meer informatie vindt u op: Online trainingen
URL:https://benackermans.nl/event/maandag-5-juni-2022-1600-1700/
LOCATION:Zoom\, Nederland
CATEGORIES:Online Training
ORGANIZER;CN="Ben Ackermans":MAILTO:info@benackermans.nl
END:VEVENT
BEGIN:VEVENT
DTSTART;TZID=Europe/Amsterdam:20220617T120000
DTEND;TZID=Europe/Amsterdam:20220617T130000
DTSTAMP:20260423T234422
CREATED:20220502T174143Z
LAST-MODIFIED:20220502T174146Z
UID:1136-1655467200-1655470800@benackermans.nl
SUMMARY:• Vrijdag 17 juni 2022 12:00-13:00
DESCRIPTION:Online training via zoom. Meer informatie vindt u op: Online trainingen
URL:https://benackermans.nl/event/vrijdag-17-juni-2022-1200-1300/
LOCATION:Zoom\, Nederland
CATEGORIES:Online Training
ORGANIZER;CN="Ben Ackermans":MAILTO:info@benackermans.nl
END:VEVENT
BEGIN:VEVENT
DTSTART;TZID=Europe/Amsterdam:20220613T160000
DTEND;TZID=Europe/Amsterdam:20220613T170000
DTSTAMP:20260423T234422
CREATED:20220502T173735Z
LAST-MODIFIED:20220610T082810Z
UID:1139-1655136000-1655139600@benackermans.nl
SUMMARY:• Maandag 13 juni 2022 Geen training
DESCRIPTION:Online training via zoom. Meer informatie vindt u op: Online trainingen
URL:https://benackermans.nl/event/maandag-13-juni-2022-1600-1700/
LOCATION:Zoom\, Nederland
CATEGORIES:Offline Training
ORGANIZER;CN="Ben Ackermans":MAILTO:info@benackermans.nl
END:VEVENT
BEGIN:VEVENT
DTSTART;TZID=Europe/Amsterdam:20220610T120000
DTEND;TZID=Europe/Amsterdam:20220610T130000
DTSTAMP:20260423T234422
CREATED:20220502T174109Z
LAST-MODIFIED:20220610T082711Z
UID:1135-1654862400-1654866000@benackermans.nl
SUMMARY:• Vrijdag 10 juni 2022 Geen training
DESCRIPTION:Online training via zoom. Meer informatie vindt u op: Online trainingen
URL:https://benackermans.nl/event/vrijdag-10-juni-2022-1200-1300/
LOCATION:Zoom\, Nederland
CATEGORIES:Offline Training
ORGANIZER;CN="Ben Ackermans":MAILTO:info@benackermans.nl
END:VEVENT
BEGIN:VEVENT
DTSTART;TZID=Europe/Amsterdam:20220606T160000
DTEND;TZID=Europe/Amsterdam:20220606T170000
DTSTAMP:20260423T234422
CREATED:20220502T173802Z
LAST-MODIFIED:20220530T072043Z
UID:1142-1654531200-1654534800@benackermans.nl
SUMMARY:• Maandag 6 juni 2022 Pinksteren
DESCRIPTION:Online training via zoom. Meer informatie vindt u op: Online trainingen
URL:https://benackermans.nl/event/maandag-6-juni-2022-1600-1700/
LOCATION:Zoom\, Nederland
CATEGORIES:Offline Training
ORGANIZER;CN="Ben Ackermans":MAILTO:info@benackermans.nl
END:VEVENT
BEGIN:VEVENT
DTSTART;TZID=Europe/Amsterdam:20220603T120000
DTEND;TZID=Europe/Amsterdam:20220603T130000
DTSTAMP:20260423T234422
CREATED:20220405T143604Z
LAST-MODIFIED:20220405T143622Z
UID:1096-1654257600-1654261200@benackermans.nl
SUMMARY:• Vrijdag 3 juni 2022 12:00-13:00
DESCRIPTION:Online training via zoom. Meer informatie vindt u op: Online trainingen
URL:https://benackermans.nl/event/vrijdag-3-juni-2022-1200-1300/
LOCATION:Zoom\, Nederland
CATEGORIES:Online Training
ORGANIZER;CN="Ben Ackermans":MAILTO:info@benackermans.nl
END:VEVENT
BEGIN:VEVENT
DTSTART;TZID=Europe/Amsterdam:20220530T160000
DTEND;TZID=Europe/Amsterdam:20220530T170000
DTSTAMP:20260423T234422
CREATED:20220405T142526Z
LAST-MODIFIED:20220405T142529Z
UID:1093-1653926400-1653930000@benackermans.nl
SUMMARY:• Maandag 30 mei 2022 16:00-17:00
DESCRIPTION:Online training via zoom. Meer informatie vindt u op: Online trainingen
URL:https://benackermans.nl/event/maandag-30-mei-2022-1600-1700/
LOCATION:Zoom\, Nederland
CATEGORIES:Online Training
ORGANIZER;CN="Ben Ackermans":MAILTO:info@benackermans.nl
END:VEVENT
BEGIN:VEVENT
DTSTART;TZID=Europe/Amsterdam:20220527T120000
DTEND;TZID=Europe/Amsterdam:20220527T130000
DTSTAMP:20260423T234422
CREATED:20220405T143223Z
LAST-MODIFIED:20220509T153426Z
UID:1095-1653652800-1653656400@benackermans.nl
SUMMARY:• Vrijdag 27 mei 2022 Geen training
DESCRIPTION:Online training via zoom. Meer informatie vindt u op: Online trainingen
URL:https://benackermans.nl/event/vrijdag-27-mei-2022-1200-1300/
LOCATION:Zoom\, Nederland
CATEGORIES:Offline Training
ORGANIZER;CN="Ben Ackermans":MAILTO:info@benackermans.nl
END:VEVENT
BEGIN:VEVENT
DTSTART;TZID=Europe/Amsterdam:20220523T160000
DTEND;TZID=Europe/Amsterdam:20220523T170000
DTSTAMP:20260423T234422
CREATED:20220405T142445Z
LAST-MODIFIED:20220509T153357Z
UID:1091-1653321600-1653325200@benackermans.nl
SUMMARY:•  Maandag 23 mei 2022 Geen training
DESCRIPTION:Online training via zoom. Meer informatie vindt u op: Online trainingen
URL:https://benackermans.nl/event/maandag-23-mei-2022-1600-1700/
LOCATION:Zoom\, Nederland
CATEGORIES:Offline Training
ORGANIZER;CN="Ben Ackermans":MAILTO:info@benackermans.nl
END:VEVENT
BEGIN:VEVENT
DTSTART;TZID=Europe/Amsterdam:20220520T120000
DTEND;TZID=Europe/Amsterdam:20220520T130000
DTSTAMP:20260423T234422
CREATED:20220405T142006Z
LAST-MODIFIED:20220509T153330Z
UID:1085-1653048000-1653051600@benackermans.nl
SUMMARY:• Vrijdag 20 mei 2022 Geen training
DESCRIPTION:Online training via zoom. Meer informatie vindt u op: Online trainingen
URL:https://benackermans.nl/event/vrijdag-6-mei-2022-1200-1300/
LOCATION:Zoom\, Nederland
CATEGORIES:Offline Training
ORGANIZER;CN="Ben Ackermans":MAILTO:info@benackermans.nl
END:VEVENT
BEGIN:VEVENT
DTSTART;TZID=Europe/Amsterdam:20220516T160000
DTEND;TZID=Europe/Amsterdam:20220516T170000
DTSTAMP:20260423T234422
CREATED:20220405T141925Z
LAST-MODIFIED:20220509T153317Z
UID:1084-1652716800-1652720400@benackermans.nl
SUMMARY:• Maandag 16 mei 2022 Geen training
DESCRIPTION:Online training via zoom. Meer informatie vindt u op: Online trainingen
URL:https://benackermans.nl/event/maandag-16-mei-2022-1600-1700/
LOCATION:Zoom\, Nederland
CATEGORIES:Offline Training
ORGANIZER;CN="Ben Ackermans":MAILTO:info@benackermans.nl
END:VEVENT
BEGIN:VEVENT
DTSTART;TZID=Europe/Amsterdam:20220513T120000
DTEND;TZID=Europe/Amsterdam:20220513T130000
DTSTAMP:20260423T234422
CREATED:20220405T142930Z
LAST-MODIFIED:20220509T153037Z
UID:1094-1652443200-1652446800@benackermans.nl
SUMMARY:• Vrijdag 13 mei 2022 Geen training
DESCRIPTION:Online training via zoom. Meer informatie vindt u op: Online trainingen
URL:https://benackermans.nl/event/vrijdag-13-mei-2022-1200-1300/
LOCATION:Zoom\, Nederland
CATEGORIES:Offline Training
ORGANIZER;CN="Ben Ackermans":MAILTO:info@benackermans.nl
END:VEVENT
BEGIN:VEVENT
DTSTART;TZID=Europe/Amsterdam:20220509T160000
DTEND;TZID=Europe/Amsterdam:20220509T170000
DTSTAMP:20260423T234422
CREATED:20220405T142247Z
LAST-MODIFIED:20220405T142251Z
UID:1090-1652112000-1652115600@benackermans.nl
SUMMARY:• Maandag 9 mei 2022 16:00-17:00
DESCRIPTION:Online training via zoom. Meer informatie vindt u op: Online trainingen
URL:https://benackermans.nl/event/maandag-9-mei-2022-1600-1700/
LOCATION:Zoom\, Nederland
CATEGORIES:Online Training
ORGANIZER;CN="Ben Ackermans":MAILTO:info@benackermans.nl
END:VEVENT
BEGIN:VEVENT
DTSTART;TZID=Europe/Amsterdam:20220506T120000
DTEND;TZID=Europe/Amsterdam:20220506T130000
DTSTAMP:20260423T234422
CREATED:20220416T121823Z
LAST-MODIFIED:20220416T121827Z
UID:1121-1651838400-1651842000@benackermans.nl
SUMMARY:• Vrijdag 6 mei 2022 12:00-13:00
DESCRIPTION:Online training via zoom. Meer informatie vindt u op: Online trainingen
URL:https://benackermans.nl/event/vrijdag-6-mei-2022-1200-1300-2/
LOCATION:Zoom\, Nederland
CATEGORIES:Online Training
ORGANIZER;CN="Ben Ackermans":MAILTO:info@benackermans.nl
END:VEVENT
BEGIN:VEVENT
DTSTART;TZID=Europe/Amsterdam:20220502T160000
DTEND;TZID=Europe/Amsterdam:20220502T170000
DTSTAMP:20260423T234422
CREATED:20220416T121745Z
LAST-MODIFIED:20220416T121749Z
UID:1120-1651507200-1651510800@benackermans.nl
SUMMARY:• Maandag 2 mei 2022 16:00-17:00
DESCRIPTION:Online training via zoom. Meer informatie vindt u op: Online trainingen
URL:https://benackermans.nl/event/maandag-2-mei-2022-1600-1700/
LOCATION:Zoom\, Nederland
CATEGORIES:Online Training
ORGANIZER;CN="Ben Ackermans":MAILTO:info@benackermans.nl
END:VEVENT
BEGIN:VEVENT
DTSTART;TZID=Europe/Amsterdam:20220429T120000
DTEND;TZID=Europe/Amsterdam:20220429T130000
DTSTAMP:20260423T234422
CREATED:20220314T121459Z
LAST-MODIFIED:20220425T193824Z
UID:1063-1651233600-1651237200@benackermans.nl
SUMMARY:• Vrijdag 29 april 2022 Vervalt
DESCRIPTION:Online training via zoom. Meer informatie vindt u op: Online trainingen
URL:https://benackermans.nl/event/vrijdag-29-april-2022-1200-1300/
LOCATION:Zoom\, Nederland
CATEGORIES:Offline Training
ORGANIZER;CN="Ben Ackermans":MAILTO:info@benackermans.nl
END:VEVENT
BEGIN:VEVENT
DTSTART;TZID=Europe/Amsterdam:20220425T160000
DTEND;TZID=Europe/Amsterdam:20220425T170000
DTSTAMP:20260423T234422
CREATED:20220314T121704Z
LAST-MODIFIED:20220314T121708Z
UID:1056-1650902400-1650906000@benackermans.nl
SUMMARY:• Maandag 25 april 2022 16:00-17:00
DESCRIPTION:Online training via zoom. Meer informatie vindt u op: Online trainingen
URL:https://benackermans.nl/event/maandag-25-april-2022-1600-1700/
LOCATION:Zoom\, Nederland
CATEGORIES:Online Training
ORGANIZER;CN="Ben Ackermans":MAILTO:info@benackermans.nl
END:VEVENT
BEGIN:VEVENT
DTSTART;TZID=Europe/Amsterdam:20220422T120000
DTEND;TZID=Europe/Amsterdam:20220422T130000
DTSTAMP:20260423T234422
CREATED:20220314T121425Z
LAST-MODIFIED:20220416T121556Z
UID:1053-1650628800-1650632400@benackermans.nl
SUMMARY:• Vrijdag 22 april 2022 Vervalt
DESCRIPTION:Online training via zoom. Meer informatie vindt u op: Online trainingen
URL:https://benackermans.nl/event/vrijdag-22-april-2022-1200-1300/
LOCATION:Zoom\, Nederland
CATEGORIES:Offline Training
ORGANIZER;CN="Ben Ackermans":MAILTO:info@benackermans.nl
END:VEVENT
BEGIN:VEVENT
DTSTART;TZID=Europe/Amsterdam:20220418T160000
DTEND;TZID=Europe/Amsterdam:20220418T170000
DTSTAMP:20260423T234422
CREATED:20220314T121629Z
LAST-MODIFIED:20220405T143711Z
UID:1055-1650297600-1650301200@benackermans.nl
SUMMARY:•  Maandag 18 april 2022 Pasen - Vervalt
DESCRIPTION:Online training via zoom. Meer informatie vindt u op: Online trainingen
URL:https://benackermans.nl/event/maandag-18-april-2022-1600-1700/
LOCATION:Zoom\, Nederland
CATEGORIES:Offline Training
ORGANIZER;CN="Ben Ackermans":MAILTO:info@benackermans.nl
END:VEVENT
BEGIN:VEVENT
DTSTART;TZID=Europe/Amsterdam:20220415T120000
DTEND;TZID=Europe/Amsterdam:20220415T130000
DTSTAMP:20260423T234422
CREATED:20220314T121344Z
LAST-MODIFIED:20220314T121348Z
UID:1052-1650024000-1650027600@benackermans.nl
SUMMARY:• Vrijdag 15 april 2022 12:00-13:00
DESCRIPTION:Online training via zoom. Meer informatie vindt u op: Online trainingen
URL:https://benackermans.nl/event/vrijdag-15-april-2022-1200-1300/
LOCATION:Zoom\, Nederland
CATEGORIES:Online Training
ORGANIZER;CN="Ben Ackermans":MAILTO:info@benackermans.nl
END:VEVENT
BEGIN:VEVENT
DTSTART;TZID=Europe/Amsterdam:20220411T160000
DTEND;TZID=Europe/Amsterdam:20220411T170000
DTSTAMP:20260423T234422
CREATED:20220314T121543Z
LAST-MODIFIED:20220314T121549Z
UID:1054-1649692800-1649696400@benackermans.nl
SUMMARY:• Maandag 11 april 2022 16:00-17:00
DESCRIPTION:Online training via zoom. Meer informatie vindt u op: Online trainingen
URL:https://benackermans.nl/event/maandag-11-april-2022-1600-1700/
LOCATION:Zoom\, Nederland
CATEGORIES:Online Training
ORGANIZER;CN="Ben Ackermans":MAILTO:info@benackermans.nl
END:VEVENT
BEGIN:VEVENT
DTSTART;TZID=Europe/Amsterdam:20220408T120000
DTEND;TZID=Europe/Amsterdam:20220408T130000
DTSTAMP:20260423T234422
CREATED:20220314T121309Z
LAST-MODIFIED:20220314T121314Z
UID:1051-1649419200-1649422800@benackermans.nl
SUMMARY:• Vrijdag 8 april 2022 12:00-13:00
DESCRIPTION:Online training via zoom. Meer informatie vindt u op: Online trainingen
URL:https://benackermans.nl/event/vrijdag-8-april-2022-1200-1300/
LOCATION:Zoom\, Nederland
CATEGORIES:Online Training
ORGANIZER;CN="Ben Ackermans":MAILTO:info@benackermans.nl
END:VEVENT
END:VCALENDAR